BEGIN:VCALENDAR
VERSION:2.0
PRODID:-//Cotting School - ECPv6.15.20//NONSGML v1.0//EN
CALSCALE:GREGORIAN
METHOD:PUBLISH
X-WR-CALNAME:Cotting School
X-ORIGINAL-URL:https://www.cotting.org
X-WR-CALDESC:Events for Cotting School
REFRESH-INTERVAL;VALUE=DURATION:PT1H
X-Robots-Tag:noindex
X-PUBLISHED-TTL:PT1H
BEGIN:VTIMEZONE
TZID:America/New_York
BEGIN:DAYLIGHT
TZOFFSETFROM:-0500
TZOFFSETTO:-0400
TZNAME:EDT
DTSTART:20230312T070000
END:DAYLIGHT
BEGIN:STANDARD
TZOFFSETFROM:-0400
TZOFFSETTO:-0500
TZNAME:EST
DTSTART:20231105T060000
END:STANDARD
BEGIN:DAYLIGHT
TZOFFSETFROM:-0500
TZOFFSETTO:-0400
TZNAME:EDT
DTSTART:20240310T070000
END:DAYLIGHT
BEGIN:STANDARD
TZOFFSETFROM:-0400
TZOFFSETTO:-0500
TZNAME:EST
DTSTART:20241103T060000
END:STANDARD
BEGIN:DAYLIGHT
TZOFFSETFROM:-0500
TZOFFSETTO:-0400
TZNAME:EDT
DTSTART:20250309T070000
END:DAYLIGHT
BEGIN:STANDARD
TZOFFSETFROM:-0400
TZOFFSETTO:-0500
TZNAME:EST
DTSTART:20251102T060000
END:STANDARD
END:VTIMEZONE
BEGIN:VEVENT
DTSTART;TZID=America/New_York:20241018T090000
DTEND;TZID=America/New_York:20241018T100000
DTSTAMP:20260421T082412
CREATED:20241010T212223Z
LAST-MODIFIED:20241010T212223Z
UID:10001172-1729242000-1729245600@www.cotting.org
SUMMARY:PAC Monthly Meeting
DESCRIPTION:The Parent Advisory Committee (PAC) serves as a source of thoughtful feedback on what parents are thinking about\, and as an important sounding board for Cotting School administrators. We are always looking to welcome new faces and input at our monthly hybrid PAC meetings\, held on a Friday every month (except in June) from 9-10 a.m. You can either attend in person in the Board Room at Cotting School or online via Zoom. \nZoom link: https://us02web.zoom.us/j/7918848936?pwd=UkUvTkdaSzNZaXBWVVlwSVVkMjYzUT09&omn=86900201828 \n  \n  \n 
URL:https://www.cotting.org/event/pac-meeting-15-2/2024-10-18/
LOCATION:Hybrid (In person and on Zoom)
CATEGORIES:Parents
ATTACH;FMTTYPE=image/png:https://www.cotting.org/wp-content/uploads/2024/09/PAC_logo-1-e1725373642770.png
ORGANIZER;CN="Pam Varrin":MAILTO:pvarrin@cotting.org
END:VEVENT
BEGIN:VEVENT
DTSTART;TZID=America/New_York:20240920T090000
DTEND;TZID=America/New_York:20240920T100000
DTSTAMP:20260421T082412
CREATED:20240903T142734Z
LAST-MODIFIED:20240903T142919Z
UID:10001171-1726822800-1726826400@www.cotting.org
SUMMARY:PAC Monthly Meeting
DESCRIPTION:The Parent Advisory Committee (PAC) serves as a source of thoughtful feedback on what parents are thinking about\, and as an important sounding board for Cotting School administrators. We are always looking to welcome new faces and input at our monthly hybrid PAC meetings\, held on a Friday every month (except in June) from 9-10 a.m. You can either attend in person in the Board Room at Cotting School or online via Zoom.
URL:https://www.cotting.org/event/pac-meeting-15/
LOCATION:Hybrid (In person and on Zoom)
CATEGORIES:Parents
ATTACH;FMTTYPE=image/png:https://www.cotting.org/wp-content/uploads/2024/09/PAC_logo-1-e1725373642770.png
ORGANIZER;CN="Pam Varrin":MAILTO:pvarrin@cotting.org
END:VEVENT
END:VCALENDAR