BEGIN:VCALENDAR
VERSION:2.0
PRODID:-//Cotting School - ECPv6.15.20//NONSGML v1.0//EN
CALSCALE:GREGORIAN
METHOD:PUBLISH
X-WR-CALNAME:Cotting School
X-ORIGINAL-URL:https://www.cotting.org
X-WR-CALDESC:Events for Cotting School
REFRESH-INTERVAL;VALUE=DURATION:PT1H
X-Robots-Tag:noindex
X-PUBLISHED-TTL:PT1H
BEGIN:VTIMEZONE
TZID:America/New_York
BEGIN:DAYLIGHT
TZOFFSETFROM:-0500
TZOFFSETTO:-0400
TZNAME:EDT
DTSTART:20240310T070000
END:DAYLIGHT
BEGIN:STANDARD
TZOFFSETFROM:-0400
TZOFFSETTO:-0500
TZNAME:EST
DTSTART:20241103T060000
END:STANDARD
BEGIN:DAYLIGHT
TZOFFSETFROM:-0500
TZOFFSETTO:-0400
TZNAME:EDT
DTSTART:20250309T070000
END:DAYLIGHT
BEGIN:STANDARD
TZOFFSETFROM:-0400
TZOFFSETTO:-0500
TZNAME:EST
DTSTART:20251102T060000
END:STANDARD
BEGIN:DAYLIGHT
TZOFFSETFROM:-0500
TZOFFSETTO:-0400
TZNAME:EDT
DTSTART:20260308T070000
END:DAYLIGHT
BEGIN:STANDARD
TZOFFSETFROM:-0400
TZOFFSETTO:-0500
TZNAME:EST
DTSTART:20261101T060000
END:STANDARD
BEGIN:DAYLIGHT
TZOFFSETFROM:-0500
TZOFFSETTO:-0400
TZNAME:EDT
DTSTART:20270314T070000
END:DAYLIGHT
BEGIN:STANDARD
TZOFFSETFROM:-0400
TZOFFSETTO:-0500
TZNAME:EST
DTSTART:20271107T060000
END:STANDARD
END:VTIMEZONE
BEGIN:VEVENT
DTSTART;TZID=America/New_York:20260211T183000
DTEND;TZID=America/New_York:20260211T203000
DTSTAMP:20260421T070235
CREATED:20260206T174721Z
LAST-MODIFIED:20260206T174807Z
UID:10001498-1770834600-1770841800@www.cotting.org
SUMMARY:Parent & Caregiver Meet-Up in Needham
DESCRIPTION:The Cotting School PTO is excited to offer Cotting parents and caregivers an impromptu opportunity to meet up and socialize on Wednesday\, February 11\, 2026 from 6:30-8:30 p.m. at Cook Restaurant in Needham\, MA. Feel free to drop in to meet or reconnect with other parents and guardians! Attendees can purchase drinks and the PTO will provide light nibbles. \nPlease RSVP to alisonpremo@gmail.com. \nThere is plenty of parking behind the restaurant\, which shares a parking lot with the Needham Center commuter rail line\, should you prefer public transportation.
URL:https://www.cotting.org/event/parent-caregiver-meet-up-in-needham/
LOCATION:Cook Restaurant\, 109 Chapel Street\, Needham\, MA\, United States
CATEGORIES:General
ORGANIZER;CN="Aly Premo":MAILTO:alisonpremo@gmail.com
GEO:42.2809445;-71.2370729
X-APPLE-STRUCTURED-LOCATION;VALUE=URI;X-ADDRESS=Cook Restaurant 109 Chapel Street Needham MA United States;X-APPLE-RADIUS=500;X-TITLE=109 Chapel Street:geo:-71.2370729,42.2809445
END:VEVENT
BEGIN:VEVENT
DTSTART;TZID=America/New_York:20250226T190000
DTEND;TZID=America/New_York:20250226T210000
DTSTAMP:20260421T070235
CREATED:20250207T184412Z
LAST-MODIFIED:20250207T184412Z
UID:10001266-1740596400-1740603600@www.cotting.org
SUMMARY:PTO Parent & Caregiver Social
DESCRIPTION:The Cotting School PTO is excited to offer parents and caregivers of current students at Cotting an opportunity to meet up and socialize!* \nWhen:Wednesday\, Feb 26\, 7-9 p.m. (this is the Wednesday after February Break) \nWhere: The Biltmore Bar and Grill\, 1205 Chestnut Street\, Newton Upper Falls\, MA 02464 (617.527.2550) \nWhat: Feel free to drop in to meet or reconnect with fellow Cotting parents. \nAttendees can purchase drinks and the PTO will provide light nibbles. Please RSVP to Aly Premo at alisonpremo@gmail.com. \n*The PTO is always looking for parents to host a parent’s night out in their area. If you are interested\, please contact Pam Varrin at pvarrin@cotting.org. \nSave the Date: The next PTO Parent & Caregiver Social is scheduled for Thursday\, April 3!
URL:https://www.cotting.org/event/pto-parent-caregiver-social/
LOCATION:The Biltmore Bar & Grill\, 1205 Chestnut Street\, Newton Upper Falls\, 02464
CATEGORIES:Parents
ATTACH;FMTTYPE=image/jpeg:https://www.cotting.org/wp-content/uploads/2025/02/COTTING-PARENT-AND-CAREGIVER-SOCIAL.jpg
ORGANIZER;CN="Aly Premo":MAILTO:alisonpremo@gmail.com
GEO:42.3091897;-71.2211671
X-APPLE-STRUCTURED-LOCATION;VALUE=URI;X-ADDRESS=The Biltmore Bar & Grill 1205 Chestnut Street Newton Upper Falls 02464;X-APPLE-RADIUS=500;X-TITLE=1205 Chestnut Street:geo:-71.2211671,42.3091897
END:VEVENT
END:VCALENDAR