BEGIN:VCALENDAR
VERSION:2.0
PRODID:-//Cotting School - ECPv6.15.20//NONSGML v1.0//EN
CALSCALE:GREGORIAN
METHOD:PUBLISH
X-WR-CALNAME:Cotting School
X-ORIGINAL-URL:https://www.cotting.org
X-WR-CALDESC:Events for Cotting School
REFRESH-INTERVAL;VALUE=DURATION:PT1H
X-Robots-Tag:noindex
X-PUBLISHED-TTL:PT1H
BEGIN:VTIMEZONE
TZID:America/New_York
BEGIN:DAYLIGHT
TZOFFSETFROM:-0500
TZOFFSETTO:-0400
TZNAME:EDT
DTSTART:20240310T070000
END:DAYLIGHT
BEGIN:STANDARD
TZOFFSETFROM:-0400
TZOFFSETTO:-0500
TZNAME:EST
DTSTART:20241103T060000
END:STANDARD
BEGIN:DAYLIGHT
TZOFFSETFROM:-0500
TZOFFSETTO:-0400
TZNAME:EDT
DTSTART:20250309T070000
END:DAYLIGHT
BEGIN:STANDARD
TZOFFSETFROM:-0400
TZOFFSETTO:-0500
TZNAME:EST
DTSTART:20251102T060000
END:STANDARD
BEGIN:DAYLIGHT
TZOFFSETFROM:-0500
TZOFFSETTO:-0400
TZNAME:EDT
DTSTART:20260308T070000
END:DAYLIGHT
BEGIN:STANDARD
TZOFFSETFROM:-0400
TZOFFSETTO:-0500
TZNAME:EST
DTSTART:20261101T060000
END:STANDARD
END:VTIMEZONE
BEGIN:VEVENT
DTSTART;TZID=America/New_York:20251117T100000
DTEND;TZID=America/New_York:20251117T120000
DTSTAMP:20260421T052104
CREATED:20251107T154310Z
LAST-MODIFIED:20251107T154502Z
UID:10001449-1763373600-1763380800@www.cotting.org
SUMMARY:Cafecito Para Padres Y Tutores Hispanohablantes
DESCRIPTION:Cafecito para padres y tutores hispanohablantes \n\n¡Acompáñenos el 17 de noviembre a las 10 a.m. en el Cotting Instituto de Transición a tomar café y conversar! Conozca a otras familias de Cotting y conecte con ellas. La conversación será en español. Por favor\, confirme su asistencia a Naomi Zuckerman a nzuckerman@cotting.org. \n\n\n\n\n\nJoin us on November 17 at 10 a.m. at Cotting Transition Institute for coffee and conversation! Meet other Cotting families and connect. The conversation will be in Spanish. Please RSVP to Naomi Zuckerman at nzuckerman@cotting.org if you can attend.
URL:https://www.cotting.org/event/cafecito-para-padres-y-tutores-hispanohablantes-4/
LOCATION:Cotting Transition Institute\, 453 Concord Avenue\, Lexington\, MA\, 02421\, United States
CATEGORIES:Parents
ORGANIZER;CN="Naomi Zuckerman":MAILTO:nzuckerman@cotting.org
GEO:42.4200019;-71.2374614
X-APPLE-STRUCTURED-LOCATION;VALUE=URI;X-ADDRESS=Cotting Transition Institute 453 Concord Avenue Lexington MA 02421 United States;X-APPLE-RADIUS=500;X-TITLE=453 Concord Avenue:geo:-71.2374614,42.4200019
END:VEVENT
BEGIN:VEVENT
DTSTART;TZID=America/New_York:20251119T090000
DTEND;TZID=America/New_York:20251119T100000
DTSTAMP:20260421T052104
CREATED:20250613T175443Z
LAST-MODIFIED:20251212T164911Z
UID:10001298-1763542800-1763546400@www.cotting.org
SUMMARY:Cotting School Weekly Parent Group
DESCRIPTION:
URL:https://www.cotting.org/event/cotting-school-weekly-parent-group-3/2025-11-19/
LOCATION:Cotting School\, Concord Avenue\, Lexington\, MA\, 02421\, United States
CATEGORIES:Parents
ORGANIZER;CN="Pam Varrin":MAILTO:pvarrin@cotting.org
GEO:42.4200019;-71.2374614
X-APPLE-STRUCTURED-LOCATION;VALUE=URI;X-ADDRESS=Cotting School Concord Avenue Lexington MA 02421 United States;X-APPLE-RADIUS=500;X-TITLE=Concord Avenue:geo:-71.2374614,42.4200019
END:VEVENT
BEGIN:VEVENT
DTSTART;TZID=America/New_York:20251121T090000
DTEND;TZID=America/New_York:20251121T100000
DTSTAMP:20260421T052104
CREATED:20251114T150701Z
LAST-MODIFIED:20251114T152740Z
UID:10001450-1763715600-1763719200@www.cotting.org
SUMMARY:PAC Meeting
DESCRIPTION:Join us via Zoom as we have our first meeting of the year to refresh the Cotting School Parent Advisory Committee (PAC)! We invite you to be part of the conversation about what Cotting’s PAC can become. Your voice matters—help shape recommendations and provide feedback to make Cotting an even stronger school community. \nZoom link: https://us02web.zoom.us/j/7918848936?pwd=UkUvTkdaSzNZaXBWVVlwSVVkMjYzUT09&omn=83305706024 \nPlease don’t hesitate to reach out if you have any questions. We look forward to seeing you there! — Interim Program Director Betty Baker\, Special Education Coordinator Robert Eagle-Mitropoulos\, Family Support Coordinator Pam Varrin & Community Outreach Coordinator/Multilingual Learners Educator Naomi Zuckerman \n 
URL:https://www.cotting.org/event/pac-meeting-16/
LOCATION:Via Zoom
CATEGORIES:Parents
ORGANIZER;CN="Pam Varrin":MAILTO:pvarrin@cotting.org
END:VEVENT
END:VCALENDAR