BEGIN:VCALENDAR
VERSION:2.0
PRODID:-//Cotting School - ECPv6.15.20//NONSGML v1.0//EN
CALSCALE:GREGORIAN
METHOD:PUBLISH
X-ORIGINAL-URL:https://www.cotting.org
X-WR-CALDESC:Events for Cotting School
REFRESH-INTERVAL;VALUE=DURATION:PT1H
X-Robots-Tag:noindex
X-PUBLISHED-TTL:PT1H
BEGIN:VTIMEZONE
TZID:America/New_York
BEGIN:DAYLIGHT
TZOFFSETFROM:-0500
TZOFFSETTO:-0400
TZNAME:EDT
DTSTART:20240310T070000
END:DAYLIGHT
BEGIN:STANDARD
TZOFFSETFROM:-0400
TZOFFSETTO:-0500
TZNAME:EST
DTSTART:20241103T060000
END:STANDARD
BEGIN:DAYLIGHT
TZOFFSETFROM:-0500
TZOFFSETTO:-0400
TZNAME:EDT
DTSTART:20250309T070000
END:DAYLIGHT
BEGIN:STANDARD
TZOFFSETFROM:-0400
TZOFFSETTO:-0500
TZNAME:EST
DTSTART:20251102T060000
END:STANDARD
BEGIN:DAYLIGHT
TZOFFSETFROM:-0500
TZOFFSETTO:-0400
TZNAME:EDT
DTSTART:20260308T070000
END:DAYLIGHT
BEGIN:STANDARD
TZOFFSETFROM:-0400
TZOFFSETTO:-0500
TZNAME:EST
DTSTART:20261101T060000
END:STANDARD
END:VTIMEZONE
BEGIN:VEVENT
DTSTART;TZID=America/New_York:20251006T160000
DTEND;TZID=America/New_York:20251006T170000
DTSTAMP:20260425T123857
CREATED:20251003T173821Z
LAST-MODIFIED:20251003T173821Z
UID:10001437-1759766400-1759770000@www.cotting.org
SUMMARY:Trunk or Treat Planning Meeting (Online via Zoom)
DESCRIPTION:We invite you to help the PTO plan its annual Trunk or Treat event by joining us for a meeting via Zoom on Monday\, October 6\, 2025 at 4 p.m. Eastern. \nJoin Zoom Meeting\nhttps://us06web.zoom.us/j/84913601392?pwd=rw6JPG3v0vFKreBBotib04SVbcNhiQ.1 \nMeeting ID: 849 1360 1392\nPasscode: 107463
URL:https://www.cotting.org/event/trunk-or-treat-planning-meeting-online-via-zoom/
LOCATION:Via Zoom
CATEGORIES:Parents
ORGANIZER;CN="Pam Varrin":MAILTO:pvarrin@cotting.org
END:VEVENT
BEGIN:VEVENT
DTSTART;TZID=America/New_York:20251006T190000
DTEND;TZID=America/New_York:20251006T200000
DTSTAMP:20260425T123857
CREATED:20250827T191446Z
LAST-MODIFIED:20251003T173144Z
UID:10001424-1759777200-1759780800@www.cotting.org
SUMMARY:PTO Monthly Meeting: October (Online via Zoom)
DESCRIPTION:We are always looking to welcome new faces and input at our monthly PTO Board meetings! This meeting is online only via Zoom. Please use the following Zoom link: https://us02web.zoom.us/j/7918848936?pwd=UkUvTkdaSzNZaXBWVVlwSVVkMjYzUT09&omn=86983441653 \nQuestions? \nEmail the PTO at cottingschoolptoinc@gmail.com or Pam Varrin at pvarrin@cotting.org
URL:https://www.cotting.org/event/pto-monthly-meeting-october-2/
LOCATION:Via Zoom
CATEGORIES:Parents
ATTACH;FMTTYPE=image/jpeg:https://www.cotting.org/wp-content/uploads/2024/08/PTO-Logo-e1769797632927.jpeg
ORGANIZER;CN="Pam Varrin":MAILTO:pvarrin@cotting.org
END:VEVENT
BEGIN:VEVENT
DTSTART;TZID=America/New_York:20251008T090000
DTEND;TZID=America/New_York:20251008T100000
DTSTAMP:20260425T123857
CREATED:20250613T175443Z
LAST-MODIFIED:20251212T164911Z
UID:10001292-1759914000-1759917600@www.cotting.org
SUMMARY:Cotting School Weekly Parent Group
DESCRIPTION:
URL:https://www.cotting.org/event/cotting-school-weekly-parent-group-3/2025-10-08/
LOCATION:Cotting School\, Concord Avenue\, Lexington\, MA\, 02421\, United States
CATEGORIES:Parents
ORGANIZER;CN="Pam Varrin":MAILTO:pvarrin@cotting.org
GEO:42.4200019;-71.2374614
X-APPLE-STRUCTURED-LOCATION;VALUE=URI;X-ADDRESS=Cotting School Concord Avenue Lexington MA 02421 United States;X-APPLE-RADIUS=500;X-TITLE=Concord Avenue:geo:-71.2374614,42.4200019
END:VEVENT
BEGIN:VEVENT
DTSTART;TZID=America/New_York:20251008T180000
DTEND;TZID=America/New_York:20251008T194500
DTSTAMP:20260425T123857
CREATED:20250711T184053Z
LAST-MODIFIED:20251003T171133Z
UID:10001348-1759946400-1759952700@www.cotting.org
SUMMARY:Back-to-School Night
DESCRIPTION:Click Here to Sign Up for Childcare\nSchedule for the Evening:\n6-6:10 p.m. – Welcome in Auditorium \n6:10-6:20 p.m. – Go to Next Location \n6:20-6:40 p.m. \n\nLower School & Capstone – Homeroom Class\nMiddle School & Upper School – OT/PT Gym\n\n6:40-6:50 p.m. – Go to Next Location \n6:50-7:10 p.m. \n\nLower School & Capstone – OT/PT Gym\nMiddle School & Upper School – Homeroom Class\n\n7:10-7:15 p.m. – Go to Gym in Campus Center \n7:15-7:45 p.m. – Community Fair in Gym \nCommunity Fair:\n\n\n\n\n\n\n\n\n\n\n\n\n\n\n\n\n\nWho Will  I See There? \n\nSpecialists\nTherapy Teams\nClassroom Teachers\nSocial Emotional Learning (SEL) Team\nVocational Department\nCotting Transition Institute\nFamily Outreach\nAssistive Tech/Vision Team\n\n\n\n\n\n\n\n\n\n\n\n\n\n\n\n\n\n\n\n\n\n\n\n\n\n\n\n\n\nWhat Can I Do There? \n\nSay “hi” to a specialist\nLearn more about a program level your student may attend in the future\nMingle with the therapy teams\nThank a member of Health Services and SEL\nJoin us in appreciating the diverse community of educators who collaborate daily to support the growth of our students!
URL:https://www.cotting.org/event/back-to-school-night-6/
LOCATION:Cotting School\, Concord Avenue\, Lexington\, MA\, 02421\, United States
CATEGORIES:Parents
GEO:42.4200019;-71.2374614
X-APPLE-STRUCTURED-LOCATION;VALUE=URI;X-ADDRESS=Cotting School Concord Avenue Lexington MA 02421 United States;X-APPLE-RADIUS=500;X-TITLE=Concord Avenue:geo:-71.2374614,42.4200019
END:VEVENT
END:VCALENDAR