BEGIN:VCALENDAR
VERSION:2.0
PRODID:-//Cotting School - ECPv6.15.20//NONSGML v1.0//EN
CALSCALE:GREGORIAN
METHOD:PUBLISH
X-WR-CALNAME:Cotting School
X-ORIGINAL-URL:https://www.cotting.org
X-WR-CALDESC:Events for Cotting School
REFRESH-INTERVAL;VALUE=DURATION:PT1H
X-Robots-Tag:noindex
X-PUBLISHED-TTL:PT1H
BEGIN:VTIMEZONE
TZID:America/New_York
BEGIN:DAYLIGHT
TZOFFSETFROM:-0500
TZOFFSETTO:-0400
TZNAME:EDT
DTSTART:20240310T070000
END:DAYLIGHT
BEGIN:STANDARD
TZOFFSETFROM:-0400
TZOFFSETTO:-0500
TZNAME:EST
DTSTART:20241103T060000
END:STANDARD
BEGIN:DAYLIGHT
TZOFFSETFROM:-0500
TZOFFSETTO:-0400
TZNAME:EDT
DTSTART:20250309T070000
END:DAYLIGHT
BEGIN:STANDARD
TZOFFSETFROM:-0400
TZOFFSETTO:-0500
TZNAME:EST
DTSTART:20251102T060000
END:STANDARD
BEGIN:DAYLIGHT
TZOFFSETFROM:-0500
TZOFFSETTO:-0400
TZNAME:EDT
DTSTART:20260308T070000
END:DAYLIGHT
BEGIN:STANDARD
TZOFFSETFROM:-0400
TZOFFSETTO:-0500
TZNAME:EST
DTSTART:20261101T060000
END:STANDARD
END:VTIMEZONE
BEGIN:VEVENT
DTSTART;TZID=America/New_York:20250930T103000
DTEND;TZID=America/New_York:20250930T113000
DTSTAMP:20260425T110510
CREATED:20250919T154454Z
LAST-MODIFIED:20250919T154529Z
UID:10001433-1759228200-1759231800@www.cotting.org
SUMMARY:Navigating Cotting for New Parents (via Zoom)
DESCRIPTION:Now that you’ve settled into the school year\, we invite you to join us for a discussion about navigating Cotting School. Ask questions and hear what to expect as the year progresses\, including the resources available at Cotting and in the community. Please RSVP to Naomi by emailing nzuckerman@cotting.org. \n  \nZoom link: https://us02web.zoom.us/j/7918848936?pwd=UkUvTkdaSzNZaXBWVVlwSVVkMjYzUT09&omn=89691042949
URL:https://www.cotting.org/event/navigating-cotting-for-new-parents-via-zoom/
LOCATION:Via Zoom
CATEGORIES:Parents
ORGANIZER;CN="Naomi Zuckerman":MAILTO:nzuckerman@cotting.org
END:VEVENT
BEGIN:VEVENT
DTSTART;TZID=America/New_York:20251001T090000
DTEND;TZID=America/New_York:20251001T100000
DTSTAMP:20260425T110511
CREATED:20250613T175443Z
LAST-MODIFIED:20251212T164911Z
UID:10001291-1759309200-1759312800@www.cotting.org
SUMMARY:Cotting School Weekly Parent Group
DESCRIPTION:
URL:https://www.cotting.org/event/cotting-school-weekly-parent-group-3/2025-10-01/
LOCATION:Cotting School\, Concord Avenue\, Lexington\, MA\, 02421\, United States
CATEGORIES:Parents
ORGANIZER;CN="Pam Varrin":MAILTO:pvarrin@cotting.org
GEO:42.4200019;-71.2374614
X-APPLE-STRUCTURED-LOCATION;VALUE=URI;X-ADDRESS=Cotting School Concord Avenue Lexington MA 02421 United States;X-APPLE-RADIUS=500;X-TITLE=Concord Avenue:geo:-71.2374614,42.4200019
END:VEVENT
BEGIN:VEVENT
DTSTART;TZID=America/New_York:20251001T180000
DTEND;TZID=America/New_York:20251001T200000
DTSTAMP:20260425T110511
CREATED:20250731T142145Z
LAST-MODIFIED:20250908T222114Z
UID:10001415-1759341600-1759348800@www.cotting.org
SUMMARY:Capstone and Alumni Bingo Night
DESCRIPTION:Capstone students and alumni are invited to join us in the Cotting School dining room for an exciting evening of Bingo! We will be projecting on two screens and handing out fun prizes. \nWho: Cotting School Alumni & Capstone Students \nDate: Wednesday\, October 1\, 2025 \nTime: 6-8 p.m. \nLocation: Cotting School\, 453 Concord Ave.\, Lexington\, MA 02421 \n\nArrive between 6-6:30 p.m. Pick your seats\, set up your game board\, chat with friends and grab a snack.\n6:30 p.m. Games Begin\nThere will be multiple rounds of Bingo\, with the first round starting at 6:30 p.m. Winners will receive a prize!\nBingo will end promptly at 8 p.m.\n\nRSVP Required \nThis event is free to attend. Please RSVP to: Associate Director of Advancement Omni Raimo at oraimo@cotting.org or 781-862-7323 x145. \nImportant! This event is sponsored by the Cotting School Alumni & Friends Association. Cotting School direct care and health services staff will not be on campus. You should plan to attend this event the same way you would a public event. Friends\, family and caregivers are welcome to accompany anyone who needs support.
URL:https://www.cotting.org/event/capstone-and-alumni-bingo-night/
LOCATION:Dining Room
CATEGORIES:General
ORGANIZER;CN="Omni Raimo":MAILTO:oraimo@cotting.org
END:VEVENT
END:VCALENDAR