BEGIN:VCALENDAR
VERSION:2.0
PRODID:-//Cotting School - ECPv6.15.20//NONSGML v1.0//EN
CALSCALE:GREGORIAN
METHOD:PUBLISH
X-WR-CALNAME:Cotting School
X-ORIGINAL-URL:https://www.cotting.org
X-WR-CALDESC:Events for Cotting School
REFRESH-INTERVAL;VALUE=DURATION:PT1H
X-Robots-Tag:noindex
X-PUBLISHED-TTL:PT1H
BEGIN:VTIMEZONE
TZID:America/New_York
BEGIN:DAYLIGHT
TZOFFSETFROM:-0500
TZOFFSETTO:-0400
TZNAME:EDT
DTSTART:20240310T070000
END:DAYLIGHT
BEGIN:STANDARD
TZOFFSETFROM:-0400
TZOFFSETTO:-0500
TZNAME:EST
DTSTART:20241103T060000
END:STANDARD
BEGIN:DAYLIGHT
TZOFFSETFROM:-0500
TZOFFSETTO:-0400
TZNAME:EDT
DTSTART:20250309T070000
END:DAYLIGHT
BEGIN:STANDARD
TZOFFSETFROM:-0400
TZOFFSETTO:-0500
TZNAME:EST
DTSTART:20251102T060000
END:STANDARD
BEGIN:DAYLIGHT
TZOFFSETFROM:-0500
TZOFFSETTO:-0400
TZNAME:EDT
DTSTART:20260308T070000
END:DAYLIGHT
BEGIN:STANDARD
TZOFFSETFROM:-0400
TZOFFSETTO:-0500
TZNAME:EST
DTSTART:20261101T060000
END:STANDARD
END:VTIMEZONE
BEGIN:VEVENT
DTSTART;VALUE=DATE:20250901
DTEND;VALUE=DATE:20250902
DTSTAMP:20260421T110328
CREATED:20250710T194009Z
LAST-MODIFIED:20250711T141744Z
UID:10001337-1756684800-1756771199@www.cotting.org
SUMMARY:Closed: Labor Day
DESCRIPTION:
URL:https://www.cotting.org/event/labor-day-holiday/
CATEGORIES:Parents
END:VEVENT
BEGIN:VEVENT
DTSTART;TZID=America/New_York:20250903T090000
DTEND;TZID=America/New_York:20250903T100000
DTSTAMP:20260421T110328
CREATED:20250613T175443Z
LAST-MODIFIED:20251212T164911Z
UID:10001287-1756890000-1756893600@www.cotting.org
SUMMARY:Cotting School Weekly Parent Group
DESCRIPTION:
URL:https://www.cotting.org/event/cotting-school-weekly-parent-group-3/2025-09-03/
LOCATION:Cotting School\, Concord Avenue\, Lexington\, MA\, 02421\, United States
CATEGORIES:Parents
ORGANIZER;CN="Pam Varrin":MAILTO:pvarrin@cotting.org
GEO:42.4200019;-71.2374614
X-APPLE-STRUCTURED-LOCATION;VALUE=URI;X-ADDRESS=Cotting School Concord Avenue Lexington MA 02421 United States;X-APPLE-RADIUS=500;X-TITLE=Concord Avenue:geo:-71.2374614,42.4200019
END:VEVENT
BEGIN:VEVENT
DTSTART;TZID=America/New_York:20250905T083000
DTEND;TZID=America/New_York:20250905T093000
DTSTAMP:20260421T110328
CREATED:20250827T190647Z
LAST-MODIFIED:20250827T190802Z
UID:10001422-1757061000-1757064600@www.cotting.org
SUMMARY:PTO Monthly Meeting: September (Hybrid)
DESCRIPTION:We are always looking to welcome new faces and input at our monthly PTO Board meetings! You can either attend in person in the Board Room at Cotting School or online via Zoom (Zoom link TBD). \nQuestions? \nEmail the PTO at cottingschoolptoinc@gmail.com or Pam Varrin at pvarrin@cotting.org
URL:https://www.cotting.org/event/pto-monthly-meeting-september-2/
LOCATION:Hybrid (In person and on Zoom)
CATEGORIES:Parents
ATTACH;FMTTYPE=image/jpeg:https://www.cotting.org/wp-content/uploads/2024/08/PTO-Logo-e1769797632927.jpeg
ORGANIZER;CN="Pam Varrin":MAILTO:pvarrin@cotting.org
END:VEVENT
END:VCALENDAR