BEGIN:VCALENDAR
VERSION:2.0
PRODID:-//Cotting School - ECPv6.15.20//NONSGML v1.0//EN
CALSCALE:GREGORIAN
METHOD:PUBLISH
X-WR-CALNAME:Cotting School
X-ORIGINAL-URL:https://www.cotting.org
X-WR-CALDESC:Events for Cotting School
REFRESH-INTERVAL;VALUE=DURATION:PT1H
X-Robots-Tag:noindex
X-PUBLISHED-TTL:PT1H
BEGIN:VTIMEZONE
TZID:America/New_York
BEGIN:DAYLIGHT
TZOFFSETFROM:-0500
TZOFFSETTO:-0400
TZNAME:EDT
DTSTART:20240310T070000
END:DAYLIGHT
BEGIN:STANDARD
TZOFFSETFROM:-0400
TZOFFSETTO:-0500
TZNAME:EST
DTSTART:20241103T060000
END:STANDARD
BEGIN:DAYLIGHT
TZOFFSETFROM:-0500
TZOFFSETTO:-0400
TZNAME:EDT
DTSTART:20250309T070000
END:DAYLIGHT
BEGIN:STANDARD
TZOFFSETFROM:-0400
TZOFFSETTO:-0500
TZNAME:EST
DTSTART:20251102T060000
END:STANDARD
BEGIN:DAYLIGHT
TZOFFSETFROM:-0500
TZOFFSETTO:-0400
TZNAME:EDT
DTSTART:20260308T070000
END:DAYLIGHT
BEGIN:STANDARD
TZOFFSETFROM:-0400
TZOFFSETTO:-0500
TZNAME:EST
DTSTART:20261101T060000
END:STANDARD
END:VTIMEZONE
BEGIN:VEVENT
DTSTART;VALUE=DATE:20250524
DTEND;VALUE=DATE:20250527
DTSTAMP:20260425T103814
CREATED:20240820T132423Z
LAST-MODIFIED:20240820T133139Z
UID:10000593-1748044800-1748303999@www.cotting.org
SUMMARY:Holiday Closed: Memorial Day Weekend
DESCRIPTION:
URL:https://www.cotting.org/event/holiday-closed-memorial-day-weekend/
CATEGORIES:General,Parents
END:VEVENT
BEGIN:VEVENT
DTSTART;TZID=America/New_York:20250527T150000
DTEND;TZID=America/New_York:20250527T163000
DTSTAMP:20260425T103814
CREATED:20250516T180507Z
LAST-MODIFIED:20250516T185936Z
UID:10001273-1748358000-1748363400@www.cotting.org
SUMMARY:Beach Party Dance
DESCRIPTION:Let’s Get Ready for Summer\nJoin your Lower and Middle School friends at our Beach Party Dance!\n\nDate: Friday\, May 30\, 2025 \nTime: After School | Pick up will be at 4:30 p.m. \nWhere: Cotting School Campus Center \nPlease fill out the form below to RSVP by May 27.  \nAdditional Information: \n\nRSVPs are required. Please RSVP by May 27 so we can provide you with additional information about the pick up process\, etc.\nNo food or drink will be served during the dance. However\, if your student needs/wants a snack\, they will have an opportunity to eat it in their classroom at the end of the day before coming to the dance.\n\n\n\n\n\nRSVP: Beach Party Dance\nRSVP: Beach Party Dance\n\n\n\n\n\n\n\n	Who will be attending?\n		*\n	\n	\n	Please enter the student's name here.\n	\n\n\n	Who will be picking the attendee up at 4:30?\n		*\n	\n	\n	Please enter the parent's/guardian's name here.\n	\n\n\n	Pick up contact's phone number\n		*\n	\n	\n	\n	\n\n\n	Pick up contact's email address\n		*\n	\n	\n	\n	\n\n\n	Do you have a preference for how we contact you?\n		*\n	\n			\n		Text meCall meEmail me	\n	\n	\n	\n\n\n	\n\nSubmit\n\nStart Over\n\n\n	\n			\n			\n				If you are human\, leave this field blank.
URL:https://www.cotting.org/event/beach-party-dance/
LOCATION:Cotting School Campus Center\, Concord Avenue\, Lexington\, MA\, 02421\, United States
CATEGORIES:Parents
ATTACH;FMTTYPE=image/jpeg:https://www.cotting.org/wp-content/uploads/2025/05/Beach-Party-Dance.jpg
ORGANIZER;CN="Marcie Garon":MAILTO:mgaron@cotting.org
GEO:42.4200019;-71.2374614
X-APPLE-STRUCTURED-LOCATION;VALUE=URI;X-ADDRESS=Cotting School Campus Center Concord Avenue Lexington MA 02421 United States;X-APPLE-RADIUS=500;X-TITLE=Concord Avenue:geo:-71.2374614,42.4200019
END:VEVENT
BEGIN:VEVENT
DTSTART;TZID=America/New_York:20250528T090000
DTEND;TZID=America/New_York:20250528T100000
DTSTAMP:20260425T103815
CREATED:20241010T211616Z
LAST-MODIFIED:20241010T211714Z
UID:10001237-1748422800-1748426400@www.cotting.org
SUMMARY:Cotting School Weekly Parent Group
DESCRIPTION:This group\, facilitated by Family Support Coordinator Pam Varrin\, meets remotely and is a regularly scheduled supportive space for Cotting parents to take a few moments for themselves\, share information\, and find connection and perspective. Join us each week\, come when you can or drop in any time to see what it’s like! \nZoom link: https://us02web.zoom.us/j/84612450285?pwd=vYnzgnUcc6Lw6vtkAbnIkLhmBas87o.1
URL:https://www.cotting.org/event/cotting-school-weekly-parent-group-2/2025-05-28/
LOCATION:Via Zoom
CATEGORIES:Parents
ATTACH;FMTTYPE=image/jpeg:https://www.cotting.org/wp-content/uploads/2024/09/unnamed-e1725651958615.jpg
ORGANIZER;CN="Pam Varrin":MAILTO:pvarrin@cotting.org
END:VEVENT
END:VCALENDAR