BEGIN:VCALENDAR
VERSION:2.0
PRODID:-//Cotting School - ECPv6.15.20//NONSGML v1.0//EN
CALSCALE:GREGORIAN
METHOD:PUBLISH
X-ORIGINAL-URL:https://www.cotting.org
X-WR-CALDESC:Events for Cotting School
REFRESH-INTERVAL;VALUE=DURATION:PT1H
X-Robots-Tag:noindex
X-PUBLISHED-TTL:PT1H
BEGIN:VTIMEZONE
TZID:America/New_York
BEGIN:DAYLIGHT
TZOFFSETFROM:-0500
TZOFFSETTO:-0400
TZNAME:EDT
DTSTART:20240310T070000
END:DAYLIGHT
BEGIN:STANDARD
TZOFFSETFROM:-0400
TZOFFSETTO:-0500
TZNAME:EST
DTSTART:20241103T060000
END:STANDARD
BEGIN:DAYLIGHT
TZOFFSETFROM:-0500
TZOFFSETTO:-0400
TZNAME:EDT
DTSTART:20250309T070000
END:DAYLIGHT
BEGIN:STANDARD
TZOFFSETFROM:-0400
TZOFFSETTO:-0500
TZNAME:EST
DTSTART:20251102T060000
END:STANDARD
BEGIN:DAYLIGHT
TZOFFSETFROM:-0500
TZOFFSETTO:-0400
TZNAME:EDT
DTSTART:20260308T070000
END:DAYLIGHT
BEGIN:STANDARD
TZOFFSETFROM:-0400
TZOFFSETTO:-0500
TZNAME:EST
DTSTART:20261101T060000
END:STANDARD
END:VTIMEZONE
BEGIN:VEVENT
DTSTART;TZID=America/New_York:20250521T090000
DTEND;TZID=America/New_York:20250521T100000
DTSTAMP:20260425T071750
CREATED:20241010T211616Z
LAST-MODIFIED:20241010T211714Z
UID:10001236-1747818000-1747821600@www.cotting.org
SUMMARY:Cotting School Weekly Parent Group
DESCRIPTION:This group\, facilitated by Family Support Coordinator Pam Varrin\, meets remotely and is a regularly scheduled supportive space for Cotting parents to take a few moments for themselves\, share information\, and find connection and perspective. Join us each week\, come when you can or drop in any time to see what it’s like! \nZoom link: https://us02web.zoom.us/j/84612450285?pwd=vYnzgnUcc6Lw6vtkAbnIkLhmBas87o.1
URL:https://www.cotting.org/event/cotting-school-weekly-parent-group-2/2025-05-21/
LOCATION:Via Zoom
CATEGORIES:Parents
ATTACH;FMTTYPE=image/jpeg:https://www.cotting.org/wp-content/uploads/2024/09/unnamed-e1725651958615.jpg
ORGANIZER;CN="Pam Varrin":MAILTO:pvarrin@cotting.org
END:VEVENT
BEGIN:VEVENT
DTSTART;TZID=America/New_York:20250521T090000
DTEND;TZID=America/New_York:20250521T103000
DTSTAMP:20260425T071750
CREATED:20250313T201607Z
LAST-MODIFIED:20250410T132841Z
UID:10001272-1747818000-1747823400@www.cotting.org
SUMMARY:Project Bridges Employer Appreciation Breakfast
DESCRIPTION:YOU’RE INVITED\nPROJECT BRIDGES EMPLOYER APPRECIATION BREAKFAST\nWEDNESDAY\, MAY 21\, 2025 | 9-10:30 A.M.\nCotting School Campus Center | 453 Concord Ave.\, Lexington\, MA 02421\nJoin fellow employers\, students and their families as we celebrate another year of meaningful partnerships and student successes. \nThis event runs from 9-10:30 a.m.\, with a speaking program beginning at approximately 9:30 a.m. We will offer tours at the conclusion of the speaking program\, around 10 a.m. \nPlease R.S.V.P. using the form below. We hope to see. you there!\n\n\n\n\nRSVP: Project Bridges Employer Appreciation Breakfast\n\n\n\n\n\n\n\n\n	Your Name\n		*\n	\n	\n	Please enter your full name here.\n	\n\n\n	Name of Guest(s)\n		\n	\n	\n	If you plan to bring a guest/multiple guests\, please provide their full names here.\n	\n\n\n	If you/your guest(s) have any food allergies or requirements\, please list them here.\n		*\n	\n	\n	If none\, please put "none" or "n/a".\n	\n\n\n	\n\nSubmit\n\nStart Over\n\n\n	\n			\n			\n				If you are human\, leave this field blank.
URL:https://www.cotting.org/event/project-bridges-employer-appreciation-breakfast-3/
LOCATION:Cotting School Campus Center\, Concord Avenue\, Lexington\, MA\, 02421\, United States
CATEGORIES:General
ORGANIZER;CN="Adrienne Manson":MAILTO:amanson@cotting.org
GEO:42.4200019;-71.2374614
X-APPLE-STRUCTURED-LOCATION;VALUE=URI;X-ADDRESS=Cotting School Campus Center Concord Avenue Lexington MA 02421 United States;X-APPLE-RADIUS=500;X-TITLE=Concord Avenue:geo:-71.2374614,42.4200019
END:VEVENT
BEGIN:VEVENT
DTSTART;VALUE=DATE:20250524
DTEND;VALUE=DATE:20250527
DTSTAMP:20260425T071750
CREATED:20240820T132423Z
LAST-MODIFIED:20240820T133139Z
UID:10000593-1748044800-1748303999@www.cotting.org
SUMMARY:Holiday Closed: Memorial Day Weekend
DESCRIPTION:
URL:https://www.cotting.org/event/holiday-closed-memorial-day-weekend/
CATEGORIES:General,Parents
END:VEVENT
END:VCALENDAR