BEGIN:VCALENDAR
VERSION:2.0
PRODID:-//Cotting School - ECPv6.15.20//NONSGML v1.0//EN
CALSCALE:GREGORIAN
METHOD:PUBLISH
X-ORIGINAL-URL:https://www.cotting.org
X-WR-CALDESC:Events for Cotting School
REFRESH-INTERVAL;VALUE=DURATION:PT1H
X-Robots-Tag:noindex
X-PUBLISHED-TTL:PT1H
BEGIN:VTIMEZONE
TZID:America/New_York
BEGIN:DAYLIGHT
TZOFFSETFROM:-0500
TZOFFSETTO:-0400
TZNAME:EDT
DTSTART:20250309T070000
END:DAYLIGHT
BEGIN:STANDARD
TZOFFSETFROM:-0400
TZOFFSETTO:-0500
TZNAME:EST
DTSTART:20251102T060000
END:STANDARD
BEGIN:DAYLIGHT
TZOFFSETFROM:-0500
TZOFFSETTO:-0400
TZNAME:EDT
DTSTART:20260308T070000
END:DAYLIGHT
BEGIN:STANDARD
TZOFFSETFROM:-0400
TZOFFSETTO:-0500
TZNAME:EST
DTSTART:20261101T060000
END:STANDARD
BEGIN:DAYLIGHT
TZOFFSETFROM:-0500
TZOFFSETTO:-0400
TZNAME:EDT
DTSTART:20270314T070000
END:DAYLIGHT
BEGIN:STANDARD
TZOFFSETFROM:-0400
TZOFFSETTO:-0500
TZNAME:EST
DTSTART:20271107T060000
END:STANDARD
END:VTIMEZONE
BEGIN:VEVENT
DTSTART;TZID=America/New_York:20260520T090000
DTEND;TZID=America/New_York:20260520T103000
DTSTAMP:20260422T175559
CREATED:20251124T144503Z
LAST-MODIFIED:20260410T110801Z
UID:10001451-1779267600-1779273000@www.cotting.org
SUMMARY:Project Bridges Employer Appreciation Breakfast
DESCRIPTION:Join employers\, students\, family members and Cotting staff to celebrate a year of partnership and community. \nCome enjoy: \n\nLight breakfast\nMilestone Service Awards\nMeeting employers from other job sites\n\n\n\n\n\nRSVP: Project Bridges Employer Appreciation Breakfast\n\n\n\n\n\n\n\n\n	Your Name\n		*\n	\n	\n	Please enter your full name here.\n	\n\n\n	Name of Guest(s)\n		\n	\n	\n	If you plan to bring a guest/multiple guests\, please provide their full names here.\n	\n\n\n	If you/your guest(s) have any food allergies or requirements\, please list them here.\n		*\n	\n	\n	If none\, please put "none" or "n/a".\n	\n\n\n	\n\nSubmit\n\nStart Over\n\n\n	\n			\n			\n				If you are human\, leave this field blank.
URL:https://www.cotting.org/event/project-bridges-employer-appreciation-breakfast-2/
LOCATION:Cotting School Campus Center\, Concord Avenue\, Lexington\, MA\, 02421\, United States
CATEGORIES:General,Parents
ATTACH;FMTTYPE=image/png:https://www.cotting.org/wp-content/uploads/2025/11/2026-1080x1350-graphics_Project-Bridges-e1774447079912.png
ORGANIZER;CN="Rita Kincaid":MAILTO:rkincaid@cotting.org
GEO:42.4200019;-71.2374614
X-APPLE-STRUCTURED-LOCATION;VALUE=URI;X-ADDRESS=Cotting School Campus Center Concord Avenue Lexington MA 02421 United States;X-APPLE-RADIUS=500;X-TITLE=Concord Avenue:geo:-71.2374614,42.4200019
END:VEVENT
END:VCALENDAR