BEGIN:VCALENDAR
VERSION:2.0
PRODID:-//Cotting School - ECPv6.15.20//NONSGML v1.0//EN
CALSCALE:GREGORIAN
METHOD:PUBLISH
X-ORIGINAL-URL:https://www.cotting.org
X-WR-CALDESC:Events for Cotting School
REFRESH-INTERVAL;VALUE=DURATION:PT1H
X-Robots-Tag:noindex
X-PUBLISHED-TTL:PT1H
BEGIN:VTIMEZONE
TZID:America/New_York
BEGIN:DAYLIGHT
TZOFFSETFROM:-0500
TZOFFSETTO:-0400
TZNAME:EDT
DTSTART:20230312T070000
END:DAYLIGHT
BEGIN:STANDARD
TZOFFSETFROM:-0400
TZOFFSETTO:-0500
TZNAME:EST
DTSTART:20231105T060000
END:STANDARD
BEGIN:DAYLIGHT
TZOFFSETFROM:-0500
TZOFFSETTO:-0400
TZNAME:EDT
DTSTART:20240310T070000
END:DAYLIGHT
BEGIN:STANDARD
TZOFFSETFROM:-0400
TZOFFSETTO:-0500
TZNAME:EST
DTSTART:20241103T060000
END:STANDARD
BEGIN:DAYLIGHT
TZOFFSETFROM:-0500
TZOFFSETTO:-0400
TZNAME:EDT
DTSTART:20250309T070000
END:DAYLIGHT
BEGIN:STANDARD
TZOFFSETFROM:-0400
TZOFFSETTO:-0500
TZNAME:EST
DTSTART:20251102T060000
END:STANDARD
BEGIN:DAYLIGHT
TZOFFSETFROM:-0500
TZOFFSETTO:-0400
TZNAME:EDT
DTSTART:20260308T070000
END:DAYLIGHT
BEGIN:STANDARD
TZOFFSETFROM:-0400
TZOFFSETTO:-0500
TZNAME:EST
DTSTART:20261101T060000
END:STANDARD
END:VTIMEZONE
BEGIN:VEVENT
DTSTART;TZID=America/New_York:20250129T090000
DTEND;TZID=America/New_York:20250129T100000
DTSTAMP:20260422T020043
CREATED:20241010T211616Z
LAST-MODIFIED:20241010T211714Z
UID:10001220-1738141200-1738144800@www.cotting.org
SUMMARY:Cotting School Weekly Parent Group
DESCRIPTION:This group\, facilitated by Family Support Coordinator Pam Varrin\, meets remotely and is a regularly scheduled supportive space for Cotting parents to take a few moments for themselves\, share information\, and find connection and perspective. Join us each week\, come when you can or drop in any time to see what it’s like! \nZoom link: https://us02web.zoom.us/j/84612450285?pwd=vYnzgnUcc6Lw6vtkAbnIkLhmBas87o.1
URL:https://www.cotting.org/event/cotting-school-weekly-parent-group-2/2025-01-29/
LOCATION:Via Zoom
CATEGORIES:Parents
ATTACH;FMTTYPE=image/jpeg:https://www.cotting.org/wp-content/uploads/2024/09/unnamed-e1725651958615.jpg
ORGANIZER;CN="Pam Varrin":MAILTO:pvarrin@cotting.org
END:VEVENT
BEGIN:VEVENT
DTSTART;TZID=America/New_York:20250125T093000
DTEND;TZID=America/New_York:20250125T123000
DTSTAMP:20260422T020043
CREATED:20241101T200547Z
LAST-MODIFIED:20241101T200547Z
UID:10001247-1737797400-1737808200@www.cotting.org
SUMMARY:Basketball Game vs Newton
DESCRIPTION:
URL:https://www.cotting.org/event/basketball-game-vs-newton/
LOCATION:Cotting School Campus Center\, Concord Avenue\, Lexington\, MA\, 02421\, United States
CATEGORIES:Parents
GEO:42.4200019;-71.2374614
X-APPLE-STRUCTURED-LOCATION;VALUE=URI;X-ADDRESS=Cotting School Campus Center Concord Avenue Lexington MA 02421 United States;X-APPLE-RADIUS=500;X-TITLE=Concord Avenue:geo:-71.2374614,42.4200019
END:VEVENT
BEGIN:VEVENT
DTSTART;TZID=America/New_York:20250124T090000
DTEND;TZID=America/New_York:20250124T100000
DTSTAMP:20260422T020043
CREATED:20241010T212749Z
LAST-MODIFIED:20241010T212749Z
UID:10001175-1737709200-1737712800@www.cotting.org
SUMMARY:PAC Monthly Meeting
DESCRIPTION:The Parent Advisory Committee (PAC) serves as a source of thoughtful feedback on what parents are thinking about\, and as an important sounding board for Cotting School administrators. We are always looking to welcome new faces and input at our monthly hybrid PAC meetings\, held on a Friday every month (except in June) from 9-10 a.m. You can either attend in person in the Board Room at Cotting School or online via Zoom. \nZoom link: https://us02web.zoom.us/j/7918848936?pwd=UkUvTkdaSzNZaXBWVVlwSVVkMjYzUT09&omn=88498712999 \n  \n  \n  \n 
URL:https://www.cotting.org/event/pac-meeting-15-2-4/
LOCATION:Hybrid (In person and on Zoom)
CATEGORIES:Parents
ATTACH;FMTTYPE=image/png:https://www.cotting.org/wp-content/uploads/2024/09/PAC_logo-1-e1725373642770.png
ORGANIZER;CN="Pam Varrin":MAILTO:pvarrin@cotting.org
END:VEVENT
BEGIN:VEVENT
DTSTART;TZID=America/New_York:20250122T090000
DTEND;TZID=America/New_York:20250122T100000
DTSTAMP:20260422T020043
CREATED:20241010T211616Z
LAST-MODIFIED:20241010T211714Z
UID:10001219-1737536400-1737540000@www.cotting.org
SUMMARY:Cotting School Weekly Parent Group
DESCRIPTION:This group\, facilitated by Family Support Coordinator Pam Varrin\, meets remotely and is a regularly scheduled supportive space for Cotting parents to take a few moments for themselves\, share information\, and find connection and perspective. Join us each week\, come when you can or drop in any time to see what it’s like! \nZoom link: https://us02web.zoom.us/j/84612450285?pwd=vYnzgnUcc6Lw6vtkAbnIkLhmBas87o.1
URL:https://www.cotting.org/event/cotting-school-weekly-parent-group-2/2025-01-22/
LOCATION:Via Zoom
CATEGORIES:Parents
ATTACH;FMTTYPE=image/jpeg:https://www.cotting.org/wp-content/uploads/2024/09/unnamed-e1725651958615.jpg
ORGANIZER;CN="Pam Varrin":MAILTO:pvarrin@cotting.org
END:VEVENT
BEGIN:VEVENT
DTSTART;VALUE=DATE:20250121
DTEND;VALUE=DATE:20250122
DTSTAMP:20260422T020043
CREATED:20240820T132423Z
LAST-MODIFIED:20240820T133158Z
UID:10000599-1737417600-1737503999@www.cotting.org
SUMMARY:Professional Day Closed
DESCRIPTION:
URL:https://www.cotting.org/event/professional-day-closed/
CATEGORIES:General,Parents
END:VEVENT
BEGIN:VEVENT
DTSTART;VALUE=DATE:20250120
DTEND;VALUE=DATE:20250121
DTSTAMP:20260422T020043
CREATED:20250103T155625Z
LAST-MODIFIED:20250103T155731Z
UID:10001255-1737331200-1737417599@www.cotting.org
SUMMARY:Holiday Closed: MLK\, Jr. Day
DESCRIPTION:
URL:https://www.cotting.org/event/mlk-jr-day-closed/
CATEGORIES:General
END:VEVENT
BEGIN:VEVENT
DTSTART;TZID=America/New_York:20250118T093000
DTEND;TZID=America/New_York:20250118T123000
DTSTAMP:20260422T020043
CREATED:20241101T200449Z
LAST-MODIFIED:20241101T200449Z
UID:10001246-1737192600-1737203400@www.cotting.org
SUMMARY:Basketball Game vs Heated Lions
DESCRIPTION:
URL:https://www.cotting.org/event/basketball-game-vs-heated-lions/
LOCATION:Cotting School Campus Center\, Concord Avenue\, Lexington\, MA\, 02421\, United States
CATEGORIES:Parents
GEO:42.4200019;-71.2374614
X-APPLE-STRUCTURED-LOCATION;VALUE=URI;X-ADDRESS=Cotting School Campus Center Concord Avenue Lexington MA 02421 United States;X-APPLE-RADIUS=500;X-TITLE=Concord Avenue:geo:-71.2374614,42.4200019
END:VEVENT
BEGIN:VEVENT
DTSTART;TZID=America/New_York:20250117T093000
DTEND;TZID=America/New_York:20250117T110000
DTSTAMP:20260422T020043
CREATED:20240903T144522Z
LAST-MODIFIED:20240904T141031Z
UID:10001183-1737106200-1737111600@www.cotting.org
SUMMARY:Information Session
DESCRIPTION:Tour our campus\, visit our classrooms and talk to Cotting School professionals at our monthly information sessions. \nIf you plan to attend and would like to request an interpreter\, please let us know. Walk-ins are always welcome! Private tours are available by request. \nTo RSVP for an information session\, set up a private tour or get more information about admissions\, please contact  Director of Admissions Elizabeth Russell at erussell@cotting.org or 781.862.7323 x114.
URL:https://www.cotting.org/event/information-session-35/2025-01-17/
LOCATION:Cotting School Auditorium\, Concord Avenue\, Lexington\, MA\, 02421\, United States
CATEGORIES:General,Information Session
ORGANIZER;CN="Elizabeth Russell":MAILTO:erussell@cotting.org
GEO:42.4200019;-71.2374614
X-APPLE-STRUCTURED-LOCATION;VALUE=URI;X-ADDRESS=Cotting School Auditorium Concord Avenue Lexington MA 02421 United States;X-APPLE-RADIUS=500;X-TITLE=Concord Avenue:geo:-71.2374614,42.4200019
END:VEVENT
BEGIN:VEVENT
DTSTART;TZID=America/New_York:20250115T090000
DTEND;TZID=America/New_York:20250115T100000
DTSTAMP:20260422T020043
CREATED:20241010T211616Z
LAST-MODIFIED:20241010T211714Z
UID:10001218-1736931600-1736935200@www.cotting.org
SUMMARY:Cotting School Weekly Parent Group
DESCRIPTION:This group\, facilitated by Family Support Coordinator Pam Varrin\, meets remotely and is a regularly scheduled supportive space for Cotting parents to take a few moments for themselves\, share information\, and find connection and perspective. Join us each week\, come when you can or drop in any time to see what it’s like! \nZoom link: https://us02web.zoom.us/j/84612450285?pwd=vYnzgnUcc6Lw6vtkAbnIkLhmBas87o.1
URL:https://www.cotting.org/event/cotting-school-weekly-parent-group-2/2025-01-15/
LOCATION:Via Zoom
CATEGORIES:Parents
ATTACH;FMTTYPE=image/jpeg:https://www.cotting.org/wp-content/uploads/2024/09/unnamed-e1725651958615.jpg
ORGANIZER;CN="Pam Varrin":MAILTO:pvarrin@cotting.org
END:VEVENT
BEGIN:VEVENT
DTSTART;TZID=America/New_York:20250110T173000
DTEND;TZID=America/New_York:20250110T194500
DTSTAMP:20260422T020043
CREATED:20241101T200347Z
LAST-MODIFIED:20241101T200359Z
UID:10001245-1736530200-1736538300@www.cotting.org
SUMMARY:Basketball Game vs Nobles
DESCRIPTION:
URL:https://www.cotting.org/event/basketball-game-vs-nobles/
LOCATION:Cotting School Campus Center\, Concord Avenue\, Lexington\, MA\, 02421\, United States
CATEGORIES:Parents
GEO:42.4200019;-71.2374614
X-APPLE-STRUCTURED-LOCATION;VALUE=URI;X-ADDRESS=Cotting School Campus Center Concord Avenue Lexington MA 02421 United States;X-APPLE-RADIUS=500;X-TITLE=Concord Avenue:geo:-71.2374614,42.4200019
END:VEVENT
BEGIN:VEVENT
DTSTART;TZID=America/New_York:20250110T083000
DTEND;TZID=America/New_York:20250110T093000
DTSTAMP:20260422T020043
CREATED:20250103T190732Z
LAST-MODIFIED:20250103T190733Z
UID:10001194-1736497800-1736501400@www.cotting.org
SUMMARY:PTO Monthly Meeting
DESCRIPTION:We are always looking to welcome new faces and input at our monthly hybrid PTO Board meetings\, held the first Friday of each month from 9-10 a.m. You can either attend in person in the Board Room at Cotting School or online via Zoom. \nZoom link: https://us02web.zoom.us/j/84957633006?pwd=xinpoUItmTbfMYg5RelUEkbfF838yf.1 \n 
URL:https://www.cotting.org/event/pto-monthly-meeting-2-2/
LOCATION:building entrance
CATEGORIES:Parents
ATTACH;FMTTYPE=image/jpeg:https://www.cotting.org/wp-content/uploads/2024/08/PTO-Logo-e1769797632927.jpeg
END:VEVENT
BEGIN:VEVENT
DTSTART;TZID=America/New_York:20250104T093000
DTEND;TZID=America/New_York:20250104T123000
DTSTAMP:20260422T020043
CREATED:20241101T200257Z
LAST-MODIFIED:20241101T200257Z
UID:10001244-1735983000-1735993800@www.cotting.org
SUMMARY:Basketball Game vs LABBB
DESCRIPTION:
URL:https://www.cotting.org/event/basketball-game-vs-labbb/
LOCATION:Cotting School Campus Center\, Concord Avenue\, Lexington\, MA\, 02421\, United States
CATEGORIES:Parents
GEO:42.4200019;-71.2374614
X-APPLE-STRUCTURED-LOCATION;VALUE=URI;X-ADDRESS=Cotting School Campus Center Concord Avenue Lexington MA 02421 United States;X-APPLE-RADIUS=500;X-TITLE=Concord Avenue:geo:-71.2374614,42.4200019
END:VEVENT
BEGIN:VEVENT
DTSTART;TZID=America/New_York:20250101T090000
DTEND;TZID=America/New_York:20250101T100000
DTSTAMP:20260422T020043
CREATED:20241010T211616Z
LAST-MODIFIED:20241010T211714Z
UID:10001216-1735722000-1735725600@www.cotting.org
SUMMARY:Cotting School Weekly Parent Group
DESCRIPTION:This group\, facilitated by Family Support Coordinator Pam Varrin\, meets remotely and is a regularly scheduled supportive space for Cotting parents to take a few moments for themselves\, share information\, and find connection and perspective. Join us each week\, come when you can or drop in any time to see what it’s like! \nZoom link: https://us02web.zoom.us/j/84612450285?pwd=vYnzgnUcc6Lw6vtkAbnIkLhmBas87o.1
URL:https://www.cotting.org/event/cotting-school-weekly-parent-group-2/2025-01-01/
LOCATION:Via Zoom
CATEGORIES:Parents
ATTACH;FMTTYPE=image/jpeg:https://www.cotting.org/wp-content/uploads/2024/09/unnamed-e1725651958615.jpg
ORGANIZER;CN="Pam Varrin":MAILTO:pvarrin@cotting.org
END:VEVENT
BEGIN:VEVENT
DTSTART;TZID=America/New_York:20241225T090000
DTEND;TZID=America/New_York:20241225T100000
DTSTAMP:20260422T020043
CREATED:20241010T211616Z
LAST-MODIFIED:20241010T211714Z
UID:10001215-1735117200-1735120800@www.cotting.org
SUMMARY:Cotting School Weekly Parent Group
DESCRIPTION:This group\, facilitated by Family Support Coordinator Pam Varrin\, meets remotely and is a regularly scheduled supportive space for Cotting parents to take a few moments for themselves\, share information\, and find connection and perspective. Join us each week\, come when you can or drop in any time to see what it’s like! \nZoom link: https://us02web.zoom.us/j/84612450285?pwd=vYnzgnUcc6Lw6vtkAbnIkLhmBas87o.1
URL:https://www.cotting.org/event/cotting-school-weekly-parent-group-2/2024-12-25/
LOCATION:Via Zoom
CATEGORIES:Parents
ATTACH;FMTTYPE=image/jpeg:https://www.cotting.org/wp-content/uploads/2024/09/unnamed-e1725651958615.jpg
ORGANIZER;CN="Pam Varrin":MAILTO:pvarrin@cotting.org
END:VEVENT
BEGIN:VEVENT
DTSTART;VALUE=DATE:20241223
DTEND;VALUE=DATE:20250102
DTSTAMP:20260422T020043
CREATED:20240820T132423Z
LAST-MODIFIED:20240820T133200Z
UID:10000600-1734912000-1735775999@www.cotting.org
SUMMARY:Winter Holiday Closed
DESCRIPTION:
URL:https://www.cotting.org/event/winter-holiday-closed/
CATEGORIES:General,Parents
END:VEVENT
BEGIN:VEVENT
DTSTART;TZID=America/New_York:20241220T090000
DTEND;TZID=America/New_York:20241220T111500
DTSTAMP:20260422T020043
CREATED:20241101T200208Z
LAST-MODIFIED:20241101T200208Z
UID:10001243-1734685200-1734693300@www.cotting.org
SUMMARY:Basketball Game vs Staff
DESCRIPTION:
URL:https://www.cotting.org/event/basketball-game-vs-staff/
LOCATION:Cotting School Campus Center\, Concord Avenue\, Lexington\, MA\, 02421\, United States
CATEGORIES:Parents
GEO:42.4200019;-71.2374614
X-APPLE-STRUCTURED-LOCATION;VALUE=URI;X-ADDRESS=Cotting School Campus Center Concord Avenue Lexington MA 02421 United States;X-APPLE-RADIUS=500;X-TITLE=Concord Avenue:geo:-71.2374614,42.4200019
END:VEVENT
BEGIN:VEVENT
DTSTART;TZID=America/New_York:20241218T090000
DTEND;TZID=America/New_York:20241218T100000
DTSTAMP:20260422T020043
CREATED:20241010T211616Z
LAST-MODIFIED:20241010T211714Z
UID:10001214-1734512400-1734516000@www.cotting.org
SUMMARY:Cotting School Weekly Parent Group
DESCRIPTION:This group\, facilitated by Family Support Coordinator Pam Varrin\, meets remotely and is a regularly scheduled supportive space for Cotting parents to take a few moments for themselves\, share information\, and find connection and perspective. Join us each week\, come when you can or drop in any time to see what it’s like! \nZoom link: https://us02web.zoom.us/j/84612450285?pwd=vYnzgnUcc6Lw6vtkAbnIkLhmBas87o.1
URL:https://www.cotting.org/event/cotting-school-weekly-parent-group-2/2024-12-18/
LOCATION:Via Zoom
CATEGORIES:Parents
ATTACH;FMTTYPE=image/jpeg:https://www.cotting.org/wp-content/uploads/2024/09/unnamed-e1725651958615.jpg
ORGANIZER;CN="Pam Varrin":MAILTO:pvarrin@cotting.org
END:VEVENT
BEGIN:VEVENT
DTSTART;TZID=America/New_York:20241213T090000
DTEND;TZID=America/New_York:20241213T100000
DTSTAMP:20260422T020043
CREATED:20241010T212557Z
LAST-MODIFIED:20241010T212605Z
UID:10001174-1734080400-1734084000@www.cotting.org
SUMMARY:PAC Monthly Meeting
DESCRIPTION:The Parent Advisory Committee (PAC) serves as a source of thoughtful feedback on what parents are thinking about\, and as an important sounding board for Cotting School administrators. We are always looking to welcome new faces and input at our monthly hybrid PAC meetings\, held on a Friday every month (except in June) from 9-10 a.m. This meeting will be help online via Zoom only. \nZoom link: https://us02web.zoom.us/j/7918848936?pwd=UkUvTkdaSzNZaXBWVVlwSVVkMjYzUT09&omn=81714633079 \n  \n  \n 
URL:https://www.cotting.org/event/pac-meeting-15-2-3/
LOCATION:Hybrid (In person and on Zoom)
CATEGORIES:Parents
ATTACH;FMTTYPE=image/png:https://www.cotting.org/wp-content/uploads/2024/09/PAC_logo-1-e1725373642770.png
ORGANIZER;CN="Pam Varrin":MAILTO:pvarrin@cotting.org
END:VEVENT
BEGIN:VEVENT
DTSTART;TZID=America/New_York:20241211T090000
DTEND;TZID=America/New_York:20241211T100000
DTSTAMP:20260422T020043
CREATED:20241010T211616Z
LAST-MODIFIED:20241010T211714Z
UID:10001213-1733907600-1733911200@www.cotting.org
SUMMARY:Cotting School Weekly Parent Group
DESCRIPTION:This group\, facilitated by Family Support Coordinator Pam Varrin\, meets remotely and is a regularly scheduled supportive space for Cotting parents to take a few moments for themselves\, share information\, and find connection and perspective. Join us each week\, come when you can or drop in any time to see what it’s like! \nZoom link: https://us02web.zoom.us/j/84612450285?pwd=vYnzgnUcc6Lw6vtkAbnIkLhmBas87o.1
URL:https://www.cotting.org/event/cotting-school-weekly-parent-group-2/2024-12-11/
LOCATION:Via Zoom
CATEGORIES:Parents
ATTACH;FMTTYPE=image/jpeg:https://www.cotting.org/wp-content/uploads/2024/09/unnamed-e1725651958615.jpg
ORGANIZER;CN="Pam Varrin":MAILTO:pvarrin@cotting.org
END:VEVENT
BEGIN:VEVENT
DTSTART;VALUE=DATE:20241209
DTEND;VALUE=DATE:20241211
DTSTAMP:20260422T020043
CREATED:20240820T132423Z
LAST-MODIFIED:20240930T143934Z
UID:10000601-1733702400-1733875199@www.cotting.org
SUMMARY:Holiday Marketplace
DESCRIPTION:The Cotting School PTO will transform the auditorium into a festive holiday shop. Students will have the opportunity to shop independently for holiday gifts for family and friends. Parents and caregiver volunteers will help out as gift-wrapping elves.
URL:https://www.cotting.org/event/holiday-marketplace/
CATEGORIES:Parents
END:VEVENT
BEGIN:VEVENT
DTSTART;TZID=America/New_York:20241207T093000
DTEND;TZID=America/New_York:20241207T123000
DTSTAMP:20260422T020043
CREATED:20241101T190346Z
LAST-MODIFIED:20241101T190346Z
UID:10001242-1733563800-1733574600@www.cotting.org
SUMMARY:Basketball Game vs Alumni
DESCRIPTION:
URL:https://www.cotting.org/event/basketball-game-vs-alumni/
LOCATION:Cotting School Campus Center\, Concord Avenue\, Lexington\, MA\, 02421\, United States
CATEGORIES:Parents
GEO:42.4200019;-71.2374614
X-APPLE-STRUCTURED-LOCATION;VALUE=URI;X-ADDRESS=Cotting School Campus Center Concord Avenue Lexington MA 02421 United States;X-APPLE-RADIUS=500;X-TITLE=Concord Avenue:geo:-71.2374614,42.4200019
END:VEVENT
BEGIN:VEVENT
DTSTART;TZID=America/New_York:20241206T083000
DTEND;TZID=America/New_York:20241206T093000
DTSTAMP:20260422T020043
CREATED:20241010T211952Z
LAST-MODIFIED:20241010T211952Z
UID:10001193-1733473800-1733477400@www.cotting.org
SUMMARY:PTO Monthly Meeting
DESCRIPTION:We are always looking to welcome new faces and input at our monthly hybrid PTO Board meetings\, held the first Friday of each month from 9-10 a.m. You can either attend in person in the Board Room at Cotting School or online via Zoom. \nZoom link: https://us02web.zoom.us/j/84957633006?pwd=xinpoUItmTbfMYg5RelUEkbfF838yf.1 \n 
URL:https://www.cotting.org/event/pto-monthly-meeting-2/2024-12-06/
LOCATION:building entrance
CATEGORIES:Parents
ATTACH;FMTTYPE=image/jpeg:https://www.cotting.org/wp-content/uploads/2024/08/PTO-Logo-e1769797632927.jpeg
END:VEVENT
BEGIN:VEVENT
DTSTART;TZID=America/New_York:20241205T190000
DTEND;TZID=America/New_York:20241205T210000
DTSTAMP:20260422T020043
CREATED:20241108T182221Z
LAST-MODIFIED:20241115T151123Z
UID:10001251-1733425200-1733432400@www.cotting.org
SUMMARY:Cotting Parent and Caregiver Social
DESCRIPTION:Cotting Parent and Caregiver Social\nThursday\, December 5\, 7-9 p.m. \nThe Cotting PTO is excited to offer an opportunity for Cotting parents and caregivers to meet up and socialize on Thursday\, December 5\, in Lexington at Il Casale. Feel free to drop in to meet or reconnect with fellow Cotting parents. Attendees can purchase drinks and the PTO will provide light nibbles. Please RSVP to heidim_05@hotmail.com or 781-354-4715. \nIl Casale\n1727 Massachusetts Ave\nLexington\, MA 02420\nThere is meter parking directly behind the restaurant. \n**The PTO is always looking for parents to host a parent’s night out in their area. If you are interested\, please contact Pam Varrin at pvarrin@cotting.org.
URL:https://www.cotting.org/event/cotting-parent-and-caregiver-social/
LOCATION:Il Casale in Lexington\, Massachusetts Avenue 1727\, Lexington\, MA\, 02420\, United States
CATEGORIES:Parents
ORGANIZER;CN="Cotting School PTO":MAILTO:heidim_05@hotmail.com
GEO:42.4473151;-71.2266447
X-APPLE-STRUCTURED-LOCATION;VALUE=URI;X-ADDRESS=Il Casale in Lexington Massachusetts Avenue 1727 Lexington MA 02420 United States;X-APPLE-RADIUS=500;X-TITLE=Massachusetts Avenue 1727:geo:-71.2266447,42.4473151
END:VEVENT
BEGIN:VEVENT
DTSTART;TZID=America/New_York:20241205T090000
DTEND;TZID=America/New_York:20241205T140000
DTSTAMP:20260422T020043
CREATED:20241115T151459Z
LAST-MODIFIED:20241115T151720Z
UID:10001252-1733389200-1733407200@www.cotting.org
SUMMARY:Picture Day (Retakes)
DESCRIPTION:
URL:https://www.cotting.org/event/picture-day-retakes/
LOCATION:Cotting School\, Concord Avenue\, Lexington\, MA\, 02421\, United States
CATEGORIES:Parents
GEO:42.4200019;-71.2374614
X-APPLE-STRUCTURED-LOCATION;VALUE=URI;X-ADDRESS=Cotting School Concord Avenue Lexington MA 02421 United States;X-APPLE-RADIUS=500;X-TITLE=Concord Avenue:geo:-71.2374614,42.4200019
END:VEVENT
BEGIN:VEVENT
DTSTART;TZID=America/New_York:20241204T090000
DTEND;TZID=America/New_York:20241204T100000
DTSTAMP:20260422T020043
CREATED:20241010T211616Z
LAST-MODIFIED:20241010T211714Z
UID:10001212-1733302800-1733306400@www.cotting.org
SUMMARY:Cotting School Weekly Parent Group
DESCRIPTION:This group\, facilitated by Family Support Coordinator Pam Varrin\, meets remotely and is a regularly scheduled supportive space for Cotting parents to take a few moments for themselves\, share information\, and find connection and perspective. Join us each week\, come when you can or drop in any time to see what it’s like! \nZoom link: https://us02web.zoom.us/j/84612450285?pwd=vYnzgnUcc6Lw6vtkAbnIkLhmBas87o.1
URL:https://www.cotting.org/event/cotting-school-weekly-parent-group-2/2024-12-04/
LOCATION:Via Zoom
CATEGORIES:Parents
ATTACH;FMTTYPE=image/jpeg:https://www.cotting.org/wp-content/uploads/2024/09/unnamed-e1725651958615.jpg
ORGANIZER;CN="Pam Varrin":MAILTO:pvarrin@cotting.org
END:VEVENT
BEGIN:VEVENT
DTSTART;VALUE=DATE:20241128
DTEND;VALUE=DATE:20241130
DTSTAMP:20260422T020043
CREATED:20240820T132423Z
LAST-MODIFIED:20240820T133206Z
UID:10000602-1732752000-1732924799@www.cotting.org
SUMMARY:Holiday Closed: Thanksgiving
DESCRIPTION:
URL:https://www.cotting.org/event/holiday-closed-thanksgiving/
CATEGORIES:General,Parents
END:VEVENT
BEGIN:VEVENT
DTSTART;TZID=America/New_York:20241127T090000
DTEND;TZID=America/New_York:20241127T100000
DTSTAMP:20260422T020043
CREATED:20241010T211616Z
LAST-MODIFIED:20241010T211714Z
UID:10001211-1732698000-1732701600@www.cotting.org
SUMMARY:Cotting School Weekly Parent Group
DESCRIPTION:This group\, facilitated by Family Support Coordinator Pam Varrin\, meets remotely and is a regularly scheduled supportive space for Cotting parents to take a few moments for themselves\, share information\, and find connection and perspective. Join us each week\, come when you can or drop in any time to see what it’s like! \nZoom link: https://us02web.zoom.us/j/84612450285?pwd=vYnzgnUcc6Lw6vtkAbnIkLhmBas87o.1
URL:https://www.cotting.org/event/cotting-school-weekly-parent-group-2/2024-11-27/
LOCATION:Via Zoom
CATEGORIES:Parents
ATTACH;FMTTYPE=image/jpeg:https://www.cotting.org/wp-content/uploads/2024/09/unnamed-e1725651958615.jpg
ORGANIZER;CN="Pam Varrin":MAILTO:pvarrin@cotting.org
END:VEVENT
BEGIN:VEVENT
DTSTART;TZID=America/New_York:20241122T093000
DTEND;TZID=America/New_York:20241122T110000
DTSTAMP:20260422T020043
CREATED:20240903T144522Z
LAST-MODIFIED:20240904T141031Z
UID:10001182-1732267800-1732273200@www.cotting.org
SUMMARY:Information Session
DESCRIPTION:Tour our campus\, visit our classrooms and talk to Cotting School professionals at our monthly information sessions. \nIf you plan to attend and would like to request an interpreter\, please let us know. Walk-ins are always welcome! Private tours are available by request. \nTo RSVP for an information session\, set up a private tour or get more information about admissions\, please contact  Director of Admissions Elizabeth Russell at erussell@cotting.org or 781.862.7323 x114.
URL:https://www.cotting.org/event/information-session-35/2024-11-22/
LOCATION:Cotting School Auditorium\, Concord Avenue\, Lexington\, MA\, 02421\, United States
CATEGORIES:General,Information Session
ORGANIZER;CN="Elizabeth Russell":MAILTO:erussell@cotting.org
GEO:42.4200019;-71.2374614
X-APPLE-STRUCTURED-LOCATION;VALUE=URI;X-ADDRESS=Cotting School Auditorium Concord Avenue Lexington MA 02421 United States;X-APPLE-RADIUS=500;X-TITLE=Concord Avenue:geo:-71.2374614,42.4200019
END:VEVENT
BEGIN:VEVENT
DTSTART;TZID=America/New_York:20241120T090000
DTEND;TZID=America/New_York:20241120T100000
DTSTAMP:20260422T020043
CREATED:20241010T211616Z
LAST-MODIFIED:20241010T211714Z
UID:10001210-1732093200-1732096800@www.cotting.org
SUMMARY:Cotting School Weekly Parent Group
DESCRIPTION:This group\, facilitated by Family Support Coordinator Pam Varrin\, meets remotely and is a regularly scheduled supportive space for Cotting parents to take a few moments for themselves\, share information\, and find connection and perspective. Join us each week\, come when you can or drop in any time to see what it’s like! \nZoom link: https://us02web.zoom.us/j/84612450285?pwd=vYnzgnUcc6Lw6vtkAbnIkLhmBas87o.1
URL:https://www.cotting.org/event/cotting-school-weekly-parent-group-2/2024-11-20/
LOCATION:Via Zoom
CATEGORIES:Parents
ATTACH;FMTTYPE=image/jpeg:https://www.cotting.org/wp-content/uploads/2024/09/unnamed-e1725651958615.jpg
ORGANIZER;CN="Pam Varrin":MAILTO:pvarrin@cotting.org
END:VEVENT
BEGIN:VEVENT
DTSTART;TZID=America/New_York:20241115T090000
DTEND;TZID=America/New_York:20241115T100000
DTSTAMP:20260422T020043
CREATED:20241010T212352Z
LAST-MODIFIED:20241010T212352Z
UID:10001173-1731661200-1731664800@www.cotting.org
SUMMARY:PAC Monthly Meeting
DESCRIPTION:The Parent Advisory Committee (PAC) serves as a source of thoughtful feedback on what parents are thinking about\, and as an important sounding board for Cotting School administrators. We are always looking to welcome new faces and input at our monthly hybrid PAC meetings\, held on a Friday every month (except in June) from 9-10 a.m. You can either attend in person in the Board Room at Cotting School or online via Zoom. \nZoom link: https://us02web.zoom.us/j/7918848936?pwd=UkUvTkdaSzNZaXBWVVlwSVVkMjYzUT09&omn=81973470459 \n  \n 
URL:https://www.cotting.org/event/pac-meeting-15-2-2/
LOCATION:Hybrid (In person and on Zoom)
CATEGORIES:Parents
ATTACH;FMTTYPE=image/png:https://www.cotting.org/wp-content/uploads/2024/09/PAC_logo-1-e1725373642770.png
ORGANIZER;CN="Pam Varrin":MAILTO:pvarrin@cotting.org
END:VEVENT
END:VCALENDAR