BEGIN:VCALENDAR
VERSION:2.0
PRODID:-//Cotting School - ECPv6.15.20//NONSGML v1.0//EN
CALSCALE:GREGORIAN
METHOD:PUBLISH
X-WR-CALNAME:Cotting School
X-ORIGINAL-URL:https://www.cotting.org
X-WR-CALDESC:Events for Cotting School
REFRESH-INTERVAL;VALUE=DURATION:PT1H
X-Robots-Tag:noindex
X-PUBLISHED-TTL:PT1H
BEGIN:VTIMEZONE
TZID:America/New_York
BEGIN:DAYLIGHT
TZOFFSETFROM:-0500
TZOFFSETTO:-0400
TZNAME:EDT
DTSTART:20220313T070000
END:DAYLIGHT
BEGIN:STANDARD
TZOFFSETFROM:-0400
TZOFFSETTO:-0500
TZNAME:EST
DTSTART:20221106T060000
END:STANDARD
BEGIN:DAYLIGHT
TZOFFSETFROM:-0500
TZOFFSETTO:-0400
TZNAME:EDT
DTSTART:20230312T070000
END:DAYLIGHT
BEGIN:STANDARD
TZOFFSETFROM:-0400
TZOFFSETTO:-0500
TZNAME:EST
DTSTART:20231105T060000
END:STANDARD
BEGIN:DAYLIGHT
TZOFFSETFROM:-0500
TZOFFSETTO:-0400
TZNAME:EDT
DTSTART:20240310T070000
END:DAYLIGHT
BEGIN:STANDARD
TZOFFSETFROM:-0400
TZOFFSETTO:-0500
TZNAME:EST
DTSTART:20241103T060000
END:STANDARD
BEGIN:DAYLIGHT
TZOFFSETFROM:-0500
TZOFFSETTO:-0400
TZNAME:EDT
DTSTART:20250309T070000
END:DAYLIGHT
BEGIN:STANDARD
TZOFFSETFROM:-0400
TZOFFSETTO:-0500
TZNAME:EST
DTSTART:20251102T060000
END:STANDARD
END:VTIMEZONE
BEGIN:VEVENT
DTSTART;VALUE=DATE:20240101
DTEND;VALUE=DATE:20240102
DTSTAMP:20260422T140538
CREATED:20240820T132421Z
LAST-MODIFIED:20240820T133522Z
UID:10000660-1704067200-1704153599@www.cotting.org
SUMMARY:Winter Break
DESCRIPTION:School closed
URL:https://www.cotting.org/event/winter-break/2024-01-01/
CATEGORIES:General
END:VEVENT
BEGIN:VEVENT
DTSTART;VALUE=DATE:20231229
DTEND;VALUE=DATE:20231230
DTSTAMP:20260422T140538
CREATED:20240820T132421Z
LAST-MODIFIED:20240820T133522Z
UID:10000659-1703808000-1703894399@www.cotting.org
SUMMARY:Winter Break
DESCRIPTION:School closed
URL:https://www.cotting.org/event/winter-break/2023-12-29/
CATEGORIES:General
END:VEVENT
BEGIN:VEVENT
DTSTART;VALUE=DATE:20231228
DTEND;VALUE=DATE:20231229
DTSTAMP:20260422T140538
CREATED:20240820T132421Z
LAST-MODIFIED:20240820T133522Z
UID:10000658-1703721600-1703807999@www.cotting.org
SUMMARY:Winter Break
DESCRIPTION:School closed
URL:https://www.cotting.org/event/winter-break/2023-12-28/
CATEGORIES:General
END:VEVENT
BEGIN:VEVENT
DTSTART;VALUE=DATE:20231227
DTEND;VALUE=DATE:20231228
DTSTAMP:20260422T140538
CREATED:20240820T132421Z
LAST-MODIFIED:20240820T133522Z
UID:10000657-1703635200-1703721599@www.cotting.org
SUMMARY:Winter Break
DESCRIPTION:School closed
URL:https://www.cotting.org/event/winter-break/2023-12-27/
CATEGORIES:General
END:VEVENT
BEGIN:VEVENT
DTSTART;VALUE=DATE:20231226
DTEND;VALUE=DATE:20231227
DTSTAMP:20260422T140538
CREATED:20240820T132421Z
LAST-MODIFIED:20240820T133522Z
UID:10000656-1703548800-1703635199@www.cotting.org
SUMMARY:Winter Break
DESCRIPTION:School closed
URL:https://www.cotting.org/event/winter-break/2023-12-26/
CATEGORIES:General
END:VEVENT
BEGIN:VEVENT
DTSTART;VALUE=DATE:20231225
DTEND;VALUE=DATE:20231226
DTSTAMP:20260422T140539
CREATED:20240820T132421Z
LAST-MODIFIED:20240820T133522Z
UID:10000655-1703462400-1703548799@www.cotting.org
SUMMARY:Winter Break
DESCRIPTION:School closed
URL:https://www.cotting.org/event/winter-break/2023-12-25/
CATEGORIES:General
END:VEVENT
BEGIN:VEVENT
DTSTART;VALUE=DATE:20231204
DTEND;VALUE=DATE:20231206
DTSTAMP:20260422T140539
CREATED:20240820T132421Z
LAST-MODIFIED:20240826T141655Z
UID:10000661-1701648000-1701820799@www.cotting.org
SUMMARY:Holiday Marketplace (Hosted by the PTO)
DESCRIPTION:The annual Holiday Marketplace is a wonderful\, two-day event that our students and staff look forward to every year. The Cotting School PTO and parent volunteers transform the school auditorium into a holiday shopping boutique\, so students can shop independently for holiday gifts appropriate for any tradition for their family and friends. This year’s PTO Holiday Marketplace takes place Monday\, December 4-Tuesday\, December 5\, 2023.
URL:https://www.cotting.org/event/holiday-marketplace-hosted-by-the-pto-2/
CATEGORIES:General,Parents
ATTACH;FMTTYPE=:
END:VEVENT
BEGIN:VEVENT
DTSTART;VALUE=DATE:20231124
DTEND;VALUE=DATE:20231125
DTSTAMP:20260422T140539
CREATED:20240820T132421Z
LAST-MODIFIED:20240820T133527Z
UID:10000663-1700784000-1700870399@www.cotting.org
SUMMARY:Thanksgiving Break
DESCRIPTION:School closed
URL:https://www.cotting.org/event/thanksgiving-break/2023-11-24/
CATEGORIES:General
END:VEVENT
BEGIN:VEVENT
DTSTART;VALUE=DATE:20231123
DTEND;VALUE=DATE:20231124
DTSTAMP:20260422T140539
CREATED:20240820T132421Z
LAST-MODIFIED:20240820T133527Z
UID:10000662-1700697600-1700783999@www.cotting.org
SUMMARY:Thanksgiving Break
DESCRIPTION:School closed
URL:https://www.cotting.org/event/thanksgiving-break/2023-11-23/
CATEGORIES:General
END:VEVENT
BEGIN:VEVENT
DTSTART;TZID=America/New_York:20231117T093000
DTEND;TZID=America/New_York:20231117T110000
DTSTAMP:20260422T140539
CREATED:20240820T132421Z
LAST-MODIFIED:20240820T133540Z
UID:10000670-1700213400-1700218800@www.cotting.org
SUMMARY:Information Session
DESCRIPTION:Tour our campus\, visit our classrooms and talk to Cotting School professionals at one of our upcoming information sessions\, where we’ll talk about: \n\nCotting School - Day program for ages 3-22\nExtended-Year Academic Programs and Summer Enrichment Options\nCotting Consulting  – Providing technology solutions for students in their school environments\nAll of the new initiatives at Cotting School \n\nTime: 9:30 am – 11:00 am \nPlace: Cotting School\, 453 Concord Avenue\, Lexington\, MA \nIf you plan to attend and would like to request an interpreter\, please let us know. Walk-ins are always welcome and private tours are available by request. If you are unable to visit us in person\, you can also take a virtual tour. To RSVP for an info session\,  set up a private tour or get the password to view our virtual tour\, please contact Elizabeth Russell at erussell@cotting.org or 781-862-7323 ext. 114.
URL:https://www.cotting.org/event/information-session-34/2023-11-17/
CATEGORIES:General,Information Session
END:VEVENT
BEGIN:VEVENT
DTSTART;VALUE=DATE:20231110
DTEND;VALUE=DATE:20231111
DTSTAMP:20260422T140539
CREATED:20240820T132421Z
LAST-MODIFIED:20240820T133530Z
UID:10000664-1699574400-1699660799@www.cotting.org
SUMMARY:Veteran's Day
DESCRIPTION:School closed
URL:https://www.cotting.org/event/veterans-day/
CATEGORIES:General
END:VEVENT
BEGIN:VEVENT
DTSTART;TZID=America/New_York:20231027T103000
DTEND;TZID=America/New_York:20231027T113000
DTSTAMP:20260422T140539
CREATED:20240820T132421Z
LAST-MODIFIED:20240820T133532Z
UID:10000665-1698402600-1698406200@www.cotting.org
SUMMARY:Webinar: Vision Planning With Tools From Charting the Life Course
DESCRIPTION:As part of Cotting’s Family Engagement in Transition initiative\, we are excited to invite you to participate in four important family learning opportunities. Throughout the course of your child’s time at Cotting\, from Lower School through Capstone\, these concepts are important for everyone to consider!  \n At our quarterly family learning opportunities\, you will be able to:  \n\nLearn about vision planning and its importance in transition \nExplore a timeline of transition milestones\nUnderstand the importance of self-determination for our students\nHave regular opportunities to network and collaborate with other Cotting families\n\nThe first webinar\, “Vision Planning With Tools From Charting the Life Course”\, will be hosted by: \n\nDr. Pam Varren\, Family Support Coordinator\nKathy Tyrer\, Guidance Counselor\nLola Piscopo\, Classroom Teacher\, Capstone Program\n\nThis event is FREE and open to the public. Please use the following link to join us for this webinar on Zoom: https://us02web.zoom.us/j/6466422383?pwd=YS9QQTg0WnQ0bDlrR09OeUlsWFVJQT09
URL:https://www.cotting.org/event/webinar-vision-planning-with-tools-from-charting-the-life-course/
CATEGORIES:General,Parents
ATTACH;FMTTYPE=:
END:VEVENT
BEGIN:VEVENT
DTSTART;TZID=America/New_York:20231020T093000
DTEND;TZID=America/New_York:20231020T110000
DTSTAMP:20260422T140539
CREATED:20240820T132421Z
LAST-MODIFIED:20240820T133540Z
UID:10000669-1697794200-1697799600@www.cotting.org
SUMMARY:Information Session
DESCRIPTION:Tour our campus\, visit our classrooms and talk to Cotting School professionals at one of our upcoming information sessions\, where we’ll talk about: \n\nCotting School - Day program for ages 3-22\nExtended-Year Academic Programs and Summer Enrichment Options\nCotting Consulting  – Providing technology solutions for students in their school environments\nAll of the new initiatives at Cotting School \n\nTime: 9:30 am – 11:00 am \nPlace: Cotting School\, 453 Concord Avenue\, Lexington\, MA \nIf you plan to attend and would like to request an interpreter\, please let us know. Walk-ins are always welcome and private tours are available by request. If you are unable to visit us in person\, you can also take a virtual tour. To RSVP for an info session\,  set up a private tour or get the password to view our virtual tour\, please contact Elizabeth Russell at erussell@cotting.org or 781-862-7323 ext. 114.
URL:https://www.cotting.org/event/information-session-34/2023-10-20/
CATEGORIES:General,Information Session
END:VEVENT
BEGIN:VEVENT
DTSTART;TZID=America/New_York:20231014T170000
DTEND;TZID=America/New_York:20231014T200000
DTSTAMP:20260422T140539
CREATED:20240820T132421Z
LAST-MODIFIED:20240826T141702Z
UID:10000666-1697302800-1697313600@www.cotting.org
SUMMARY:Cotting PTO Cornhole Tournament
DESCRIPTION:An event from the PTO to bring Cotting parents together to socialize without their children and make stronger connections with one another. The event will feature food and a beer truck.
URL:https://www.cotting.org/event/cotting-pto-cornhole-tournament/
CATEGORIES:General,Parents
END:VEVENT
BEGIN:VEVENT
DTSTART;VALUE=DATE:20231009
DTEND;VALUE=DATE:20231010
DTSTAMP:20260422T140539
CREATED:20240820T132421Z
LAST-MODIFIED:20240820T133537Z
UID:10000667-1696809600-1696895999@www.cotting.org
SUMMARY:Columbus Day
DESCRIPTION:School closed
URL:https://www.cotting.org/event/columbus-day-2/
CATEGORIES:General
END:VEVENT
BEGIN:VEVENT
DTSTART;TZID=America/New_York:20230929T093000
DTEND;TZID=America/New_York:20230929T110000
DTSTAMP:20260422T140539
CREATED:20240820T132421Z
LAST-MODIFIED:20240820T133540Z
UID:10000668-1695979800-1695985200@www.cotting.org
SUMMARY:Information Session
DESCRIPTION:Tour our campus\, visit our classrooms and talk to Cotting School professionals at one of our upcoming information sessions\, where we’ll talk about: \n\nCotting School - Day program for ages 3-22\nExtended-Year Academic Programs and Summer Enrichment Options\nCotting Consulting  – Providing technology solutions for students in their school environments\nAll of the new initiatives at Cotting School \n\nTime: 9:30 am – 11:00 am \nPlace: Cotting School\, 453 Concord Avenue\, Lexington\, MA \nIf you plan to attend and would like to request an interpreter\, please let us know. Walk-ins are always welcome and private tours are available by request. If you are unable to visit us in person\, you can also take a virtual tour. To RSVP for an info session\,  set up a private tour or get the password to view our virtual tour\, please contact Elizabeth Russell at erussell@cotting.org or 781-862-7323 ext. 114.
URL:https://www.cotting.org/event/information-session-34/2023-09-29/
CATEGORIES:General,Information Session
END:VEVENT
BEGIN:VEVENT
DTSTART;TZID=America/New_York:20230924T120000
DTEND;TZID=America/New_York:20230924T150000
DTSTAMP:20260422T140539
CREATED:20240820T132421Z
LAST-MODIFIED:20240826T141709Z
UID:10000676-1695556800-1695567600@www.cotting.org
SUMMARY:PTO Annual Fall Family BBQ
DESCRIPTION:Every year\, the PTO kicks off the new school year with an outdoor BBQ on a Sunday in September for all Cotting families and staff\, complete with a catered BBQ lunch\, games\, raffles\, crafts and other fun stuff. This year’s BBQ will take place on Sunday\, September 24\, from 12-3 p.m. on Cotting campus. It’s a wonderful opportunity to spend time and have fun with fellow Cotting students and their families!
URL:https://www.cotting.org/event/pto-annual-fall-family-bbq/
CATEGORIES:General,Parents
END:VEVENT
BEGIN:VEVENT
DTSTART;VALUE=DATE:20230904
DTEND;VALUE=DATE:20230905
DTSTAMP:20260422T140539
CREATED:20240820T132421Z
LAST-MODIFIED:20240820T133543Z
UID:10000677-1693785600-1693871999@www.cotting.org
SUMMARY:Labor Day Break
DESCRIPTION:School closed
URL:https://www.cotting.org/event/labor-day-break-2/
CATEGORIES:General
END:VEVENT
BEGIN:VEVENT
DTSTART;VALUE=DATE:20230901
DTEND;VALUE=DATE:20230902
DTSTAMP:20260422T140539
CREATED:20240820T132421Z
LAST-MODIFIED:20240820T133545Z
UID:10000678-1693526400-1693612799@www.cotting.org
SUMMARY:Labor Day Break
DESCRIPTION:School closed
URL:https://www.cotting.org/event/labor-day-break/
END:VEVENT
BEGIN:VEVENT
DTSTART;VALUE=DATE:20230901
DTEND;VALUE=DATE:20230902
DTSTAMP:20260422T140539
CREATED:20240820T132421Z
LAST-MODIFIED:20240820T133547Z
UID:10000679-1693526400-1693612799@www.cotting.org
SUMMARY:Labor Day Break
DESCRIPTION:School closed
URL:https://www.cotting.org/event/labor-day-break-3/
CATEGORIES:General
END:VEVENT
BEGIN:VEVENT
DTSTART;TZID=America/New_York:20230830T080000
DTEND;TZID=America/New_York:20230830T133000
DTSTAMP:20260422T140539
CREATED:20240820T132421Z
LAST-MODIFIED:20240820T133549Z
UID:10000680-1693382400-1693402200@www.cotting.org
SUMMARY:First Day of School
DESCRIPTION:Regular Wednesday dismissal time at 1:15pm
URL:https://www.cotting.org/event/first-day-of-school-7/
END:VEVENT
BEGIN:VEVENT
DTSTART;VALUE=DATE:20230830
DTEND;VALUE=DATE:20230831
DTSTAMP:20260422T140539
CREATED:20240820T132421Z
LAST-MODIFIED:20240820T133551Z
UID:10000681-1693353600-1693439999@www.cotting.org
SUMMARY:First Day of School
DESCRIPTION:Normal Wednesday release time at 1:15pm
URL:https://www.cotting.org/event/first-day-of-school-5/
CATEGORIES:General
END:VEVENT
BEGIN:VEVENT
DTSTART;TZID=America/New_York:20230811T080000
DTEND;TZID=America/New_York:20230811T140000
DTSTAMP:20260422T140539
CREATED:20240820T132421Z
LAST-MODIFIED:20240820T133555Z
UID:10000706-1691740800-1691762400@www.cotting.org
SUMMARY:Summer School 2023
DESCRIPTION:Extended School Year 2023 \n8:00am – 2:00pm
URL:https://www.cotting.org/event/summer-school-2023/2023-08-11/
CATEGORIES:General
END:VEVENT
BEGIN:VEVENT
DTSTART;TZID=America/New_York:20230810T080000
DTEND;TZID=America/New_York:20230810T140000
DTSTAMP:20260422T140539
CREATED:20240820T132421Z
LAST-MODIFIED:20240820T133555Z
UID:10000705-1691654400-1691676000@www.cotting.org
SUMMARY:Summer School 2023
DESCRIPTION:Extended School Year 2023 \n8:00am – 2:00pm
URL:https://www.cotting.org/event/summer-school-2023/2023-08-10/
CATEGORIES:General
END:VEVENT
BEGIN:VEVENT
DTSTART;TZID=America/New_York:20230809T080000
DTEND;TZID=America/New_York:20230809T140000
DTSTAMP:20260422T140539
CREATED:20240820T132421Z
LAST-MODIFIED:20240820T133555Z
UID:10000704-1691568000-1691589600@www.cotting.org
SUMMARY:Summer School 2023
DESCRIPTION:Extended School Year 2023 \n8:00am – 2:00pm
URL:https://www.cotting.org/event/summer-school-2023/2023-08-09/
CATEGORIES:General
END:VEVENT
BEGIN:VEVENT
DTSTART;TZID=America/New_York:20230808T080000
DTEND;TZID=America/New_York:20230808T140000
DTSTAMP:20260422T140539
CREATED:20240820T132421Z
LAST-MODIFIED:20240820T133555Z
UID:10000703-1691481600-1691503200@www.cotting.org
SUMMARY:Summer School 2023
DESCRIPTION:Extended School Year 2023 \n8:00am – 2:00pm
URL:https://www.cotting.org/event/summer-school-2023/2023-08-08/
CATEGORIES:General
END:VEVENT
BEGIN:VEVENT
DTSTART;TZID=America/New_York:20230807T080000
DTEND;TZID=America/New_York:20230807T140000
DTSTAMP:20260422T140539
CREATED:20240820T132421Z
LAST-MODIFIED:20240820T133555Z
UID:10000702-1691395200-1691416800@www.cotting.org
SUMMARY:Summer School 2023
DESCRIPTION:Extended School Year 2023 \n8:00am – 2:00pm
URL:https://www.cotting.org/event/summer-school-2023/2023-08-07/
CATEGORIES:General
END:VEVENT
BEGIN:VEVENT
DTSTART;TZID=America/New_York:20230804T080000
DTEND;TZID=America/New_York:20230804T140000
DTSTAMP:20260422T140539
CREATED:20240820T132421Z
LAST-MODIFIED:20240820T133555Z
UID:10000701-1691136000-1691157600@www.cotting.org
SUMMARY:Summer School 2023
DESCRIPTION:Extended School Year 2023 \n8:00am – 2:00pm
URL:https://www.cotting.org/event/summer-school-2023/2023-08-04/
CATEGORIES:General
END:VEVENT
BEGIN:VEVENT
DTSTART;TZID=America/New_York:20230803T080000
DTEND;TZID=America/New_York:20230803T140000
DTSTAMP:20260422T140539
CREATED:20240820T132421Z
LAST-MODIFIED:20240820T133555Z
UID:10000700-1691049600-1691071200@www.cotting.org
SUMMARY:Summer School 2023
DESCRIPTION:Extended School Year 2023 \n8:00am – 2:00pm
URL:https://www.cotting.org/event/summer-school-2023/2023-08-03/
CATEGORIES:General
END:VEVENT
BEGIN:VEVENT
DTSTART;TZID=America/New_York:20230802T080000
DTEND;TZID=America/New_York:20230802T140000
DTSTAMP:20260422T140539
CREATED:20240820T132421Z
LAST-MODIFIED:20240820T133555Z
UID:10000699-1690963200-1690984800@www.cotting.org
SUMMARY:Summer School 2023
DESCRIPTION:Extended School Year 2023 \n8:00am – 2:00pm
URL:https://www.cotting.org/event/summer-school-2023/2023-08-02/
CATEGORIES:General
END:VEVENT
END:VCALENDAR