BEGIN:VCALENDAR
VERSION:2.0
PRODID:-//Cotting School - ECPv6.15.20//NONSGML v1.0//EN
CALSCALE:GREGORIAN
METHOD:PUBLISH
X-ORIGINAL-URL:https://www.cotting.org
X-WR-CALDESC:Events for Cotting School
REFRESH-INTERVAL;VALUE=DURATION:PT1H
X-Robots-Tag:noindex
X-PUBLISHED-TTL:PT1H
BEGIN:VTIMEZONE
TZID:America/New_York
BEGIN:DAYLIGHT
TZOFFSETFROM:-0500
TZOFFSETTO:-0400
TZNAME:EDT
DTSTART:20230312T070000
END:DAYLIGHT
BEGIN:STANDARD
TZOFFSETFROM:-0400
TZOFFSETTO:-0500
TZNAME:EST
DTSTART:20231105T060000
END:STANDARD
BEGIN:DAYLIGHT
TZOFFSETFROM:-0500
TZOFFSETTO:-0400
TZNAME:EDT
DTSTART:20240310T070000
END:DAYLIGHT
BEGIN:STANDARD
TZOFFSETFROM:-0400
TZOFFSETTO:-0500
TZNAME:EST
DTSTART:20241103T060000
END:STANDARD
BEGIN:DAYLIGHT
TZOFFSETFROM:-0500
TZOFFSETTO:-0400
TZNAME:EDT
DTSTART:20250309T070000
END:DAYLIGHT
BEGIN:STANDARD
TZOFFSETFROM:-0400
TZOFFSETTO:-0500
TZNAME:EST
DTSTART:20251102T060000
END:STANDARD
END:VTIMEZONE
BEGIN:VEVENT
DTSTART;TZID=America/New_York:20241025T093000
DTEND;TZID=America/New_York:20241025T110000
DTSTAMP:20260422T064816
CREATED:20240903T144522Z
LAST-MODIFIED:20240904T141031Z
UID:10001181-1729848600-1729854000@www.cotting.org
SUMMARY:Information Session
DESCRIPTION:Tour our campus\, visit our classrooms and talk to Cotting School professionals at our monthly information sessions. \nIf you plan to attend and would like to request an interpreter\, please let us know. Walk-ins are always welcome! Private tours are available by request. \nTo RSVP for an information session\, set up a private tour or get more information about admissions\, please contact  Director of Admissions Elizabeth Russell at erussell@cotting.org or 781.862.7323 x114.
URL:https://www.cotting.org/event/information-session-35/2024-10-25/
LOCATION:Cotting School Auditorium\, Concord Avenue\, Lexington\, MA\, 02421\, United States
CATEGORIES:General,Information Session
ORGANIZER;CN="Elizabeth Russell":MAILTO:erussell@cotting.org
GEO:42.4200019;-71.2374614
X-APPLE-STRUCTURED-LOCATION;VALUE=URI;X-ADDRESS=Cotting School Auditorium Concord Avenue Lexington MA 02421 United States;X-APPLE-RADIUS=500;X-TITLE=Concord Avenue:geo:-71.2374614,42.4200019
END:VEVENT
BEGIN:VEVENT
DTSTART;TZID=America/New_York:20241023T090000
DTEND;TZID=America/New_York:20241023T100000
DTSTAMP:20260422T064816
CREATED:20241010T211616Z
LAST-MODIFIED:20241010T211714Z
UID:10001206-1729674000-1729677600@www.cotting.org
SUMMARY:Cotting School Weekly Parent Group
DESCRIPTION:This group\, facilitated by Family Support Coordinator Pam Varrin\, meets remotely and is a regularly scheduled supportive space for Cotting parents to take a few moments for themselves\, share information\, and find connection and perspective. Join us each week\, come when you can or drop in any time to see what it’s like! \nZoom link: https://us02web.zoom.us/j/84612450285?pwd=vYnzgnUcc6Lw6vtkAbnIkLhmBas87o.1
URL:https://www.cotting.org/event/cotting-school-weekly-parent-group-2/2024-10-23/
LOCATION:Via Zoom
CATEGORIES:Parents
ATTACH;FMTTYPE=image/jpeg:https://www.cotting.org/wp-content/uploads/2024/09/unnamed-e1725651958615.jpg
ORGANIZER;CN="Pam Varrin":MAILTO:pvarrin@cotting.org
END:VEVENT
BEGIN:VEVENT
DTSTART;TZID=America/New_York:20241018T090000
DTEND;TZID=America/New_York:20241018T100000
DTSTAMP:20260422T064816
CREATED:20241010T212223Z
LAST-MODIFIED:20241010T212223Z
UID:10001172-1729242000-1729245600@www.cotting.org
SUMMARY:PAC Monthly Meeting
DESCRIPTION:The Parent Advisory Committee (PAC) serves as a source of thoughtful feedback on what parents are thinking about\, and as an important sounding board for Cotting School administrators. We are always looking to welcome new faces and input at our monthly hybrid PAC meetings\, held on a Friday every month (except in June) from 9-10 a.m. You can either attend in person in the Board Room at Cotting School or online via Zoom. \nZoom link: https://us02web.zoom.us/j/7918848936?pwd=UkUvTkdaSzNZaXBWVVlwSVVkMjYzUT09&omn=86900201828 \n  \n  \n 
URL:https://www.cotting.org/event/pac-meeting-15-2/2024-10-18/
LOCATION:Hybrid (In person and on Zoom)
CATEGORIES:Parents
ATTACH;FMTTYPE=image/png:https://www.cotting.org/wp-content/uploads/2024/09/PAC_logo-1-e1725373642770.png
ORGANIZER;CN="Pam Varrin":MAILTO:pvarrin@cotting.org
END:VEVENT
BEGIN:VEVENT
DTSTART;TZID=America/New_York:20241016T090000
DTEND;TZID=America/New_York:20241016T100000
DTSTAMP:20260422T064816
CREATED:20241010T211616Z
LAST-MODIFIED:20241010T211714Z
UID:10001205-1729069200-1729072800@www.cotting.org
SUMMARY:Cotting School Weekly Parent Group
DESCRIPTION:This group\, facilitated by Family Support Coordinator Pam Varrin\, meets remotely and is a regularly scheduled supportive space for Cotting parents to take a few moments for themselves\, share information\, and find connection and perspective. Join us each week\, come when you can or drop in any time to see what it’s like! \nZoom link: https://us02web.zoom.us/j/84612450285?pwd=vYnzgnUcc6Lw6vtkAbnIkLhmBas87o.1
URL:https://www.cotting.org/event/cotting-school-weekly-parent-group-2/2024-10-16/
LOCATION:Via Zoom
CATEGORIES:Parents
ATTACH;FMTTYPE=image/jpeg:https://www.cotting.org/wp-content/uploads/2024/09/unnamed-e1725651958615.jpg
ORGANIZER;CN="Pam Varrin":MAILTO:pvarrin@cotting.org
END:VEVENT
BEGIN:VEVENT
DTSTART;VALUE=DATE:20241014
DTEND;VALUE=DATE:20241015
DTSTAMP:20260422T064816
CREATED:20240820T132423Z
LAST-MODIFIED:20240820T133218Z
UID:10000606-1728864000-1728950399@www.cotting.org
SUMMARY:Holiday Closed: Indigenous Peoples Day
DESCRIPTION:
URL:https://www.cotting.org/event/holiday-closed-indigenous-peoples-day/
LOCATION:Massachusetts
CATEGORIES:General,Parents
END:VEVENT
BEGIN:VEVENT
DTSTART;TZID=America/New_York:20241009T180000
DTEND;TZID=America/New_York:20241009T193000
DTSTAMP:20260422T064816
CREATED:20240820T132423Z
LAST-MODIFIED:20240927T170323Z
UID:10000607-1728496800-1728502200@www.cotting.org
SUMMARY:Back to School Night
DESCRIPTION:The evening will include a chance for parents and caregivers to meet our leadership team\, dedicated time in classrooms\, an open house in our therapy department and an informational fair in the gym. If you would like to request childcare for Back to School Night\, please use this link: BTSN Childcare Request \nSchedule:\n6:00-6:20: Welcome in the Auditorium\n6:20-6:40: Lower School and Capstone to class Middle School and Upper School to OT/PT Gym for presentation.\n6:40-7:00: Middle School and Upper School to classrooms and Lower School and Capstone to\nOT /PT Gym for presentation\n7:00-7:30: Community Fair in Gym & Campus Center\nCommunity Fair \nChildcare will be in the Learning Commons \n \n 
URL:https://www.cotting.org/event/back-to-school-night-5/
LOCATION:Massachusetts
CATEGORIES:General,Parents
END:VEVENT
BEGIN:VEVENT
DTSTART;TZID=America/New_York:20241009T090000
DTEND;TZID=America/New_York:20241009T100000
DTSTAMP:20260422T064816
CREATED:20240906T194523Z
LAST-MODIFIED:20240906T194612Z
UID:10001204-1728464400-1728468000@www.cotting.org
SUMMARY:Cotting School Weekly Parent Group
DESCRIPTION:This group\, facilitated by Family Support Coordinator Pam Varrin\, meets remotely and is a regularly scheduled supportive space for Cotting parents to take a few moments for themselves\, share information\, and find connection and perspective. Join us each week\, come when you can or drop in any time to see what it’s like! A reminder and Zoom link will be sent out by email next week.
URL:https://www.cotting.org/event/cotting-school-weekly-parent-group/2024-10-09/
LOCATION:Via Zoom
CATEGORIES:Parents
ATTACH;FMTTYPE=image/jpeg:https://www.cotting.org/wp-content/uploads/2024/09/unnamed-e1725651958615.jpg
ORGANIZER;CN="Pam Varrin":MAILTO:pvarrin@cotting.org
END:VEVENT
BEGIN:VEVENT
DTSTART;TZID=America/New_York:20241004T083000
DTEND;TZID=America/New_York:20241004T093000
DTSTAMP:20260422T064816
CREATED:20240820T132423Z
LAST-MODIFIED:20240903T195407Z
UID:10001191-1728030600-1728034200@www.cotting.org
SUMMARY:PTO Monthly Meeting
DESCRIPTION:We are always looking to welcome new faces and input at our monthly hybrid PTO Board meetings\, held the first Friday of each month from 9-10 a.m. You can either attend in person in the Board Room at Cotting School or online via Zoom.
URL:https://www.cotting.org/event/pto-monthly-meeting/2024-10-04/
LOCATION:building entrance
CATEGORIES:Parents
ATTACH;FMTTYPE=image/jpeg:https://www.cotting.org/wp-content/uploads/2024/08/PTO-Logo-e1769797632927.jpeg
END:VEVENT
BEGIN:VEVENT
DTSTART;TZID=America/New_York:20241002T090000
DTEND;TZID=America/New_York:20241002T100000
DTSTAMP:20260422T064816
CREATED:20240906T194523Z
LAST-MODIFIED:20240906T194612Z
UID:10001203-1727859600-1727863200@www.cotting.org
SUMMARY:Cotting School Weekly Parent Group
DESCRIPTION:This group\, facilitated by Family Support Coordinator Pam Varrin\, meets remotely and is a regularly scheduled supportive space for Cotting parents to take a few moments for themselves\, share information\, and find connection and perspective. Join us each week\, come when you can or drop in any time to see what it’s like! A reminder and Zoom link will be sent out by email next week.
URL:https://www.cotting.org/event/cotting-school-weekly-parent-group/2024-10-02/
LOCATION:Via Zoom
CATEGORIES:Parents
ATTACH;FMTTYPE=image/jpeg:https://www.cotting.org/wp-content/uploads/2024/09/unnamed-e1725651958615.jpg
ORGANIZER;CN="Pam Varrin":MAILTO:pvarrin@cotting.org
END:VEVENT
BEGIN:VEVENT
DTSTART;TZID=America/New_York:20240927T093000
DTEND;TZID=America/New_York:20240927T110000
DTSTAMP:20260422T064816
CREATED:20240903T144522Z
LAST-MODIFIED:20240904T141031Z
UID:10001180-1727429400-1727434800@www.cotting.org
SUMMARY:Information Session
DESCRIPTION:Tour our campus\, visit our classrooms and talk to Cotting School professionals at our monthly information sessions. \nIf you plan to attend and would like to request an interpreter\, please let us know. Walk-ins are always welcome! Private tours are available by request. \nTo RSVP for an information session\, set up a private tour or get more information about admissions\, please contact  Director of Admissions Elizabeth Russell at erussell@cotting.org or 781.862.7323 x114.
URL:https://www.cotting.org/event/information-session-35/2024-09-27/
LOCATION:Cotting School Auditorium\, Concord Avenue\, Lexington\, MA\, 02421\, United States
CATEGORIES:General,Information Session
ORGANIZER;CN="Elizabeth Russell":MAILTO:erussell@cotting.org
GEO:42.4200019;-71.2374614
X-APPLE-STRUCTURED-LOCATION;VALUE=URI;X-ADDRESS=Cotting School Auditorium Concord Avenue Lexington MA 02421 United States;X-APPLE-RADIUS=500;X-TITLE=Concord Avenue:geo:-71.2374614,42.4200019
END:VEVENT
BEGIN:VEVENT
DTSTART;TZID=America/New_York:20240925T090000
DTEND;TZID=America/New_York:20240925T100000
DTSTAMP:20260422T064816
CREATED:20240906T194523Z
LAST-MODIFIED:20240906T194612Z
UID:10001202-1727254800-1727258400@www.cotting.org
SUMMARY:Cotting School Weekly Parent Group
DESCRIPTION:This group\, facilitated by Family Support Coordinator Pam Varrin\, meets remotely and is a regularly scheduled supportive space for Cotting parents to take a few moments for themselves\, share information\, and find connection and perspective. Join us each week\, come when you can or drop in any time to see what it’s like! A reminder and Zoom link will be sent out by email next week.
URL:https://www.cotting.org/event/cotting-school-weekly-parent-group/2024-09-25/
LOCATION:Via Zoom
CATEGORIES:Parents
ATTACH;FMTTYPE=image/jpeg:https://www.cotting.org/wp-content/uploads/2024/09/unnamed-e1725651958615.jpg
ORGANIZER;CN="Pam Varrin":MAILTO:pvarrin@cotting.org
END:VEVENT
BEGIN:VEVENT
DTSTART;TZID=America/New_York:20240920T090000
DTEND;TZID=America/New_York:20240920T100000
DTSTAMP:20260422T064816
CREATED:20240903T142734Z
LAST-MODIFIED:20240903T142919Z
UID:10001171-1726822800-1726826400@www.cotting.org
SUMMARY:PAC Monthly Meeting
DESCRIPTION:The Parent Advisory Committee (PAC) serves as a source of thoughtful feedback on what parents are thinking about\, and as an important sounding board for Cotting School administrators. We are always looking to welcome new faces and input at our monthly hybrid PAC meetings\, held on a Friday every month (except in June) from 9-10 a.m. You can either attend in person in the Board Room at Cotting School or online via Zoom.
URL:https://www.cotting.org/event/pac-meeting-15/
LOCATION:Hybrid (In person and on Zoom)
CATEGORIES:Parents
ATTACH;FMTTYPE=image/png:https://www.cotting.org/wp-content/uploads/2024/09/PAC_logo-1-e1725373642770.png
ORGANIZER;CN="Pam Varrin":MAILTO:pvarrin@cotting.org
END:VEVENT
BEGIN:VEVENT
DTSTART;TZID=America/New_York:20240918T090000
DTEND;TZID=America/New_York:20240918T100000
DTSTAMP:20260422T064816
CREATED:20240906T194523Z
LAST-MODIFIED:20240906T194612Z
UID:10001201-1726650000-1726653600@www.cotting.org
SUMMARY:Cotting School Weekly Parent Group
DESCRIPTION:This group\, facilitated by Family Support Coordinator Pam Varrin\, meets remotely and is a regularly scheduled supportive space for Cotting parents to take a few moments for themselves\, share information\, and find connection and perspective. Join us each week\, come when you can or drop in any time to see what it’s like! A reminder and Zoom link will be sent out by email next week.
URL:https://www.cotting.org/event/cotting-school-weekly-parent-group/2024-09-18/
LOCATION:Via Zoom
CATEGORIES:Parents
ATTACH;FMTTYPE=image/jpeg:https://www.cotting.org/wp-content/uploads/2024/09/unnamed-e1725651958615.jpg
ORGANIZER;CN="Pam Varrin":MAILTO:pvarrin@cotting.org
END:VEVENT
BEGIN:VEVENT
DTSTART;TZID=America/New_York:20240915T120000
DTEND;TZID=America/New_York:20240915T150000
DTSTAMP:20260422T064816
CREATED:20240820T132423Z
LAST-MODIFIED:20240826T141544Z
UID:10000608-1726401600-1726412400@www.cotting.org
SUMMARY:Fall Family BBQ
DESCRIPTION:Delicious BBQ food\, raffles\, merch sales\, fun and games! The BBQ was a great way to start off the school year and a perfect opportunity to meet and spend time with new\, current and alumni Cotting families. Be on the lookout for more details and ways to volunteer for this fall’s BBQ.
URL:https://www.cotting.org/event/fall-family-bbq-2/
LOCATION:Massachusetts
CATEGORIES:Parents
END:VEVENT
BEGIN:VEVENT
DTSTART;TZID=America/New_York:20240911T090000
DTEND;TZID=America/New_York:20240911T100000
DTSTAMP:20260422T064816
CREATED:20240906T194523Z
LAST-MODIFIED:20240906T194612Z
UID:10001200-1726045200-1726048800@www.cotting.org
SUMMARY:Cotting School Weekly Parent Group
DESCRIPTION:This group\, facilitated by Family Support Coordinator Pam Varrin\, meets remotely and is a regularly scheduled supportive space for Cotting parents to take a few moments for themselves\, share information\, and find connection and perspective. Join us each week\, come when you can or drop in any time to see what it’s like! A reminder and Zoom link will be sent out by email next week.
URL:https://www.cotting.org/event/cotting-school-weekly-parent-group/2024-09-11/
LOCATION:Via Zoom
CATEGORIES:Parents
ATTACH;FMTTYPE=image/jpeg:https://www.cotting.org/wp-content/uploads/2024/09/unnamed-e1725651958615.jpg
ORGANIZER;CN="Pam Varrin":MAILTO:pvarrin@cotting.org
END:VEVENT
BEGIN:VEVENT
DTSTART;TZID=America/New_York:20240906T083000
DTEND;TZID=America/New_York:20240906T093000
DTSTAMP:20260422T064816
CREATED:20240820T132423Z
LAST-MODIFIED:20240903T195407Z
UID:10001190-1725611400-1725615000@www.cotting.org
SUMMARY:PTO Monthly Meeting
DESCRIPTION:We are always looking to welcome new faces and input at our monthly hybrid PTO Board meetings\, held the first Friday of each month from 9-10 a.m. You can either attend in person in the Board Room at Cotting School or online via Zoom.
URL:https://www.cotting.org/event/pto-monthly-meeting/2024-09-06/
LOCATION:building entrance
CATEGORIES:Parents
ATTACH;FMTTYPE=image/jpeg:https://www.cotting.org/wp-content/uploads/2024/08/PTO-Logo-e1769797632927.jpeg
END:VEVENT
BEGIN:VEVENT
DTSTART;VALUE=DATE:20240902
DTEND;VALUE=DATE:20240903
DTSTAMP:20260422T064816
CREATED:20240820T132423Z
LAST-MODIFIED:20240820T133229Z
UID:10000619-1725235200-1725321599@www.cotting.org
SUMMARY:Holiday Closed: Labor Day Weekend
DESCRIPTION:
URL:https://www.cotting.org/event/holiday-closed-labor-day-weekend-2/
LOCATION:Massachusetts
CATEGORIES:General,Parents
END:VEVENT
BEGIN:VEVENT
DTSTART;VALUE=DATE:20240830
DTEND;VALUE=DATE:20240831
DTSTAMP:20260422T064816
CREATED:20240820T132423Z
LAST-MODIFIED:20240820T133231Z
UID:10000589-1724976000-1725062399@www.cotting.org
SUMMARY:Holiday Closed: Labor Day Weekend
DESCRIPTION:
URL:https://www.cotting.org/event/holiday-closed-labor-day-weekend/
LOCATION:Massachusetts
CATEGORIES:General,Parents
END:VEVENT
BEGIN:VEVENT
DTSTART;TZID=America/New_York:20240828T080000
DTEND;TZID=America/New_York:20240828T131500
DTSTAMP:20260422T064816
CREATED:20240820T132423Z
LAST-MODIFIED:20240820T133232Z
UID:10000588-1724832000-1724850900@www.cotting.org
SUMMARY:First Day of School
DESCRIPTION:Wednesday \nArrival: 8 a.m. \nDismissal: 1:15 p.m. \n  \nMonday\, Tuesday\, Thursday & Friday \n\nArrival 8 a.m.\nUpper School & Capstone start at 8:15 a.m.\nLower School & Middle School start at 8:30 a.m.\nDismissal 2:50 p.m.
URL:https://www.cotting.org/event/first-day-of-school-6/
LOCATION:Massachusetts
CATEGORIES:General,Parents
END:VEVENT
BEGIN:VEVENT
DTSTART;TZID=America/New_York:20240826T080000
DTEND;TZID=America/New_York:20240827T160000
DTSTAMP:20260422T064816
CREATED:20240820T132422Z
LAST-MODIFIED:20240822T120634Z
UID:10000620-1724659200-1724774400@www.cotting.org
SUMMARY:Staff & Faculty Orientation
DESCRIPTION:
URL:https://www.cotting.org/event/staff-faculty-orientation/
LOCATION:Massachusetts
CATEGORIES:General,Parents
END:VEVENT
BEGIN:VEVENT
DTSTART;TZID=America/New_York:20240809T083000
DTEND;TZID=America/New_York:20240809T140000
DTSTAMP:20260422T064816
CREATED:20240820T132422Z
LAST-MODIFIED:20240820T133236Z
UID:10000574-1723192200-1723212000@www.cotting.org
SUMMARY:Last Day of Summer Term (Extended School Year)
DESCRIPTION:
URL:https://www.cotting.org/event/last-day-of-summer-term-extended-school-year/
LOCATION:Massachusetts
CATEGORIES:General,Parents
END:VEVENT
BEGIN:VEVENT
DTSTART;TZID=America/New_York:20240708T083000
DTEND;TZID=America/New_York:20240708T140000
DTSTAMP:20260422T064816
CREATED:20240820T132422Z
LAST-MODIFIED:20240820T133238Z
UID:10000621-1720427400-1720447200@www.cotting.org
SUMMARY:First Day of Summer Term (Extended School Year)
DESCRIPTION:Arrival 8:30 a.m. \nDismissal 2 p.m.
URL:https://www.cotting.org/event/first-day-of-summer-term-extended-school-year/
LOCATION:Massachusetts
CATEGORIES:General,Parents
END:VEVENT
BEGIN:VEVENT
DTSTART;VALUE=DATE:20240704
DTEND;VALUE=DATE:20240705
DTSTAMP:20260422T064816
CREATED:20240820T132422Z
LAST-MODIFIED:20240820T133240Z
UID:10000622-1720051200-1720137599@www.cotting.org
SUMMARY:Holiday Closed: July 4
DESCRIPTION:
URL:https://www.cotting.org/event/holiday-closed-july-4/
LOCATION:Massachusetts
CATEGORIES:General,Parents
END:VEVENT
BEGIN:VEVENT
DTSTART;VALUE=DATE:20240619
DTEND;VALUE=DATE:20240620
DTSTAMP:20260422T064816
CREATED:20240820T132422Z
LAST-MODIFIED:20240820T133242Z
UID:10000623-1718755200-1718841599@www.cotting.org
SUMMARY:Holiday Closed: Juneteenth
DESCRIPTION:
URL:https://www.cotting.org/event/holiday-closed-juneteenth-2/
LOCATION:Massachusetts
CATEGORIES:General,Parents
END:VEVENT
BEGIN:VEVENT
DTSTART;TZID=America/New_York:20240613T080000
DTEND;TZID=America/New_York:20240613T110000
DTSTAMP:20260422T064816
CREATED:20240820T132422Z
LAST-MODIFIED:20240820T133243Z
UID:10000624-1718265600-1718276400@www.cotting.org
SUMMARY:Last Day of School
DESCRIPTION:
URL:https://www.cotting.org/event/last-day-of-school-3/
LOCATION:Magazine Image
CATEGORIES:General
END:VEVENT
BEGIN:VEVENT
DTSTART;TZID=America/New_York:20240607T083000
DTEND;TZID=America/New_York:20240607T100000
DTSTAMP:20260422T064816
CREATED:20240820T132422Z
LAST-MODIFIED:20240826T141631Z
UID:10000625-1717749000-1717754400@www.cotting.org
SUMMARY:PTO Meeting
DESCRIPTION:One more meeting! \nOur last PTO meeting of the year is scheduled for:\nFriday\, June 7\, 2024\, 8:30-10 a.m. \nIn person in the Board Room and on Zoom. A draft agenda and link for joining online will be sent by email.
URL:https://www.cotting.org/event/pto-meeting-11/
LOCATION:Massachusetts
CATEGORIES:General,Parents
END:VEVENT
BEGIN:VEVENT
DTSTART;TZID=America/New_York:20240601T093000
DTEND;TZID=America/New_York:20240601T103000
DTSTAMP:20260422T064816
CREATED:20240820T132422Z
LAST-MODIFIED:20240820T133247Z
UID:10000626-1717234200-1717237800@www.cotting.org
SUMMARY:Graduation
DESCRIPTION:
URL:https://www.cotting.org/event/graduation-3/
LOCATION:Massachusetts
CATEGORIES:General,Parents
END:VEVENT
BEGIN:VEVENT
DTSTART;TZID=America/New_York:20240531T093000
DTEND;TZID=America/New_York:20240531T110000
DTSTAMP:20260422T064816
CREATED:20240820T132421Z
LAST-MODIFIED:20240820T133540Z
UID:10000675-1717147800-1717153200@www.cotting.org
SUMMARY:Information Session
DESCRIPTION:Tour our campus\, visit our classrooms and talk to Cotting School professionals at one of our upcoming information sessions\, where we’ll talk about: \n\nCotting School - Day program for ages 3-22\nExtended-Year Academic Programs and Summer Enrichment Options\nCotting Consulting  – Providing technology solutions for students in their school environments\nAll of the new initiatives at Cotting School \n\nTime: 9:30 am – 11:00 am \nPlace: Cotting School\, 453 Concord Avenue\, Lexington\, MA \nIf you plan to attend and would like to request an interpreter\, please let us know. Walk-ins are always welcome and private tours are available by request. If you are unable to visit us in person\, you can also take a virtual tour. To RSVP for an info session\,  set up a private tour or get the password to view our virtual tour\, please contact Elizabeth Russell at erussell@cotting.org or 781-862-7323 ext. 114.
URL:https://www.cotting.org/event/information-session-34/2024-05-31/
LOCATION:Massachusetts
CATEGORIES:General,Information Session
END:VEVENT
BEGIN:VEVENT
DTSTART;VALUE=DATE:20240527
DTEND;VALUE=DATE:20240528
DTSTAMP:20260422T064816
CREATED:20240820T132422Z
LAST-MODIFIED:20240820T133248Z
UID:10000627-1716768000-1716854399@www.cotting.org
SUMMARY:Memorial Day
DESCRIPTION:School closed
URL:https://www.cotting.org/event/memorial-day/
LOCATION:Massachusetts
CATEGORIES:General
END:VEVENT
BEGIN:VEVENT
DTSTART;TZID=America/New_York:20240524T090000
DTEND;TZID=America/New_York:20240524T100000
DTSTAMP:20260422T064816
CREATED:20240820T132422Z
LAST-MODIFIED:20240826T141049Z
UID:10000628-1716541200-1716544800@www.cotting.org
SUMMARY:PAC Meeting
DESCRIPTION:Our last Parent Advisory Committee (PAC) meeting of the year is scheduled for: \nFriday\, May 24\, 2024\, 9-10 a.m. \nThe meeting will take place in person in the Board Room and on Zoom. A draft agenda and link for joining online will be sent by email.
URL:https://www.cotting.org/event/pac-meeting-14-2/
LOCATION:Massachusetts
CATEGORIES:General,Parents
END:VEVENT
END:VCALENDAR