BEGIN:VCALENDAR
VERSION:2.0
PRODID:-//Cotting School - ECPv6.15.20//NONSGML v1.0//EN
CALSCALE:GREGORIAN
METHOD:PUBLISH
X-ORIGINAL-URL:https://www.cotting.org
X-WR-CALDESC:Events for Cotting School
REFRESH-INTERVAL;VALUE=DURATION:PT1H
X-Robots-Tag:noindex
X-PUBLISHED-TTL:PT1H
BEGIN:VTIMEZONE
TZID:America/New_York
BEGIN:DAYLIGHT
TZOFFSETFROM:-0500
TZOFFSETTO:-0400
TZNAME:EDT
DTSTART:20220313T070000
END:DAYLIGHT
BEGIN:STANDARD
TZOFFSETFROM:-0400
TZOFFSETTO:-0500
TZNAME:EST
DTSTART:20221106T060000
END:STANDARD
BEGIN:DAYLIGHT
TZOFFSETFROM:-0500
TZOFFSETTO:-0400
TZNAME:EDT
DTSTART:20230312T070000
END:DAYLIGHT
BEGIN:STANDARD
TZOFFSETFROM:-0400
TZOFFSETTO:-0500
TZNAME:EST
DTSTART:20231105T060000
END:STANDARD
BEGIN:DAYLIGHT
TZOFFSETFROM:-0500
TZOFFSETTO:-0400
TZNAME:EDT
DTSTART:20240310T070000
END:DAYLIGHT
BEGIN:STANDARD
TZOFFSETFROM:-0400
TZOFFSETTO:-0500
TZNAME:EST
DTSTART:20241103T060000
END:STANDARD
END:VTIMEZONE
BEGIN:VEVENT
DTSTART;TZID=America/New_York:20230724T080000
DTEND;TZID=America/New_York:20230724T140000
DTSTAMP:20260424T212037
CREATED:20240820T132421Z
LAST-MODIFIED:20240820T133555Z
UID:10000692-1690185600-1690207200@www.cotting.org
SUMMARY:Summer School 2023
DESCRIPTION:Extended School Year 2023 \n8:00am – 2:00pm
URL:https://www.cotting.org/event/summer-school-2023/2023-07-24/
CATEGORIES:General
END:VEVENT
BEGIN:VEVENT
DTSTART;TZID=America/New_York:20230721T080000
DTEND;TZID=America/New_York:20230721T140000
DTSTAMP:20260424T212037
CREATED:20240820T132421Z
LAST-MODIFIED:20240820T133555Z
UID:10000691-1689926400-1689948000@www.cotting.org
SUMMARY:Summer School 2023
DESCRIPTION:Extended School Year 2023 \n8:00am – 2:00pm
URL:https://www.cotting.org/event/summer-school-2023/2023-07-21/
CATEGORIES:General
END:VEVENT
BEGIN:VEVENT
DTSTART;TZID=America/New_York:20230720T080000
DTEND;TZID=America/New_York:20230720T140000
DTSTAMP:20260424T212037
CREATED:20240820T132421Z
LAST-MODIFIED:20240820T133555Z
UID:10000690-1689840000-1689861600@www.cotting.org
SUMMARY:Summer School 2023
DESCRIPTION:Extended School Year 2023 \n8:00am – 2:00pm
URL:https://www.cotting.org/event/summer-school-2023/2023-07-20/
CATEGORIES:General
END:VEVENT
BEGIN:VEVENT
DTSTART;TZID=America/New_York:20230719T080000
DTEND;TZID=America/New_York:20230719T140000
DTSTAMP:20260424T212038
CREATED:20240820T132421Z
LAST-MODIFIED:20240820T133555Z
UID:10000689-1689753600-1689775200@www.cotting.org
SUMMARY:Summer School 2023
DESCRIPTION:Extended School Year 2023 \n8:00am – 2:00pm
URL:https://www.cotting.org/event/summer-school-2023/2023-07-19/
CATEGORIES:General
END:VEVENT
BEGIN:VEVENT
DTSTART;TZID=America/New_York:20230718T080000
DTEND;TZID=America/New_York:20230718T140000
DTSTAMP:20260424T212038
CREATED:20240820T132421Z
LAST-MODIFIED:20240820T133555Z
UID:10000688-1689667200-1689688800@www.cotting.org
SUMMARY:Summer School 2023
DESCRIPTION:Extended School Year 2023 \n8:00am – 2:00pm
URL:https://www.cotting.org/event/summer-school-2023/2023-07-18/
CATEGORIES:General
END:VEVENT
BEGIN:VEVENT
DTSTART;TZID=America/New_York:20230717T080000
DTEND;TZID=America/New_York:20230717T140000
DTSTAMP:20260424T212038
CREATED:20240820T132421Z
LAST-MODIFIED:20240820T133555Z
UID:10000687-1689580800-1689602400@www.cotting.org
SUMMARY:Summer School 2023
DESCRIPTION:Extended School Year 2023 \n8:00am – 2:00pm
URL:https://www.cotting.org/event/summer-school-2023/2023-07-17/
CATEGORIES:General
END:VEVENT
BEGIN:VEVENT
DTSTART;TZID=America/New_York:20230714T080000
DTEND;TZID=America/New_York:20230714T140000
DTSTAMP:20260424T212038
CREATED:20240820T132421Z
LAST-MODIFIED:20240820T133555Z
UID:10000686-1689321600-1689343200@www.cotting.org
SUMMARY:Summer School 2023
DESCRIPTION:Extended School Year 2023 \n8:00am – 2:00pm
URL:https://www.cotting.org/event/summer-school-2023/2023-07-14/
CATEGORIES:General
END:VEVENT
BEGIN:VEVENT
DTSTART;TZID=America/New_York:20230713T080000
DTEND;TZID=America/New_York:20230713T140000
DTSTAMP:20260424T212038
CREATED:20240820T132421Z
LAST-MODIFIED:20240820T133555Z
UID:10000685-1689235200-1689256800@www.cotting.org
SUMMARY:Summer School 2023
DESCRIPTION:Extended School Year 2023 \n8:00am – 2:00pm
URL:https://www.cotting.org/event/summer-school-2023/2023-07-13/
CATEGORIES:General
END:VEVENT
BEGIN:VEVENT
DTSTART;TZID=America/New_York:20230712T080000
DTEND;TZID=America/New_York:20230712T140000
DTSTAMP:20260424T212038
CREATED:20240820T132421Z
LAST-MODIFIED:20240820T133555Z
UID:10000684-1689148800-1689170400@www.cotting.org
SUMMARY:Summer School 2023
DESCRIPTION:Extended School Year 2023 \n8:00am – 2:00pm
URL:https://www.cotting.org/event/summer-school-2023/2023-07-12/
CATEGORIES:General
END:VEVENT
BEGIN:VEVENT
DTSTART;TZID=America/New_York:20230711T080000
DTEND;TZID=America/New_York:20230711T140000
DTSTAMP:20260424T212038
CREATED:20240820T132421Z
LAST-MODIFIED:20240820T133555Z
UID:10000683-1689062400-1689084000@www.cotting.org
SUMMARY:Summer School 2023
DESCRIPTION:Extended School Year 2023 \n8:00am – 2:00pm
URL:https://www.cotting.org/event/summer-school-2023/2023-07-11/
CATEGORIES:General
END:VEVENT
BEGIN:VEVENT
DTSTART;TZID=America/New_York:20230710T080000
DTEND;TZID=America/New_York:20230710T140000
DTSTAMP:20260424T212038
CREATED:20240820T132421Z
LAST-MODIFIED:20240820T133555Z
UID:10000682-1688976000-1688997600@www.cotting.org
SUMMARY:Summer School 2023
DESCRIPTION:Extended School Year 2023 \n8:00am – 2:00pm
URL:https://www.cotting.org/event/summer-school-2023/2023-07-10/
CATEGORIES:General
END:VEVENT
BEGIN:VEVENT
DTSTART;VALUE=DATE:20230704
DTEND;VALUE=DATE:20230705
DTSTAMP:20260424T212038
CREATED:20240820T132421Z
LAST-MODIFIED:20240820T133556Z
UID:10000707-1688428800-1688515199@www.cotting.org
SUMMARY:July 4th Holiday
DESCRIPTION:School Closed
URL:https://www.cotting.org/event/july-4th-holiday-2/
CATEGORIES:General
END:VEVENT
BEGIN:VEVENT
DTSTART;VALUE=DATE:20230619
DTEND;VALUE=DATE:20230620
DTSTAMP:20260424T212038
CREATED:20240820T132421Z
LAST-MODIFIED:20240820T133558Z
UID:10000708-1687132800-1687219199@www.cotting.org
SUMMARY:Juneteenth Holiday
DESCRIPTION:School Closed
URL:https://www.cotting.org/event/juneteenth-holiday/
CATEGORIES:General
END:VEVENT
BEGIN:VEVENT
DTSTART;TZID=America/New_York:20230611T130000
DTEND;TZID=America/New_York:20230611T170000
DTSTAMP:20260424T212038
CREATED:20240820T132421Z
LAST-MODIFIED:20240820T133601Z
UID:10000709-1686488400-1686502800@www.cotting.org
SUMMARY:Parent & Staff Social: Cornhole Tournament
DESCRIPTION:This is an “adults only” event to provide an opportunity for Cotting parents/guardians and staff to get together and socialize in a relaxed way. The cornhole games will be run by an outside organization\, Wicked Cornhole\, and there will be a food truck and beer truck for refreshments for the participants. \nDate: Sunday\, June 11\, 2023 \nTime: 1-5 p.m. \nLocation: Outdoors at Cotting School
URL:https://www.cotting.org/event/parent-staff-social-cornhole-tournament/
LOCATION:Magazine Image
CATEGORIES:Parents
END:VEVENT
BEGIN:VEVENT
DTSTART;TZID=America/New_York:20230603T090000
DTEND;TZID=America/New_York:20230603T113000
DTSTAMP:20260424T212038
CREATED:20240820T132421Z
LAST-MODIFIED:20240820T133603Z
UID:10000710-1685782800-1685791800@www.cotting.org
SUMMARY:Graduation 2023
DESCRIPTION:Family and friends are invited to celebrate our graduating seniors at a commencement ceremony on June 3\, 2023\, in the Cotting School Campus Center. Doors will open at 9 a.m. and the ceremony will begin at 9:30 a.m.
URL:https://www.cotting.org/event/graduation-2023/
CATEGORIES:Parents
END:VEVENT
BEGIN:VEVENT
DTSTART;TZID=America/New_York:20230602T083000
DTEND;TZID=America/New_York:20230602T093000
DTSTAMP:20260424T212038
CREATED:20240820T132420Z
LAST-MODIFIED:20240826T141726Z
UID:10000754-1685694600-1685698200@www.cotting.org
SUMMARY:PTO Meeting
DESCRIPTION:The Cotting School PTO welcomes new members throughout the year and encourages you to join us by attending any of our meetings\, which take place the first Friday of every month from 8:30-9:30 a.m. in a conference room at Cotting School or on Zoom using this link. We hope to see you there!
URL:https://www.cotting.org/event/pto-meeting-9/2023-06-02/
LOCATION:Magazine Image
CATEGORIES:Parents
END:VEVENT
BEGIN:VEVENT
DTSTART;TZID=America/New_York:20230531T180000
DTEND;TZID=America/New_York:20230531T193000
DTSTAMP:20260424T212038
CREATED:20240820T132421Z
LAST-MODIFIED:20240826T144358Z
UID:10000711-1685556000-1685561400@www.cotting.org
SUMMARY:Cotting School Art Show
DESCRIPTION:Please join us for a celebration of creativity and artistic expression! Student artwork\, sustainability projects and more will be on display. All are welcome! \n\nDate: Wednesday\, May 31\, 2023\nTime: 6-7:30 p.m.\nLocation: Cotting School Campus Center\n\nSponsored by:
URL:https://www.cotting.org/event/annual-art-show/
CATEGORIES:General,Parents
END:VEVENT
BEGIN:VEVENT
DTSTART;VALUE=DATE:20230529
DTEND;VALUE=DATE:20230530
DTSTAMP:20260424T212038
CREATED:20240820T132421Z
LAST-MODIFIED:20240820T133611Z
UID:10000712-1685318400-1685404799@www.cotting.org
SUMMARY:Memorial Day Holiday
DESCRIPTION:School Closed
URL:https://www.cotting.org/event/memorial-day-holiday-2/
CATEGORIES:General
END:VEVENT
BEGIN:VEVENT
DTSTART;TZID=America/New_York:20230524T090000
DTEND;TZID=America/New_York:20230524T103000
DTSTAMP:20260424T212038
CREATED:20240820T132421Z
LAST-MODIFIED:20240820T133613Z
UID:10000713-1684918800-1684924200@www.cotting.org
SUMMARY:Project Bridges Employer Appreciation Breakfast
DESCRIPTION:We look forward to bringing together students\, parents\, employers and staff to celebrate the Project Bridges program and provide recognition and appreciation for the employers that host our student-workers. More information to come!
URL:https://www.cotting.org/event/project-bridges-employer-appreciation-breakfast/
END:VEVENT
BEGIN:VEVENT
DTSTART;TZID=America/New_York:20230521T120000
DTEND;TZID=America/New_York:20230521T140000
DTSTAMP:20260424T212038
CREATED:20240820T132421Z
LAST-MODIFIED:20240826T143059Z
UID:10000714-1684670400-1684677600@www.cotting.org
SUMMARY:Alumni Reunion 2023
DESCRIPTION:We look forward to hosting alumni and their guests for fun\, food and time with friends. Click HERE to register and submit your update for the next LinkUs alumni newsletter. You may also send submissions directly to Mike Drew at mdrew@cotting.org. \nIf you have questions\, reach out to Carly Churchill at cchurchill@cotting.org.
URL:https://www.cotting.org/event/alumni-reunion-2023/
CATEGORIES:General
END:VEVENT
BEGIN:VEVENT
DTSTART;TZID=America/New_York:20230519T093000
DTEND;TZID=America/New_York:20230519T110000
DTSTAMP:20260424T212038
CREATED:20240820T132420Z
LAST-MODIFIED:20240820T140116Z
UID:10000765-1684488600-1684494000@www.cotting.org
SUMMARY:Information Session
DESCRIPTION:Tour our campus\, visit our classrooms and talk to Cotting School professionals at one of our upcoming information sessions\, where we’ll talk about: \n\nCotting School - Day program for ages 3-22\nExtended-Year Academic Programs and Summer Enrichment Options\nCotting Consulting  – Providing technology solutions for students in their school environments\nAll of the new initiatives at Cotting School \n\nTime: 9:30 am – 11:00 am \nPlace: Cotting School\, 453 Concord Avenue\, Lexington\, MA \nIf you plan to attend and would like to request an interpreter\, please let us know. Walk-ins are always welcome and private tours are available by request. If you are unable to visit us in person\, you can also take a virtual tour. To RSVP for an info session\,  set up a private tour or get the password to view our virtual tour\, please contact Elizabeth Russell at erussell@cotting.org or 781-862-7323 ext. 114.
URL:https://www.cotting.org/event/information-session-33/2023-05-19/
CATEGORIES:Information Session
END:VEVENT
BEGIN:VEVENT
DTSTART;TZID=America/New_York:20230505T083000
DTEND;TZID=America/New_York:20230505T093000
DTSTAMP:20260424T212038
CREATED:20240820T132420Z
LAST-MODIFIED:20240826T141726Z
UID:10000753-1683275400-1683279000@www.cotting.org
SUMMARY:PTO Meeting
DESCRIPTION:The Cotting School PTO welcomes new members throughout the year and encourages you to join us by attending any of our meetings\, which take place the first Friday of every month from 8:30-9:30 a.m. in a conference room at Cotting School or on Zoom using this link. We hope to see you there!
URL:https://www.cotting.org/event/pto-meeting-9/2023-05-05/
LOCATION:Magazine Image
CATEGORIES:Parents
END:VEVENT
BEGIN:VEVENT
DTSTART;TZID=America/New_York:20230428T093000
DTEND;TZID=America/New_York:20230428T110000
DTSTAMP:20260424T212038
CREATED:20240820T132420Z
LAST-MODIFIED:20240820T140116Z
UID:10000764-1682674200-1682679600@www.cotting.org
SUMMARY:Information Session
DESCRIPTION:Tour our campus\, visit our classrooms and talk to Cotting School professionals at one of our upcoming information sessions\, where we’ll talk about: \n\nCotting School - Day program for ages 3-22\nExtended-Year Academic Programs and Summer Enrichment Options\nCotting Consulting  – Providing technology solutions for students in their school environments\nAll of the new initiatives at Cotting School \n\nTime: 9:30 am – 11:00 am \nPlace: Cotting School\, 453 Concord Avenue\, Lexington\, MA \nIf you plan to attend and would like to request an interpreter\, please let us know. Walk-ins are always welcome and private tours are available by request. If you are unable to visit us in person\, you can also take a virtual tour. To RSVP for an info session\,  set up a private tour or get the password to view our virtual tour\, please contact Elizabeth Russell at erussell@cotting.org or 781-862-7323 ext. 114.
URL:https://www.cotting.org/event/information-session-33/2023-04-28/
CATEGORIES:Information Session
END:VEVENT
BEGIN:VEVENT
DTSTART;VALUE=DATE:20230421
DTEND;VALUE=DATE:20230422
DTSTAMP:20260424T212038
CREATED:20240820T132420Z
LAST-MODIFIED:20240820T133617Z
UID:10000719-1682035200-1682121599@www.cotting.org
SUMMARY:April Recess
DESCRIPTION:School Closed
URL:https://www.cotting.org/event/april-recess/2023-04-21/
CATEGORIES:General
END:VEVENT
BEGIN:VEVENT
DTSTART;VALUE=DATE:20230420
DTEND;VALUE=DATE:20230421
DTSTAMP:20260424T212038
CREATED:20240820T132420Z
LAST-MODIFIED:20240820T133617Z
UID:10000718-1681948800-1682035199@www.cotting.org
SUMMARY:April Recess
DESCRIPTION:School Closed
URL:https://www.cotting.org/event/april-recess/2023-04-20/
CATEGORIES:General
END:VEVENT
BEGIN:VEVENT
DTSTART;VALUE=DATE:20230419
DTEND;VALUE=DATE:20230420
DTSTAMP:20260424T212038
CREATED:20240820T132420Z
LAST-MODIFIED:20240820T133617Z
UID:10000717-1681862400-1681948799@www.cotting.org
SUMMARY:April Recess
DESCRIPTION:School Closed
URL:https://www.cotting.org/event/april-recess/2023-04-19/
CATEGORIES:General
END:VEVENT
BEGIN:VEVENT
DTSTART;VALUE=DATE:20230418
DTEND;VALUE=DATE:20230419
DTSTAMP:20260424T212038
CREATED:20240820T132420Z
LAST-MODIFIED:20240820T133617Z
UID:10000716-1681776000-1681862399@www.cotting.org
SUMMARY:April Recess
DESCRIPTION:School Closed
URL:https://www.cotting.org/event/april-recess/2023-04-18/
CATEGORIES:General
END:VEVENT
BEGIN:VEVENT
DTSTART;VALUE=DATE:20230417
DTEND;VALUE=DATE:20230418
DTSTAMP:20260424T212038
CREATED:20240820T132420Z
LAST-MODIFIED:20240820T133617Z
UID:10000715-1681689600-1681775999@www.cotting.org
SUMMARY:April Recess
DESCRIPTION:School Closed
URL:https://www.cotting.org/event/april-recess/2023-04-17/
CATEGORIES:General
END:VEVENT
BEGIN:VEVENT
DTSTART;TZID=America/New_York:20230413T180000
DTEND;TZID=America/New_York:20230413T210000
DTSTAMP:20260424T212038
CREATED:20240820T132420Z
LAST-MODIFIED:20240826T144553Z
UID:10000720-1681408800-1681419600@www.cotting.org
SUMMARY:Play It Forward Fundraiser featuring Falcon Trivia
DESCRIPTION:Join us for an evening of fun & games to benefit Cotting!\nThursday\, April 13\, 2023\, 6-9 p.m. | Trivia begins at 7:30 p.m.\nCotting School Campus Center\, 453 Concord Avenue\, Lexington\, MA\n  \nPlease note\, as of April 7\, TRIVIA IS SOLD OUT!\nGeneral Admission tickets are still available.\nThanks for your support and understanding!\nThink you can beat last year’s Falcon Trivia winners? Here’s your chance! \nGather your friends and colleagues for the annual Cotting School event that puts the “fun” in fundraising. In addition to team trivia\, you’ll also have the opportunity to play Plinko\, candlepin bowling and other forms of entertainment. Peruse the silent auction\, take a chance on our raffle (we’ve got some great prizes!) and enjoy complimentary food\, local beer and beverages. All proceeds from this event will go to support Falcons sports programs and after school activities. Please note this is an adults only event.\n\nFeatured Raffle & Auction Items:\nRed Sox Tickets\nFishing Charter on FV Darkhorse in Newburyport\nCheese Cave Tour & Tasting at Formaggio\nMighty Squirrel beer & taproom gift card\nRestaurant Giftcards\nSigned Bruins Puck\nSigned Red Sox Baseball\nExclusive Golf Course Access\nWHOOP Strap & 12-month Membership\nOne-Night Stay at Revolution Hotel\, Boston\n$250 Gift Card to Bella Sante Spa\nAnd more! \nSave your spot today by completing the form below! \n\n$50 General Admission\nIncludes delicious food and local beer and beverages\, access to raffle prizes\, silent auction\, Plinko\, and candlepin bowling! Trivia not included.\n \nSOLD OUT $1000 Premier Trivia Team (2-8 people per team)\nIncludes all General Admission benefits\, plus 5 raffle tickets per team member\, a listing on the event webpage\, shout out during the event and recognition on our social media accounts. *All but $40 per team member is tax deductible*\n \nSOLD OUT $500 Supporter Trivia Team (2-8 people per team)\nIncludes all General Admission benefits\, plus a listing on the event webpage. *All but $40 per team member is tax deductible*\n \nSOLD OUT $75 Solo Trivia Player\nIncludes all General Admission benefits.*$35 is tax deductible* \n\nOther ways to participate:\n1. Become a sponsor by making a donation to support this event\n2. Donate the admission fee for a team of staff or Cotting families (fully tax deductible)\n3. Provide a raffle or silent auction item (sports tickets\, a vacation home\, special gift basket\, gift certificate\, etc.)\n4. Share our event posts on social media \nIf you have questions or would like to support this event with a general donation or in-kind donation for the raffle/silent auction\, please contact Associate Director of Advancement Carly Churchill at 781-325-7997 or cchurchill@cotting.org. \nPlease select a valid form\nEvent Supporters\n  \n \n\n\n\n\n 
URL:https://www.cotting.org/event/playitforward2023/
CATEGORIES:General
ATTACH;FMTTYPE=image/jpeg:https://www.cotting.org/wp-content/uploads/2023/01/PLAYitFORWARD-logo-1-e1675367111430.jpg
END:VEVENT
BEGIN:VEVENT
DTSTART;TZID=America/New_York:20230407T083000
DTEND;TZID=America/New_York:20230407T093000
DTSTAMP:20260424T212038
CREATED:20240820T132420Z
LAST-MODIFIED:20240826T141726Z
UID:10000752-1680856200-1680859800@www.cotting.org
SUMMARY:PTO Meeting
DESCRIPTION:The Cotting School PTO welcomes new members throughout the year and encourages you to join us by attending any of our meetings\, which take place the first Friday of every month from 8:30-9:30 a.m. in a conference room at Cotting School or on Zoom using this link. We hope to see you there!
URL:https://www.cotting.org/event/pto-meeting-9/2023-04-07/
LOCATION:Magazine Image
CATEGORIES:Parents
END:VEVENT
END:VCALENDAR