BEGIN:VCALENDAR
VERSION:2.0
PRODID:-//Cotting School - ECPv6.15.20//NONSGML v1.0//EN
CALSCALE:GREGORIAN
METHOD:PUBLISH
X-WR-CALNAME:Cotting School
X-ORIGINAL-URL:https://www.cotting.org
X-WR-CALDESC:Events for Cotting School
REFRESH-INTERVAL;VALUE=DURATION:PT1H
X-Robots-Tag:noindex
X-PUBLISHED-TTL:PT1H
BEGIN:VTIMEZONE
TZID:America/New_York
BEGIN:DAYLIGHT
TZOFFSETFROM:-0500
TZOFFSETTO:-0400
TZNAME:EDT
DTSTART:20240310T070000
END:DAYLIGHT
BEGIN:STANDARD
TZOFFSETFROM:-0400
TZOFFSETTO:-0500
TZNAME:EST
DTSTART:20241103T060000
END:STANDARD
BEGIN:DAYLIGHT
TZOFFSETFROM:-0500
TZOFFSETTO:-0400
TZNAME:EDT
DTSTART:20250309T070000
END:DAYLIGHT
BEGIN:STANDARD
TZOFFSETFROM:-0400
TZOFFSETTO:-0500
TZNAME:EST
DTSTART:20251102T060000
END:STANDARD
BEGIN:DAYLIGHT
TZOFFSETFROM:-0500
TZOFFSETTO:-0400
TZNAME:EDT
DTSTART:20260308T070000
END:DAYLIGHT
BEGIN:STANDARD
TZOFFSETFROM:-0400
TZOFFSETTO:-0500
TZNAME:EST
DTSTART:20261101T060000
END:STANDARD
END:VTIMEZONE
BEGIN:VEVENT
DTSTART;TZID=America/New_York:20250402T090000
DTEND;TZID=America/New_York:20250402T100000
DTSTAMP:20260421T202015
CREATED:20241010T211616Z
LAST-MODIFIED:20241010T211714Z
UID:10001229-1743584400-1743588000@www.cotting.org
SUMMARY:Cotting School Weekly Parent Group
DESCRIPTION:This group\, facilitated by Family Support Coordinator Pam Varrin\, meets remotely and is a regularly scheduled supportive space for Cotting parents to take a few moments for themselves\, share information\, and find connection and perspective. Join us each week\, come when you can or drop in any time to see what it’s like! \nZoom link: https://us02web.zoom.us/j/84612450285?pwd=vYnzgnUcc6Lw6vtkAbnIkLhmBas87o.1
URL:https://www.cotting.org/event/cotting-school-weekly-parent-group-2/2025-04-02/
LOCATION:Via Zoom
CATEGORIES:Parents
ATTACH;FMTTYPE=image/jpeg:https://www.cotting.org/wp-content/uploads/2024/09/unnamed-e1725651958615.jpg
ORGANIZER;CN="Pam Varrin":MAILTO:pvarrin@cotting.org
END:VEVENT
BEGIN:VEVENT
DTSTART;TZID=America/New_York:20250328T090000
DTEND;TZID=America/New_York:20250328T100000
DTSTAMP:20260421T202015
CREATED:20241010T213018Z
LAST-MODIFIED:20241010T213018Z
UID:10001177-1743152400-1743156000@www.cotting.org
SUMMARY:PAC Monthly Meeting
DESCRIPTION:The Parent Advisory Committee (PAC) serves as a source of thoughtful feedback on what parents are thinking about\, and as an important sounding board for Cotting School administrators. We are always looking to welcome new faces and input at our monthly hybrid PAC meetings\, held on a Friday every month (except in June) from 9-10 a.m. You can either attend in person in the Board Room at Cotting School or online via Zoom. \nZoom link: https://us02web.zoom.us/j/7918848936?pwd=UkUvTkdaSzNZaXBWVVlwSVVkMjYzUT09&omn=85005206870 \n  \n 
URL:https://www.cotting.org/event/pac-meeting-15-2-6/
LOCATION:Hybrid (In person and on Zoom)
CATEGORIES:Parents
ATTACH;FMTTYPE=image/png:https://www.cotting.org/wp-content/uploads/2024/09/PAC_logo-1-e1725373642770.png
ORGANIZER;CN="Pam Varrin":MAILTO:pvarrin@cotting.org
END:VEVENT
BEGIN:VEVENT
DTSTART;TZID=America/New_York:20250326T091500
DTEND;TZID=America/New_York:20250326T101500
DTSTAMP:20260421T202015
CREATED:20250321T144553Z
LAST-MODIFIED:20250321T144609Z
UID:10001228-1742980500-1742984100@www.cotting.org
SUMMARY:Cotting School Weekly Parent Group
DESCRIPTION:This group\, facilitated by Family Support Coordinator Pam Varrin\, meets remotely and is a regularly scheduled supportive space for Cotting parents to take a few moments for themselves\, share information\, and find connection and perspective. Join us each week\, come when you can or drop in any time to see what it’s like! \nZoom link: https://us02web.zoom.us/j/84612450285?pwd=vYnzgnUcc6Lw6vtkAbnIkLhmBas87o.1
URL:https://www.cotting.org/event/cotting-school-weekly-parent-group-2-2/
LOCATION:Via Zoom
CATEGORIES:Parents
ATTACH;FMTTYPE=image/jpeg:https://www.cotting.org/wp-content/uploads/2024/09/unnamed-e1725651958615.jpg
ORGANIZER;CN="Pam Varrin":MAILTO:pvarrin@cotting.org
END:VEVENT
BEGIN:VEVENT
DTSTART;TZID=America/New_York:20250319T180000
DTEND;TZID=America/New_York:20250319T200000
DTSTAMP:20260421T202015
CREATED:20241127T173843Z
LAST-MODIFIED:20250129T221445Z
UID:10001253-1742407200-1742414400@www.cotting.org
SUMMARY:Transition Resource Fair
DESCRIPTION:Join us in the Cotting School Campus Center for our 2025 Transition Resource Fair! The fair focuses on students’ future options as they prepare for next steps after  completing high school.  Attendees will have the opportunity to meet exhibitors from a variety of adult support service providers as well as Massachusetts state agencies. This event is FREE and open to the public. \nWhat is a Transition Resource Fair?*\nA Transition Resource Fair is an event that provides students\, families/guardians and professionals with information about community-based services for adults with disabilities. \nWhat types of services do the exhibitors represent?\n\nSupport with Independent Living Skills\nVocational/Job Training and Support\nRecreational Opportunities\nSocial and Community Programs\nHousing Options\n\nWho should attend?\nThis event is FREE and open to the public. Students ages 14-22 who receive special education services through an IEP\, their families and interested professionals are welcome and encouraged to attend. \nThe exhibitors who will be at this event serve a very specific population of adults with disabilities\, including: \n\nAutism\nADHD\nDevelopmental Disabilities\nIntellectual Disabilities\nNeurological Impairments\n\nQuestions? Email Jenn Callison or Adrienne Manson. \n*This event is intended to provide a sampling of resources. Cotting School does not endorse or recommend any product\, process or service.
URL:https://www.cotting.org/event/transition-resource-fair/
LOCATION:Cotting School Campus Center\, Concord Avenue\, Lexington\, MA\, 02421\, United States
CATEGORIES:General
ORGANIZER;CN="Jenn Callison":MAILTO:jcallison@cotting.org
GEO:42.4200019;-71.2374614
X-APPLE-STRUCTURED-LOCATION;VALUE=URI;X-ADDRESS=Cotting School Campus Center Concord Avenue Lexington MA 02421 United States;X-APPLE-RADIUS=500;X-TITLE=Concord Avenue:geo:-71.2374614,42.4200019
END:VEVENT
BEGIN:VEVENT
DTSTART;TZID=America/New_York:20250319T090000
DTEND;TZID=America/New_York:20250319T100000
DTSTAMP:20260421T202015
CREATED:20241010T211616Z
LAST-MODIFIED:20241010T211714Z
UID:10001227-1742374800-1742378400@www.cotting.org
SUMMARY:Cotting School Weekly Parent Group
DESCRIPTION:This group\, facilitated by Family Support Coordinator Pam Varrin\, meets remotely and is a regularly scheduled supportive space for Cotting parents to take a few moments for themselves\, share information\, and find connection and perspective. Join us each week\, come when you can or drop in any time to see what it’s like! \nZoom link: https://us02web.zoom.us/j/84612450285?pwd=vYnzgnUcc6Lw6vtkAbnIkLhmBas87o.1
URL:https://www.cotting.org/event/cotting-school-weekly-parent-group-2/2025-03-19/
LOCATION:Via Zoom
CATEGORIES:Parents
ATTACH;FMTTYPE=image/jpeg:https://www.cotting.org/wp-content/uploads/2024/09/unnamed-e1725651958615.jpg
ORGANIZER;CN="Pam Varrin":MAILTO:pvarrin@cotting.org
END:VEVENT
BEGIN:VEVENT
DTSTART;VALUE=DATE:20250317
DTEND;VALUE=DATE:20250318
DTSTAMP:20260421T202016
CREATED:20240820T132423Z
LAST-MODIFIED:20240820T133147Z
UID:10000596-1742169600-1742255999@www.cotting.org
SUMMARY:Professional Day Closed
DESCRIPTION:
URL:https://www.cotting.org/event/professional-day-closed-2/
CATEGORIES:General,Parents
END:VEVENT
BEGIN:VEVENT
DTSTART;TZID=America/New_York:20250314T093000
DTEND;TZID=America/New_York:20250314T110000
DTSTAMP:20260421T202016
CREATED:20240903T144522Z
LAST-MODIFIED:20240904T141031Z
UID:10001185-1741944600-1741950000@www.cotting.org
SUMMARY:Information Session
DESCRIPTION:Tour our campus\, visit our classrooms and talk to Cotting School professionals at our monthly information sessions. \nIf you plan to attend and would like to request an interpreter\, please let us know. Walk-ins are always welcome! Private tours are available by request. \nTo RSVP for an information session\, set up a private tour or get more information about admissions\, please contact  Director of Admissions Elizabeth Russell at erussell@cotting.org or 781.862.7323 x114.
URL:https://www.cotting.org/event/information-session-35/2025-03-14/
LOCATION:Cotting School Auditorium\, Concord Avenue\, Lexington\, MA\, 02421\, United States
CATEGORIES:General,Information Session
ORGANIZER;CN="Elizabeth Russell":MAILTO:erussell@cotting.org
GEO:42.4200019;-71.2374614
X-APPLE-STRUCTURED-LOCATION;VALUE=URI;X-ADDRESS=Cotting School Auditorium Concord Avenue Lexington MA 02421 United States;X-APPLE-RADIUS=500;X-TITLE=Concord Avenue:geo:-71.2374614,42.4200019
END:VEVENT
BEGIN:VEVENT
DTSTART;TZID=America/New_York:20250312T090000
DTEND;TZID=America/New_York:20250312T100000
DTSTAMP:20260421T202016
CREATED:20241010T211616Z
LAST-MODIFIED:20241010T211714Z
UID:10001226-1741770000-1741773600@www.cotting.org
SUMMARY:Cotting School Weekly Parent Group
DESCRIPTION:This group\, facilitated by Family Support Coordinator Pam Varrin\, meets remotely and is a regularly scheduled supportive space for Cotting parents to take a few moments for themselves\, share information\, and find connection and perspective. Join us each week\, come when you can or drop in any time to see what it’s like! \nZoom link: https://us02web.zoom.us/j/84612450285?pwd=vYnzgnUcc6Lw6vtkAbnIkLhmBas87o.1
URL:https://www.cotting.org/event/cotting-school-weekly-parent-group-2/2025-03-12/
LOCATION:Via Zoom
CATEGORIES:Parents
ATTACH;FMTTYPE=image/jpeg:https://www.cotting.org/wp-content/uploads/2024/09/unnamed-e1725651958615.jpg
ORGANIZER;CN="Pam Varrin":MAILTO:pvarrin@cotting.org
END:VEVENT
BEGIN:VEVENT
DTSTART;TZID=America/New_York:20250310T180000
DTEND;TZID=America/New_York:20250310T200000
DTSTAMP:20260421T202016
CREATED:20250115T200832Z
LAST-MODIFIED:20250204T194130Z
UID:10001260-1741629600-1741636800@www.cotting.org
SUMMARY:Alumni Bingo Night
DESCRIPTION:You’re Invited!\nBingo night is back by popular demand! Gather with fellow alumni at Cotting School.\nWho: Cotting School Alumni & Capstone Students\nDate: Monday\, March 10\, 2025\nTime: 6-8 p.m.\nLocation: Cotting School\, 453 Concord Ave.\, Lexington\, MA 02421\nRSVP Required\nJoin us for an evening of fun and games at Alumni Bingo Night! Doors open at 6 p.m. and guests are welcome to arrive anytime between 6-6:30 p.m. During this time\, they can pick their seats\, set up their game boards\, grab a snack and chat with friends old and new. \nThe game begins at 6:30 p.m. There will be multiple rounds of bingo\, with breaks so guests can use the facilities\, stretch their bodies and grab refreshments. Winners will receive prizes! \nThe event will end promptly at 8 p.m. \nImportant! This event is sponsored by the Cotting School Alumni & Friends Association. Cotting School direct care and medical staff will not be available or in attendance. Attendees and their guests should plan to attend this event the same way they would a public event. Friends\, family and caregivers are welcome to accompany alumni who need support.\nTo RSVP\, please email Senior Director of Advancement Rita Kincaid at rkincaid@cotting.org or call 781.862.7323 x 169.
URL:https://www.cotting.org/event/alumni-bingo-night/
LOCATION:Cotting School\, Concord Avenue\, Lexington\, MA\, 02421\, United States
CATEGORIES:Parents
ORGANIZER;CN="Rita Kincaid":MAILTO:rkincaid@cotting.org
GEO:42.4200019;-71.2374614
X-APPLE-STRUCTURED-LOCATION;VALUE=URI;X-ADDRESS=Cotting School Concord Avenue Lexington MA 02421 United States;X-APPLE-RADIUS=500;X-TITLE=Concord Avenue:geo:-71.2374614,42.4200019
END:VEVENT
BEGIN:VEVENT
DTSTART;TZID=America/New_York:20250308T090000
DTEND;TZID=America/New_York:20250308T150000
DTSTAMP:20260421T202016
CREATED:20241101T200841Z
LAST-MODIFIED:20241101T200841Z
UID:10001250-1741424400-1741446000@www.cotting.org
SUMMARY:Basketball Tournament
DESCRIPTION:
URL:https://www.cotting.org/event/basketball-tournament-4/
LOCATION:Cotting School Campus Center\, Concord Avenue\, Lexington\, MA\, 02421\, United States
CATEGORIES:Parents
GEO:42.4200019;-71.2374614
X-APPLE-STRUCTURED-LOCATION;VALUE=URI;X-ADDRESS=Cotting School Campus Center Concord Avenue Lexington MA 02421 United States;X-APPLE-RADIUS=500;X-TITLE=Concord Avenue:geo:-71.2374614,42.4200019
END:VEVENT
BEGIN:VEVENT
DTSTART;TZID=America/New_York:20250307T083000
DTEND;TZID=America/New_York:20250307T093000
DTSTAMP:20260421T202016
CREATED:20250131T202705Z
LAST-MODIFIED:20250131T202706Z
UID:10001262-1741336200-1741339800@www.cotting.org
SUMMARY:PTO Monthly Meeting
DESCRIPTION:We are always looking to welcome new faces and input at our monthly hybrid PTO Board meetings\, held the first Friday of each month from 9-10 a.m. You can either attend in person in the Board Room at Cotting School or online via Zoom. \nZoom link: https://us02web.zoom.us/j/84957633006?pwd=xinpoUItmTbfMYg5RelUEkbfF838yf.1 \n 
URL:https://www.cotting.org/event/pto-monthly-meeting-2-2-2/2025-03-07/
LOCATION:building entrance
CATEGORIES:Parents
ATTACH;FMTTYPE=image/jpeg:https://www.cotting.org/wp-content/uploads/2024/08/PTO-Logo-e1769797632927.jpeg
END:VEVENT
BEGIN:VEVENT
DTSTART;TZID=America/New_York:20250305T090000
DTEND;TZID=America/New_York:20250305T100000
DTSTAMP:20260421T202016
CREATED:20241010T211616Z
LAST-MODIFIED:20241010T211714Z
UID:10001225-1741165200-1741168800@www.cotting.org
SUMMARY:Cotting School Weekly Parent Group
DESCRIPTION:This group\, facilitated by Family Support Coordinator Pam Varrin\, meets remotely and is a regularly scheduled supportive space for Cotting parents to take a few moments for themselves\, share information\, and find connection and perspective. Join us each week\, come when you can or drop in any time to see what it’s like! \nZoom link: https://us02web.zoom.us/j/84612450285?pwd=vYnzgnUcc6Lw6vtkAbnIkLhmBas87o.1
URL:https://www.cotting.org/event/cotting-school-weekly-parent-group-2/2025-03-05/
LOCATION:Via Zoom
CATEGORIES:Parents
ATTACH;FMTTYPE=image/jpeg:https://www.cotting.org/wp-content/uploads/2024/09/unnamed-e1725651958615.jpg
ORGANIZER;CN="Pam Varrin":MAILTO:pvarrin@cotting.org
END:VEVENT
BEGIN:VEVENT
DTSTART;TZID=America/New_York:20250301T093000
DTEND;TZID=America/New_York:20250301T123000
DTSTAMP:20260421T202016
CREATED:20241101T200804Z
LAST-MODIFIED:20241101T200804Z
UID:10001249-1740821400-1740832200@www.cotting.org
SUMMARY:Basketball Game vs Alumni
DESCRIPTION:
URL:https://www.cotting.org/event/basketball-game-vs-alumni-2/
LOCATION:Cotting School Campus Center\, Concord Avenue\, Lexington\, MA\, 02421\, United States
CATEGORIES:Parents
GEO:42.4200019;-71.2374614
X-APPLE-STRUCTURED-LOCATION;VALUE=URI;X-ADDRESS=Cotting School Campus Center Concord Avenue Lexington MA 02421 United States;X-APPLE-RADIUS=500;X-TITLE=Concord Avenue:geo:-71.2374614,42.4200019
END:VEVENT
BEGIN:VEVENT
DTSTART;TZID=America/New_York:20250228T090000
DTEND;TZID=America/New_York:20250228T100000
DTSTAMP:20260421T202016
CREATED:20241010T212907Z
LAST-MODIFIED:20241010T212907Z
UID:10001176-1740733200-1740736800@www.cotting.org
SUMMARY:PAC Monthly Meeting
DESCRIPTION:The Parent Advisory Committee (PAC) serves as a source of thoughtful feedback on what parents are thinking about\, and as an important sounding board for Cotting School administrators. We are always looking to welcome new faces and input at our monthly hybrid PAC meetings\, held on a Friday every month (except in June) from 9-10 a.m. You can either attend in person in the Board Room at Cotting School or online via Zoom. \nZoom link: https://us02web.zoom.us/j/7918848936?pwd=UkUvTkdaSzNZaXBWVVlwSVVkMjYzUT09&omn=88438810299 \n  \n  \n  \n 
URL:https://www.cotting.org/event/pac-meeting-15-2-5/
LOCATION:Hybrid (In person and on Zoom)
CATEGORIES:Parents
ATTACH;FMTTYPE=image/png:https://www.cotting.org/wp-content/uploads/2024/09/PAC_logo-1-e1725373642770.png
ORGANIZER;CN="Pam Varrin":MAILTO:pvarrin@cotting.org
END:VEVENT
BEGIN:VEVENT
DTSTART;TZID=America/New_York:20250226T190000
DTEND;TZID=America/New_York:20250226T210000
DTSTAMP:20260421T202016
CREATED:20250207T184412Z
LAST-MODIFIED:20250207T184412Z
UID:10001266-1740596400-1740603600@www.cotting.org
SUMMARY:PTO Parent & Caregiver Social
DESCRIPTION:The Cotting School PTO is excited to offer parents and caregivers of current students at Cotting an opportunity to meet up and socialize!* \nWhen:Wednesday\, Feb 26\, 7-9 p.m. (this is the Wednesday after February Break) \nWhere: The Biltmore Bar and Grill\, 1205 Chestnut Street\, Newton Upper Falls\, MA 02464 (617.527.2550) \nWhat: Feel free to drop in to meet or reconnect with fellow Cotting parents. \nAttendees can purchase drinks and the PTO will provide light nibbles. Please RSVP to Aly Premo at alisonpremo@gmail.com. \n*The PTO is always looking for parents to host a parent’s night out in their area. If you are interested\, please contact Pam Varrin at pvarrin@cotting.org. \nSave the Date: The next PTO Parent & Caregiver Social is scheduled for Thursday\, April 3!
URL:https://www.cotting.org/event/pto-parent-caregiver-social/
LOCATION:The Biltmore Bar & Grill\, 1205 Chestnut Street\, Newton Upper Falls\, 02464
CATEGORIES:Parents
ATTACH;FMTTYPE=image/jpeg:https://www.cotting.org/wp-content/uploads/2025/02/COTTING-PARENT-AND-CAREGIVER-SOCIAL.jpg
ORGANIZER;CN="Aly Premo":MAILTO:alisonpremo@gmail.com
GEO:42.3091897;-71.2211671
X-APPLE-STRUCTURED-LOCATION;VALUE=URI;X-ADDRESS=The Biltmore Bar & Grill 1205 Chestnut Street Newton Upper Falls 02464;X-APPLE-RADIUS=500;X-TITLE=1205 Chestnut Street:geo:-71.2211671,42.3091897
END:VEVENT
BEGIN:VEVENT
DTSTART;VALUE=DATE:20250217
DTEND;VALUE=DATE:20250222
DTSTAMP:20260421T202016
CREATED:20240820T132423Z
LAST-MODIFIED:20240820T133149Z
UID:10000597-1739750400-1740182399@www.cotting.org
SUMMARY:Winter Recess
DESCRIPTION:
URL:https://www.cotting.org/event/winter-recess-3/
CATEGORIES:General,Parents
END:VEVENT
BEGIN:VEVENT
DTSTART;VALUE=DATE:20250217
DTEND;VALUE=DATE:20250218
DTSTAMP:20260421T202016
CREATED:20240820T132423Z
LAST-MODIFIED:20240820T133156Z
UID:10000598-1739750400-1739836799@www.cotting.org
SUMMARY:Holiday Closed: Presidents Day
DESCRIPTION:
URL:https://www.cotting.org/event/holiday-closed-presidents-day/
CATEGORIES:General,Parents
END:VEVENT
BEGIN:VEVENT
DTSTART;TZID=America/New_York:20250214T090000
DTEND;TZID=America/New_York:20250214T111500
DTSTAMP:20260421T202016
CREATED:20241101T200715Z
LAST-MODIFIED:20241101T200715Z
UID:10001248-1739523600-1739531700@www.cotting.org
SUMMARY:Basketball Game vs Staff
DESCRIPTION:
URL:https://www.cotting.org/event/basketball-game-vs-staff-2/
LOCATION:Cotting School Campus Center\, Concord Avenue\, Lexington\, MA\, 02421\, United States
CATEGORIES:Parents
GEO:42.4200019;-71.2374614
X-APPLE-STRUCTURED-LOCATION;VALUE=URI;X-ADDRESS=Cotting School Campus Center Concord Avenue Lexington MA 02421 United States;X-APPLE-RADIUS=500;X-TITLE=Concord Avenue:geo:-71.2374614,42.4200019
END:VEVENT
BEGIN:VEVENT
DTSTART;TZID=America/New_York:20250212T090000
DTEND;TZID=America/New_York:20250212T100000
DTSTAMP:20260421T202016
CREATED:20241010T211616Z
LAST-MODIFIED:20241010T211714Z
UID:10001222-1739350800-1739354400@www.cotting.org
SUMMARY:Cotting School Weekly Parent Group
DESCRIPTION:This group\, facilitated by Family Support Coordinator Pam Varrin\, meets remotely and is a regularly scheduled supportive space for Cotting parents to take a few moments for themselves\, share information\, and find connection and perspective. Join us each week\, come when you can or drop in any time to see what it’s like! \nZoom link: https://us02web.zoom.us/j/84612450285?pwd=vYnzgnUcc6Lw6vtkAbnIkLhmBas87o.1
URL:https://www.cotting.org/event/cotting-school-weekly-parent-group-2/2025-02-12/
LOCATION:Via Zoom
CATEGORIES:Parents
ATTACH;FMTTYPE=image/jpeg:https://www.cotting.org/wp-content/uploads/2024/09/unnamed-e1725651958615.jpg
ORGANIZER;CN="Pam Varrin":MAILTO:pvarrin@cotting.org
END:VEVENT
BEGIN:VEVENT
DTSTART;TZID=America/New_York:20250207T093000
DTEND;TZID=America/New_York:20250207T110000
DTSTAMP:20260421T202016
CREATED:20240903T144522Z
LAST-MODIFIED:20240904T141031Z
UID:10001189-1738920600-1738926000@www.cotting.org
SUMMARY:Information Session
DESCRIPTION:Tour our campus\, visit our classrooms and talk to Cotting School professionals at our monthly information sessions. \nIf you plan to attend and would like to request an interpreter\, please let us know. Walk-ins are always welcome! Private tours are available by request. \nTo RSVP for an information session\, set up a private tour or get more information about admissions\, please contact  Director of Admissions Elizabeth Russell at erussell@cotting.org or 781.862.7323 x114.
URL:https://www.cotting.org/event/information-session-35/2025-02-07/
LOCATION:Cotting School Auditorium\, Concord Avenue\, Lexington\, MA\, 02421\, United States
CATEGORIES:General,Information Session
ORGANIZER;CN="Elizabeth Russell":MAILTO:erussell@cotting.org
GEO:42.4200019;-71.2374614
X-APPLE-STRUCTURED-LOCATION;VALUE=URI;X-ADDRESS=Cotting School Auditorium Concord Avenue Lexington MA 02421 United States;X-APPLE-RADIUS=500;X-TITLE=Concord Avenue:geo:-71.2374614,42.4200019
END:VEVENT
BEGIN:VEVENT
DTSTART;TZID=America/New_York:20250207T083000
DTEND;TZID=America/New_York:20250207T093000
DTSTAMP:20260421T202016
CREATED:20250131T202705Z
LAST-MODIFIED:20250131T202706Z
UID:10001256-1738917000-1738920600@www.cotting.org
SUMMARY:PTO Monthly Meeting
DESCRIPTION:We are always looking to welcome new faces and input at our monthly hybrid PTO Board meetings\, held the first Friday of each month from 9-10 a.m. You can either attend in person in the Board Room at Cotting School or online via Zoom. \nZoom link: https://us02web.zoom.us/j/84957633006?pwd=xinpoUItmTbfMYg5RelUEkbfF838yf.1 \n 
URL:https://www.cotting.org/event/pto-monthly-meeting-2-2-2/2025-02-07/
LOCATION:building entrance
CATEGORIES:Parents
ATTACH;FMTTYPE=image/jpeg:https://www.cotting.org/wp-content/uploads/2024/08/PTO-Logo-e1769797632927.jpeg
END:VEVENT
BEGIN:VEVENT
DTSTART;TZID=America/New_York:20250205T090000
DTEND;TZID=America/New_York:20250205T100000
DTSTAMP:20260421T202016
CREATED:20241010T211616Z
LAST-MODIFIED:20241010T211714Z
UID:10001221-1738746000-1738749600@www.cotting.org
SUMMARY:Cotting School Weekly Parent Group
DESCRIPTION:This group\, facilitated by Family Support Coordinator Pam Varrin\, meets remotely and is a regularly scheduled supportive space for Cotting parents to take a few moments for themselves\, share information\, and find connection and perspective. Join us each week\, come when you can or drop in any time to see what it’s like! \nZoom link: https://us02web.zoom.us/j/84612450285?pwd=vYnzgnUcc6Lw6vtkAbnIkLhmBas87o.1
URL:https://www.cotting.org/event/cotting-school-weekly-parent-group-2/2025-02-05/
LOCATION:Via Zoom
CATEGORIES:Parents
ATTACH;FMTTYPE=image/jpeg:https://www.cotting.org/wp-content/uploads/2024/09/unnamed-e1725651958615.jpg
ORGANIZER;CN="Pam Varrin":MAILTO:pvarrin@cotting.org
END:VEVENT
BEGIN:VEVENT
DTSTART;VALUE=DATE:20250204
DTEND;VALUE=DATE:20250208
DTSTAMP:20260421T202016
CREATED:20241101T185858Z
LAST-MODIFIED:20241101T185858Z
UID:10001241-1738627200-1738972799@www.cotting.org
SUMMARY:Annual Ski Trip
DESCRIPTION:
URL:https://www.cotting.org/event/annual-ski-trip/
LOCATION:Mount Sunapee\, Newbury\, New Hampshire\, 03255\, United States
CATEGORIES:Parents
GEO:43.313611;-72.074167
END:VEVENT
BEGIN:VEVENT
DTSTART;TZID=America/New_York:20250131T150000
DTEND;TZID=America/New_York:20250131T173000
DTSTAMP:20260421T202016
CREATED:20250102T170731Z
LAST-MODIFIED:20250102T172112Z
UID:10001254-1738335600-1738344600@www.cotting.org
SUMMARY:Semi-Formal Snowball
DESCRIPTION:All Cotting School Upper School and Capstone students are invited to attend the Semi-Formal Snowball! \nWhen: Friday\, January 31\, 2025 from 3-5 p.m. \nWhere: Cotting School Campus Center \nPlease fill out the form below to RSVP by January 27.  \nAdditional Information: \n\nRSVPs are required. Please RSVP by January 27 so we can provide you with additional information about the pick up process\, etc.\nNo food or drink will be served during the dance. However\, there will be an opportunity for attendees to enjoy a snack from home at the end of the day.\nThe dress code is semi-formal\, which means wear something a little nicer than your everyday wear.\n\nThis form is currently closed for submissions.
URL:https://www.cotting.org/event/semi-formal-snowball/
LOCATION:Cotting School Campus Center\, Concord Avenue\, Lexington\, MA\, 02421\, United States
CATEGORIES:Parents
ATTACH;FMTTYPE=image/jpeg:https://www.cotting.org/wp-content/uploads/2025/01/Snowball-.jpg
ORGANIZER;CN="Marcie Garon":MAILTO:mgaron@cotting.org
GEO:42.4200019;-71.2374614
X-APPLE-STRUCTURED-LOCATION;VALUE=URI;X-ADDRESS=Cotting School Campus Center Concord Avenue Lexington MA 02421 United States;X-APPLE-RADIUS=500;X-TITLE=Concord Avenue:geo:-71.2374614,42.4200019
END:VEVENT
BEGIN:VEVENT
DTSTART;TZID=America/New_York:20250129T090000
DTEND;TZID=America/New_York:20250129T100000
DTSTAMP:20260421T202016
CREATED:20241010T211616Z
LAST-MODIFIED:20241010T211714Z
UID:10001220-1738141200-1738144800@www.cotting.org
SUMMARY:Cotting School Weekly Parent Group
DESCRIPTION:This group\, facilitated by Family Support Coordinator Pam Varrin\, meets remotely and is a regularly scheduled supportive space for Cotting parents to take a few moments for themselves\, share information\, and find connection and perspective. Join us each week\, come when you can or drop in any time to see what it’s like! \nZoom link: https://us02web.zoom.us/j/84612450285?pwd=vYnzgnUcc6Lw6vtkAbnIkLhmBas87o.1
URL:https://www.cotting.org/event/cotting-school-weekly-parent-group-2/2025-01-29/
LOCATION:Via Zoom
CATEGORIES:Parents
ATTACH;FMTTYPE=image/jpeg:https://www.cotting.org/wp-content/uploads/2024/09/unnamed-e1725651958615.jpg
ORGANIZER;CN="Pam Varrin":MAILTO:pvarrin@cotting.org
END:VEVENT
BEGIN:VEVENT
DTSTART;TZID=America/New_York:20250125T093000
DTEND;TZID=America/New_York:20250125T123000
DTSTAMP:20260421T202016
CREATED:20241101T200547Z
LAST-MODIFIED:20241101T200547Z
UID:10001247-1737797400-1737808200@www.cotting.org
SUMMARY:Basketball Game vs Newton
DESCRIPTION:
URL:https://www.cotting.org/event/basketball-game-vs-newton/
LOCATION:Cotting School Campus Center\, Concord Avenue\, Lexington\, MA\, 02421\, United States
CATEGORIES:Parents
GEO:42.4200019;-71.2374614
X-APPLE-STRUCTURED-LOCATION;VALUE=URI;X-ADDRESS=Cotting School Campus Center Concord Avenue Lexington MA 02421 United States;X-APPLE-RADIUS=500;X-TITLE=Concord Avenue:geo:-71.2374614,42.4200019
END:VEVENT
BEGIN:VEVENT
DTSTART;TZID=America/New_York:20250124T090000
DTEND;TZID=America/New_York:20250124T100000
DTSTAMP:20260421T202016
CREATED:20241010T212749Z
LAST-MODIFIED:20241010T212749Z
UID:10001175-1737709200-1737712800@www.cotting.org
SUMMARY:PAC Monthly Meeting
DESCRIPTION:The Parent Advisory Committee (PAC) serves as a source of thoughtful feedback on what parents are thinking about\, and as an important sounding board for Cotting School administrators. We are always looking to welcome new faces and input at our monthly hybrid PAC meetings\, held on a Friday every month (except in June) from 9-10 a.m. You can either attend in person in the Board Room at Cotting School or online via Zoom. \nZoom link: https://us02web.zoom.us/j/7918848936?pwd=UkUvTkdaSzNZaXBWVVlwSVVkMjYzUT09&omn=88498712999 \n  \n  \n  \n 
URL:https://www.cotting.org/event/pac-meeting-15-2-4/
LOCATION:Hybrid (In person and on Zoom)
CATEGORIES:Parents
ATTACH;FMTTYPE=image/png:https://www.cotting.org/wp-content/uploads/2024/09/PAC_logo-1-e1725373642770.png
ORGANIZER;CN="Pam Varrin":MAILTO:pvarrin@cotting.org
END:VEVENT
BEGIN:VEVENT
DTSTART;TZID=America/New_York:20250122T090000
DTEND;TZID=America/New_York:20250122T100000
DTSTAMP:20260421T202016
CREATED:20241010T211616Z
LAST-MODIFIED:20241010T211714Z
UID:10001219-1737536400-1737540000@www.cotting.org
SUMMARY:Cotting School Weekly Parent Group
DESCRIPTION:This group\, facilitated by Family Support Coordinator Pam Varrin\, meets remotely and is a regularly scheduled supportive space for Cotting parents to take a few moments for themselves\, share information\, and find connection and perspective. Join us each week\, come when you can or drop in any time to see what it’s like! \nZoom link: https://us02web.zoom.us/j/84612450285?pwd=vYnzgnUcc6Lw6vtkAbnIkLhmBas87o.1
URL:https://www.cotting.org/event/cotting-school-weekly-parent-group-2/2025-01-22/
LOCATION:Via Zoom
CATEGORIES:Parents
ATTACH;FMTTYPE=image/jpeg:https://www.cotting.org/wp-content/uploads/2024/09/unnamed-e1725651958615.jpg
ORGANIZER;CN="Pam Varrin":MAILTO:pvarrin@cotting.org
END:VEVENT
BEGIN:VEVENT
DTSTART;VALUE=DATE:20250121
DTEND;VALUE=DATE:20250122
DTSTAMP:20260421T202016
CREATED:20240820T132423Z
LAST-MODIFIED:20240820T133158Z
UID:10000599-1737417600-1737503999@www.cotting.org
SUMMARY:Professional Day Closed
DESCRIPTION:
URL:https://www.cotting.org/event/professional-day-closed/
CATEGORIES:General,Parents
END:VEVENT
BEGIN:VEVENT
DTSTART;VALUE=DATE:20250120
DTEND;VALUE=DATE:20250121
DTSTAMP:20260421T202016
CREATED:20250103T155625Z
LAST-MODIFIED:20250103T155731Z
UID:10001255-1737331200-1737417599@www.cotting.org
SUMMARY:Holiday Closed: MLK\, Jr. Day
DESCRIPTION:
URL:https://www.cotting.org/event/mlk-jr-day-closed/
CATEGORIES:General
END:VEVENT
END:VCALENDAR