BEGIN:VCALENDAR
VERSION:2.0
PRODID:-//Cotting School - ECPv6.15.20//NONSGML v1.0//EN
CALSCALE:GREGORIAN
METHOD:PUBLISH
X-WR-CALNAME:Cotting School
X-ORIGINAL-URL:https://www.cotting.org
X-WR-CALDESC:Events for Cotting School
REFRESH-INTERVAL;VALUE=DURATION:PT1H
X-Robots-Tag:noindex
X-PUBLISHED-TTL:PT1H
BEGIN:VTIMEZONE
TZID:America/New_York
BEGIN:DAYLIGHT
TZOFFSETFROM:-0500
TZOFFSETTO:-0400
TZNAME:EDT
DTSTART:20230312T070000
END:DAYLIGHT
BEGIN:STANDARD
TZOFFSETFROM:-0400
TZOFFSETTO:-0500
TZNAME:EST
DTSTART:20231105T060000
END:STANDARD
BEGIN:DAYLIGHT
TZOFFSETFROM:-0500
TZOFFSETTO:-0400
TZNAME:EDT
DTSTART:20240310T070000
END:DAYLIGHT
BEGIN:STANDARD
TZOFFSETFROM:-0400
TZOFFSETTO:-0500
TZNAME:EST
DTSTART:20241103T060000
END:STANDARD
BEGIN:DAYLIGHT
TZOFFSETFROM:-0500
TZOFFSETTO:-0400
TZNAME:EDT
DTSTART:20250309T070000
END:DAYLIGHT
BEGIN:STANDARD
TZOFFSETFROM:-0400
TZOFFSETTO:-0500
TZNAME:EST
DTSTART:20251102T060000
END:STANDARD
END:VTIMEZONE
BEGIN:VEVENT
DTSTART;TZID=America/New_York:20240613T080000
DTEND;TZID=America/New_York:20240613T110000
DTSTAMP:20260422T072317
CREATED:20240820T132422Z
LAST-MODIFIED:20240820T133243Z
UID:10000624-1718265600-1718276400@www.cotting.org
SUMMARY:Last Day of School
DESCRIPTION:
URL:https://www.cotting.org/event/last-day-of-school-3/
LOCATION:Magazine Image
CATEGORIES:General
END:VEVENT
BEGIN:VEVENT
DTSTART;TZID=America/New_York:20240607T083000
DTEND;TZID=America/New_York:20240607T100000
DTSTAMP:20260422T072317
CREATED:20240820T132422Z
LAST-MODIFIED:20240826T141631Z
UID:10000625-1717749000-1717754400@www.cotting.org
SUMMARY:PTO Meeting
DESCRIPTION:One more meeting! \nOur last PTO meeting of the year is scheduled for:\nFriday\, June 7\, 2024\, 8:30-10 a.m. \nIn person in the Board Room and on Zoom. A draft agenda and link for joining online will be sent by email.
URL:https://www.cotting.org/event/pto-meeting-11/
LOCATION:Massachusetts
CATEGORIES:General,Parents
END:VEVENT
BEGIN:VEVENT
DTSTART;TZID=America/New_York:20240601T093000
DTEND;TZID=America/New_York:20240601T103000
DTSTAMP:20260422T072317
CREATED:20240820T132422Z
LAST-MODIFIED:20240820T133247Z
UID:10000626-1717234200-1717237800@www.cotting.org
SUMMARY:Graduation
DESCRIPTION:
URL:https://www.cotting.org/event/graduation-3/
LOCATION:Massachusetts
CATEGORIES:General,Parents
END:VEVENT
BEGIN:VEVENT
DTSTART;TZID=America/New_York:20240531T093000
DTEND;TZID=America/New_York:20240531T110000
DTSTAMP:20260422T072317
CREATED:20240820T132421Z
LAST-MODIFIED:20240820T133540Z
UID:10000675-1717147800-1717153200@www.cotting.org
SUMMARY:Information Session
DESCRIPTION:Tour our campus\, visit our classrooms and talk to Cotting School professionals at one of our upcoming information sessions\, where we’ll talk about: \n\nCotting School - Day program for ages 3-22\nExtended-Year Academic Programs and Summer Enrichment Options\nCotting Consulting  – Providing technology solutions for students in their school environments\nAll of the new initiatives at Cotting School \n\nTime: 9:30 am – 11:00 am \nPlace: Cotting School\, 453 Concord Avenue\, Lexington\, MA \nIf you plan to attend and would like to request an interpreter\, please let us know. Walk-ins are always welcome and private tours are available by request. If you are unable to visit us in person\, you can also take a virtual tour. To RSVP for an info session\,  set up a private tour or get the password to view our virtual tour\, please contact Elizabeth Russell at erussell@cotting.org or 781-862-7323 ext. 114.
URL:https://www.cotting.org/event/information-session-34/2024-05-31/
LOCATION:Massachusetts
CATEGORIES:General,Information Session
END:VEVENT
BEGIN:VEVENT
DTSTART;VALUE=DATE:20240527
DTEND;VALUE=DATE:20240528
DTSTAMP:20260422T072317
CREATED:20240820T132422Z
LAST-MODIFIED:20240820T133248Z
UID:10000627-1716768000-1716854399@www.cotting.org
SUMMARY:Memorial Day
DESCRIPTION:School closed
URL:https://www.cotting.org/event/memorial-day/
LOCATION:Massachusetts
CATEGORIES:General
END:VEVENT
BEGIN:VEVENT
DTSTART;TZID=America/New_York:20240524T090000
DTEND;TZID=America/New_York:20240524T100000
DTSTAMP:20260422T072317
CREATED:20240820T132422Z
LAST-MODIFIED:20240826T141049Z
UID:10000628-1716541200-1716544800@www.cotting.org
SUMMARY:PAC Meeting
DESCRIPTION:Our last Parent Advisory Committee (PAC) meeting of the year is scheduled for: \nFriday\, May 24\, 2024\, 9-10 a.m. \nThe meeting will take place in person in the Board Room and on Zoom. A draft agenda and link for joining online will be sent by email.
URL:https://www.cotting.org/event/pac-meeting-14-2/
LOCATION:Massachusetts
CATEGORIES:General,Parents
END:VEVENT
BEGIN:VEVENT
DTSTART;TZID=America/New_York:20240522T180000
DTEND;TZID=America/New_York:20240522T193000
DTSTAMP:20260422T072317
CREATED:20240820T132422Z
LAST-MODIFIED:20240826T144332Z
UID:10000629-1716400800-1716406200@www.cotting.org
SUMMARY:Annual Art Show
DESCRIPTION:Please join us for a celebration of creativity and artistic expression! Student artwork\, projects and more will be on display. We will also celebrate long-term Art Teacher Rosanne Trolan as she retires this year. All are welcome! \nDate: Wednesday\, May 22\, 2024 \nTime: 6-7:30 p.m. \nPlace: Cotting School Campus Center\, 453 Concord Ave.\, Lexington\, MA 02421
URL:https://www.cotting.org/event/cotting-school-art-show-2/
LOCATION:Massachusetts
CATEGORIES:General,Parents
ATTACH;FMTTYPE=:
END:VEVENT
BEGIN:VEVENT
DTSTART;TZID=America/New_York:20240522T170000
DTEND;TZID=America/New_York:20240522T180000
DTSTAMP:20260422T072317
CREATED:20240820T132422Z
LAST-MODIFIED:20240826T144344Z
UID:10000630-1716397200-1716400800@www.cotting.org
SUMMARY:Grandparents & Grandfriends Day Reception
DESCRIPTION:Wednesday\, May 22\, 5-6 p.m.  \nGrandparents\, “grandfriends”\, relatives and family friends are welcome to attend. Light refreshments will be served\, staff will be on hand to answer questions\, and we’ll share what goes on day to day at Cotting through tours and an interactive activity. Students and parents are encouraged to attend with their guests. After the reception\, please stay for Cotting’s annual Art Show\, which begins at 6 p.m. The Cotting Corner Store will also be open from 5-7 p.m. for making purchases. \nRSVP to Mike Drew at 781.862.7323 x168 or mdrew@cotting.org
URL:https://www.cotting.org/event/grandparents-and-grandfriends-day/
LOCATION:Massachusetts
CATEGORIES:General,Parents
ATTACH;FMTTYPE=:
END:VEVENT
BEGIN:VEVENT
DTSTART;TZID=America/New_York:20240519T120000
DTEND;TZID=America/New_York:20240519T140000
DTSTAMP:20260422T072317
CREATED:20240820T132422Z
LAST-MODIFIED:20240826T143051Z
UID:10000631-1716120000-1716127200@www.cotting.org
SUMMARY:Alumni Reunion 2024
DESCRIPTION:Sunday\, May 19\, 2024 | 12:00 – 2:00 p.m.\nCotting School | Campus Center | 453 Concord Ave | Lexington\, MA\nJoin fellow alumni from all class years for a get-together on campus. Enjoy time with old friends (and new!)\, partake in fun Campus Center activities (like bowling!)\, see former teachers and have a delicious lunch. \nLunch (View Menu) | Bowling | Games | Photo Booth | Cotting Corner Store | Yearbook Archive \n▶ PRE-REGISTRATION IS NOW CLOSED◀\nHowever\, same-day registration is available. \n \n▶ Annual Alumni Dues\nAnnual dues are $10.00. Dues are used to support various activities\, events and initiatives – from campus enhancements to alumni events to supporting current students. Alumni Dues are not required to attend Reunion. Below are three ways to provide your dues: \n\nPay Online >>\nMail a Check\nBring a Check to Reunion on 5/19\n\n▶ Info & Questions\nMolly Gentilucci | Associate Director of Advancement | mgentilucci@cotting.org | 781.862.7323 x 207 \nImportant! This event is sponsored by the Cotting School’s Advancement Office. Cotting School direct care and medical staff will not be attending. Attendees and their guests should plan to attend this event the same way one would attend a public event. Friends\, family and caregivers are welcome to accompany alumni who need support.
URL:https://www.cotting.org/event/alumni-reunion-2024/
LOCATION:Massachusetts
CATEGORIES:General
END:VEVENT
BEGIN:VEVENT
DTSTART;TZID=America/New_York:20240517T190000
DTEND;TZID=America/New_York:20240517T210000
DTSTAMP:20260422T072317
CREATED:20240820T132422Z
LAST-MODIFIED:20240820T133257Z
UID:10000632-1715972400-1715979600@www.cotting.org
SUMMARY:Spring Parent Social
DESCRIPTION:May 17\, 2024\, 7-9 p.m. \nCotting School Dining Room \nParents from every school level are encouraged to come and enjoy: \n\nBeer and wine\nHearty appetizers\nMeeting up with Cotting families for a casual\, fun and lively evening of kid-free conversation and camaraderie!\n\nThis event takes place during the prom and is open to ALL Cotting parents\, regardless of their student’s age and whether or not they plan to attend the prom. \nRSVP to Mike Drew at 781.862.7323 x178 or mdrew@cotting.org.
URL:https://www.cotting.org/event/parent-guardian-social-during-prom/
LOCATION:Massachusetts
CATEGORIES:General,Parents
ATTACH;FMTTYPE=:
END:VEVENT
BEGIN:VEVENT
DTSTART;TZID=America/New_York:20240503T103000
DTEND;TZID=America/New_York:20240503T113000
DTSTAMP:20260422T072317
CREATED:20240820T132422Z
LAST-MODIFIED:20240820T133316Z
UID:10000633-1714732200-1714735800@www.cotting.org
SUMMARY:Webinar: Learning About Eligibility for Adult Services & Options
DESCRIPTION:As part of Cotting’s Family Engagement in Transition initiative\, we are excited to invite you to participate in four important family learning opportunities. Throughout the course of your child’s time at Cotting\, from Lower School through Capstone\, these concepts are important for everyone to consider!  \n At our quarterly family learning opportunities\, you will be able to:  \n\nLearn about vision planning and its importance in transition \nExplore a timeline of transition milestones\nUnderstand the importance of self-determination for our students\nHave regular opportunities to network and collaborate with other Cotting families\n\nThe fourth webinar\, “Learning About Eligibility for Adult Services & Options”\, will be hosted online via Zoom on Friday\, May 3\, 2024 by: \n\nDr. Pam Varren\, Family Support Coordinator\nKathy Tyrer\, Guidance Counselor\nLola Piscopo\, Classroom Teacher\, Capstone Program\n\nThis event is FREE and open to the public. Please use the following link to join us for this webinar on Zoom: https://us02web.zoom.us/j/6466422383?pwd=YS9QQTg0WnQ0bDlrR09OeUlsWFVJQT09 \nYouTube links to previous webinars in the series: \n\nVision Planning With Tools from Charting the LifeCourse\nExploring Important Milestones on the ARC’s Transition Timeline (TBD)\nUnderstanding & Fostering Self-Determination Skills at School & Home (TBD)
URL:https://www.cotting.org/event/webinar-understanding-fostering-self-determination-skills-at-school-home/
LOCATION:Massachusetts
CATEGORIES:General,Parents
ATTACH;FMTTYPE=:
END:VEVENT
BEGIN:VEVENT
DTSTART;TZID=America/New_York:20240503T083000
DTEND;TZID=America/New_York:20240503T100000
DTSTAMP:20260422T072317
CREATED:20240820T132422Z
LAST-MODIFIED:20240826T141641Z
UID:10000641-1714725000-1714730400@www.cotting.org
SUMMARY:PTO Meeting
DESCRIPTION:This Parent Teacher Organization meeting will take place both in person in the Board Room and on Zoom. A draft agenda and link for joining online will be sent by email.
URL:https://www.cotting.org/event/pto-meeting-10/2024-05-03/
LOCATION:Massachusetts
CATEGORIES:General,Parents
ATTACH;FMTTYPE=:
END:VEVENT
BEGIN:VEVENT
DTSTART;TZID=America/New_York:20240426T093000
DTEND;TZID=America/New_York:20240426T110000
DTSTAMP:20260422T072317
CREATED:20240820T132421Z
LAST-MODIFIED:20240820T133540Z
UID:10000674-1714123800-1714129200@www.cotting.org
SUMMARY:Information Session
DESCRIPTION:Tour our campus\, visit our classrooms and talk to Cotting School professionals at one of our upcoming information sessions\, where we’ll talk about: \n\nCotting School - Day program for ages 3-22\nExtended-Year Academic Programs and Summer Enrichment Options\nCotting Consulting  – Providing technology solutions for students in their school environments\nAll of the new initiatives at Cotting School \n\nTime: 9:30 am – 11:00 am \nPlace: Cotting School\, 453 Concord Avenue\, Lexington\, MA \nIf you plan to attend and would like to request an interpreter\, please let us know. Walk-ins are always welcome and private tours are available by request. If you are unable to visit us in person\, you can also take a virtual tour. To RSVP for an info session\,  set up a private tour or get the password to view our virtual tour\, please contact Elizabeth Russell at erussell@cotting.org or 781-862-7323 ext. 114.
URL:https://www.cotting.org/event/information-session-34/2024-04-26/
LOCATION:Massachusetts
CATEGORIES:General,Information Session
END:VEVENT
BEGIN:VEVENT
DTSTART;TZID=America/New_York:20240426T090000
DTEND;TZID=America/New_York:20240426T100000
DTSTAMP:20260422T072317
CREATED:20240820T132422Z
LAST-MODIFIED:20240826T141059Z
UID:10000645-1714122000-1714125600@www.cotting.org
SUMMARY:PAC Meeting
DESCRIPTION:This Parent Advisory Committee (PAC) meeting will take place both in person in the Board Room and on Zoom. A draft agenda and link for joining online will be sent by email.
URL:https://www.cotting.org/event/pac-meeting-14/2024-04-26/
LOCATION:Massachusetts
CATEGORIES:General,Parents
END:VEVENT
BEGIN:VEVENT
DTSTART;VALUE=DATE:20240419
DTEND;VALUE=DATE:20240420
DTSTAMP:20260422T072317
CREATED:20240820T132422Z
LAST-MODIFIED:20240820T133428Z
UID:10000638-1713484800-1713571199@www.cotting.org
SUMMARY:April Break
DESCRIPTION:School closed
URL:https://www.cotting.org/event/april-break-2/2024-04-19/
LOCATION:Massachusetts
CATEGORIES:General
END:VEVENT
BEGIN:VEVENT
DTSTART;VALUE=DATE:20240418
DTEND;VALUE=DATE:20240419
DTSTAMP:20260422T072317
CREATED:20240820T132422Z
LAST-MODIFIED:20240820T133428Z
UID:10000637-1713398400-1713484799@www.cotting.org
SUMMARY:April Break
DESCRIPTION:School closed
URL:https://www.cotting.org/event/april-break-2/2024-04-18/
LOCATION:Massachusetts
CATEGORIES:General
END:VEVENT
BEGIN:VEVENT
DTSTART;VALUE=DATE:20240417
DTEND;VALUE=DATE:20240418
DTSTAMP:20260422T072317
CREATED:20240820T132422Z
LAST-MODIFIED:20240820T133428Z
UID:10000636-1713312000-1713398399@www.cotting.org
SUMMARY:April Break
DESCRIPTION:School closed
URL:https://www.cotting.org/event/april-break-2/2024-04-17/
LOCATION:Massachusetts
CATEGORIES:General
END:VEVENT
BEGIN:VEVENT
DTSTART;VALUE=DATE:20240416
DTEND;VALUE=DATE:20240417
DTSTAMP:20260422T072317
CREATED:20240820T132422Z
LAST-MODIFIED:20240820T133428Z
UID:10000635-1713225600-1713311999@www.cotting.org
SUMMARY:April Break
DESCRIPTION:School closed
URL:https://www.cotting.org/event/april-break-2/2024-04-16/
LOCATION:Massachusetts
CATEGORIES:General
END:VEVENT
BEGIN:VEVENT
DTSTART;VALUE=DATE:20240415
DTEND;VALUE=DATE:20240416
DTSTAMP:20260422T072317
CREATED:20240820T132422Z
LAST-MODIFIED:20240820T133428Z
UID:10000634-1713139200-1713225599@www.cotting.org
SUMMARY:April Break
DESCRIPTION:School closed
URL:https://www.cotting.org/event/april-break-2/2024-04-15/
LOCATION:Massachusetts
CATEGORIES:General
END:VEVENT
BEGIN:VEVENT
DTSTART;TZID=America/New_York:20240411T180000
DTEND;TZID=America/New_York:20240411T210000
DTSTAMP:20260422T072317
CREATED:20240820T132422Z
LAST-MODIFIED:20240826T144546Z
UID:10000639-1712858400-1712869200@www.cotting.org
SUMMARY:Play It Forward 2024
DESCRIPTION:Thursday\, April 11\, 2024 | 6:00-9:00 p.m.\nCotting School | Campus Center | 453 Concord Ave | Lexington\, MA 02421 \nJoin friends\, families and community supporters for a night of fun and games to raise funds for Cotting School’s Falcon Athletics and After School Programs. Enjoy an adults-only (21+) evening featuring competitive trivia and an exciting silent auction! \nTrivia | Bowling | Climbing\nPlinko | Wine Pull | Raffles | Silent Auction\nAppetizers | Beer & Wine \n\n▶ View Program Book!\n>>  <<\n\n▶ Silent Auction Now Open!\n>> Click Here to View & Bid <<\n\n▶ Info & Questions\nMolly Gentilucci | Associate Director of Advancement | mgentilucci@cotting.org | 781.862.7323 x 207 \nAll funds raised directly support students with special needs in participating in athletic and after school programs\, such as adaptive basketball\, special olympics\, prom\, clubs\, and so much more. Cotting School is a registered 501(c)3 nonprofit organization; EIN 04-2104328. Cotting School is accredited by the Massachusetts Department of Elementary and Secondary Education and by the New England Association of Private Schools.
URL:https://www.cotting.org/event/playitforward2024/
LOCATION:Massachusetts
CATEGORIES:General
ATTACH;FMTTYPE=:
END:VEVENT
BEGIN:VEVENT
DTSTART;TZID=America/New_York:20240405T083000
DTEND;TZID=America/New_York:20240405T100000
DTSTAMP:20260422T072317
CREATED:20240820T132422Z
LAST-MODIFIED:20240826T141641Z
UID:10000640-1712305800-1712311200@www.cotting.org
SUMMARY:PTO Meeting
DESCRIPTION:This Parent Teacher Organization meeting will take place both in person in the Board Room and on Zoom. A draft agenda and link for joining online will be sent by email.
URL:https://www.cotting.org/event/pto-meeting-10/2024-04-05/
LOCATION:Massachusetts
CATEGORIES:General,Parents
ATTACH;FMTTYPE=:
END:VEVENT
BEGIN:VEVENT
DTSTART;TZID=America/New_York:20240403T183000
DTEND;TZID=America/New_York:20240403T193000
DTSTAMP:20260422T072317
CREATED:20240820T132422Z
LAST-MODIFIED:20240820T133459Z
UID:10000642-1712169000-1712172600@www.cotting.org
SUMMARY:Webinar: Exploring Housing Options Together
DESCRIPTION:As part of Cotting’s Family Engagement in Transition initiative\, we are excited to invite you to participate in five important family learning opportunities. Throughout the course of your child’s time at Cotting\, from Lower School through Capstone\, these concepts are important for everyone to consider!  \n At our quarterly family learning opportunities\, you will be able to:  \n\nLearn about vision planning and its importance in transition \nExplore a timeline of transition milestones\nHear from a Cotting parent and expert on housing options\nUnderstand the importance of self-determination for our students\nHave regular opportunities to network and collaborate with other Cotting families\n\nWe have added this additional webinar\, “Exploring Housing Options Together”\, because of the many questions about housing that have come up during our first two webinars. Cotting parent Andy Richardt will join us for an opportunity to think creatively about this area of planning. Andy joined Minute Man Arc in July 2022 as Housing Development Manager\, where he has been working on the micro unit model as a creative and flexible path to living more independently. He will talk with us about this model\, as well as about traditional housing models. \nThis webinar will be hosted online via Zoom on Wednesday\, April 3\, 2024\, from 6:30-7:30 p.m. by: \n\nDr. Pam Varren\, Family Support Coordinator\nKathy Tyrer\, Guidance Counselor\nLola Piscopo\, Classroom Teacher\, Capstone Program\n\nThis event is FREE and open to the public. Please use the following link to join us for this webinar on Zoom: https://us02web.zoom.us/j/6466422383?pwd=YS9QQTg0WnQ0bDlrR09OeUlsWFVJQT09 \nYouTube links to previous webinars in the series: \n\nVision Planning With Tools from Charting the LifeCourse\nExploring Important Milestones on the ARC’s Transition Timeline\nUnderstanding & Fostering Self-Determination Skills at School & Home
URL:https://www.cotting.org/event/webinar-understanding-fostering-self-determination-skills-at-school-home-2/
LOCATION:Massachusetts
CATEGORIES:General,Parents
END:VEVENT
BEGIN:VEVENT
DTSTART;TZID=America/New_York:20240329T103000
DTEND;TZID=America/New_York:20240329T113000
DTSTAMP:20260422T072317
CREATED:20240820T132422Z
LAST-MODIFIED:20240820T133501Z
UID:10000643-1711708200-1711711800@www.cotting.org
SUMMARY:Webinar: Understanding & Fostering Self-Determination Skills at School & Home
DESCRIPTION:As part of Cotting’s Family Engagement in Transition initiative\, we are excited to invite you to participate in four important family learning opportunities. Throughout the course of your child’s time at Cotting\, from Lower School through Capstone\, these concepts are important for everyone to consider!  \n At our quarterly family learning opportunities\, you will be able to:  \n\nLearn about vision planning and its importance in transition \nExplore a timeline of transition milestones\nUnderstand the importance of self-determination for our students\nHave regular opportunities to network and collaborate with other Cotting families\n\nThe third webinar\, “Understanding & Fostering Self-Determination Skills at School & Home”\, will be hosted online via Zoom on Friday\, March 29\, 2024 by: \n\nDr. Pam Varren\, Family Support Coordinator\nKathy Tyrer\, Guidance Counselor\nLola Piscopo\, Classroom Teacher\, Capstone Program\n\nThis event is FREE and open to the public. Please use the following link to join us for this webinar on Zoom: https://us02web.zoom.us/j/6466422383?pwd=YS9QQTg0WnQ0bDlrR09OeUlsWFVJQT09 \nYouTube links to previous webinars in the series: \n\nVision Planning With Tools from Charting the LifeCourse\nExploring Important Milestones on the ARC’s Transition Timeline (TBD)
URL:https://www.cotting.org/event/webinar-learning-about-eligibility-for-adult-services-options/
LOCATION:Massachusetts
CATEGORIES:General,Parents
ATTACH;FMTTYPE=:
END:VEVENT
BEGIN:VEVENT
DTSTART;TZID=America/New_York:20240322T093000
DTEND;TZID=America/New_York:20240322T110000
DTSTAMP:20260422T072317
CREATED:20240820T132421Z
LAST-MODIFIED:20240820T133540Z
UID:10000673-1711099800-1711105200@www.cotting.org
SUMMARY:Information Session
DESCRIPTION:Tour our campus\, visit our classrooms and talk to Cotting School professionals at one of our upcoming information sessions\, where we’ll talk about: \n\nCotting School - Day program for ages 3-22\nExtended-Year Academic Programs and Summer Enrichment Options\nCotting Consulting  – Providing technology solutions for students in their school environments\nAll of the new initiatives at Cotting School \n\nTime: 9:30 am – 11:00 am \nPlace: Cotting School\, 453 Concord Avenue\, Lexington\, MA \nIf you plan to attend and would like to request an interpreter\, please let us know. Walk-ins are always welcome and private tours are available by request. If you are unable to visit us in person\, you can also take a virtual tour. To RSVP for an info session\,  set up a private tour or get the password to view our virtual tour\, please contact Elizabeth Russell at erussell@cotting.org or 781-862-7323 ext. 114.
URL:https://www.cotting.org/event/information-session-34/2024-03-22/
LOCATION:Massachusetts
CATEGORIES:General,Information Session
END:VEVENT
BEGIN:VEVENT
DTSTART;TZID=America/New_York:20240316T083000
DTEND;TZID=America/New_York:20240316T163000
DTSTAMP:20260422T072317
CREATED:20240820T132422Z
LAST-MODIFIED:20240820T133512Z
UID:10000647-1710577800-1710606600@www.cotting.org
SUMMARY:The PRC-Saltillo Advanced Access 2-Day Course
DESCRIPTION:The PRC-Saltillo Advanced Access Course with ALP for AAC and Mounting is a two-day\, in-person\, fully hands-on workshop. This course is designed to provide participants with in-depth understanding of the settings and features that make PRC-Saltillo access methods customizable for individual clients. \nCotting School has partnered with PRC to host this workshop on our beautiful campus in Lexington\, Mass.\, and provide advanced training for local Speech Language Pathologists\, Occupational Therapists\, Assistive Technology Clinicians and educators. \nDates: Thursday\, March 15 and Friday\, March 16\, 2024 \nTime: 8:30 a.m.-4:30 p.m. both days \nLocation: Cotting School\, 453 Concord Avenue\, Lexington\, MA 02421 \nCost: $195 per person \nPlease bring your own lunch. \nClick here to register.
URL:https://www.cotting.org/event/the-prc-saltillo-advanced-access-2-day-course/2024-03-16/
LOCATION:Magazine Image
END:VEVENT
BEGIN:VEVENT
DTSTART;TZID=America/New_York:20240315T090000
DTEND;TZID=America/New_York:20240315T100000
DTSTAMP:20260422T072317
CREATED:20240820T132422Z
LAST-MODIFIED:20240826T141059Z
UID:10000644-1710493200-1710496800@www.cotting.org
SUMMARY:PAC Meeting
DESCRIPTION:This Parent Advisory Committee (PAC) meeting will take place both in person in the Board Room and on Zoom. A draft agenda and link for joining online will be sent by email.
URL:https://www.cotting.org/event/pac-meeting-14/2024-03-15/
LOCATION:Massachusetts
CATEGORIES:General,Parents
END:VEVENT
BEGIN:VEVENT
DTSTART;TZID=America/New_York:20240315T083000
DTEND;TZID=America/New_York:20240315T163000
DTSTAMP:20260422T072317
CREATED:20240820T132422Z
LAST-MODIFIED:20240820T133512Z
UID:10000646-1710491400-1710520200@www.cotting.org
SUMMARY:The PRC-Saltillo Advanced Access 2-Day Course
DESCRIPTION:The PRC-Saltillo Advanced Access Course with ALP for AAC and Mounting is a two-day\, in-person\, fully hands-on workshop. This course is designed to provide participants with in-depth understanding of the settings and features that make PRC-Saltillo access methods customizable for individual clients. \nCotting School has partnered with PRC to host this workshop on our beautiful campus in Lexington\, Mass.\, and provide advanced training for local Speech Language Pathologists\, Occupational Therapists\, Assistive Technology Clinicians and educators. \nDates: Thursday\, March 15 and Friday\, March 16\, 2024 \nTime: 8:30 a.m.-4:30 p.m. both days \nLocation: Cotting School\, 453 Concord Avenue\, Lexington\, MA 02421 \nCost: $195 per person \nPlease bring your own lunch. \nClick here to register.
URL:https://www.cotting.org/event/the-prc-saltillo-advanced-access-2-day-course/2024-03-15/
LOCATION:Magazine Image
END:VEVENT
BEGIN:VEVENT
DTSTART;VALUE=DATE:20240223
DTEND;VALUE=DATE:20240224
DTSTAMP:20260422T072317
CREATED:20240820T132421Z
LAST-MODIFIED:20240820T133515Z
UID:10000652-1708646400-1708732799@www.cotting.org
SUMMARY:February Break
DESCRIPTION:School closed
URL:https://www.cotting.org/event/february-break-2/2024-02-23/
LOCATION:Massachusetts
CATEGORIES:General
END:VEVENT
BEGIN:VEVENT
DTSTART;VALUE=DATE:20240222
DTEND;VALUE=DATE:20240223
DTSTAMP:20260422T072317
CREATED:20240820T132421Z
LAST-MODIFIED:20240820T133515Z
UID:10000651-1708560000-1708646399@www.cotting.org
SUMMARY:February Break
DESCRIPTION:School closed
URL:https://www.cotting.org/event/february-break-2/2024-02-22/
LOCATION:Massachusetts
CATEGORIES:General
END:VEVENT
BEGIN:VEVENT
DTSTART;VALUE=DATE:20240221
DTEND;VALUE=DATE:20240222
DTSTAMP:20260422T072317
CREATED:20240820T132421Z
LAST-MODIFIED:20240820T133515Z
UID:10000650-1708473600-1708559999@www.cotting.org
SUMMARY:February Break
DESCRIPTION:School closed
URL:https://www.cotting.org/event/february-break-2/2024-02-21/
LOCATION:Massachusetts
CATEGORIES:General
END:VEVENT
END:VCALENDAR