BEGIN:VCALENDAR
VERSION:2.0
PRODID:-//Cotting School - ECPv6.15.20//NONSGML v1.0//EN
CALSCALE:GREGORIAN
METHOD:PUBLISH
X-WR-CALNAME:Cotting School
X-ORIGINAL-URL:https://www.cotting.org
X-WR-CALDESC:Events for Cotting School
REFRESH-INTERVAL;VALUE=DURATION:PT1H
X-Robots-Tag:noindex
X-PUBLISHED-TTL:PT1H
BEGIN:VTIMEZONE
TZID:America/New_York
BEGIN:DAYLIGHT
TZOFFSETFROM:-0500
TZOFFSETTO:-0400
TZNAME:EDT
DTSTART:20250309T070000
END:DAYLIGHT
BEGIN:STANDARD
TZOFFSETFROM:-0400
TZOFFSETTO:-0500
TZNAME:EST
DTSTART:20251102T060000
END:STANDARD
BEGIN:DAYLIGHT
TZOFFSETFROM:-0500
TZOFFSETTO:-0400
TZNAME:EDT
DTSTART:20260308T070000
END:DAYLIGHT
BEGIN:STANDARD
TZOFFSETFROM:-0400
TZOFFSETTO:-0500
TZNAME:EST
DTSTART:20261101T060000
END:STANDARD
BEGIN:DAYLIGHT
TZOFFSETFROM:-0500
TZOFFSETTO:-0400
TZNAME:EDT
DTSTART:20270314T070000
END:DAYLIGHT
BEGIN:STANDARD
TZOFFSETFROM:-0400
TZOFFSETTO:-0500
TZNAME:EST
DTSTART:20271107T060000
END:STANDARD
END:VTIMEZONE
BEGIN:VEVENT
DTSTART;TZID=America/New_York:20260521T090000
DTEND;TZID=America/New_York:20260521T100000
DTSTAMP:20260422T113620
CREATED:20260416T165041Z
LAST-MODIFIED:20260416T165042Z
UID:10001487-1779354000-1779357600@www.cotting.org
SUMMARY:PAC Meeting (Online via Zoom)
DESCRIPTION:Parent Advisory Council (PAC) meetings are held monthly online via Zoom\, rotating between lunchtime and evening sessions to accommodate different schedules. The PAC provides a space for parents and caregivers to share their voices\, collaborate and engage in important discussions that impact our school community. \nBetty Baker\, Robert Eagle-Mitropoulos and Naomi Zuckerman facilitate the meetings. If there is a topic you’d like to discuss\, please reach out to Betty\, Robert or Naomi\, or bring it to the meeting! \nPlease note: We will send the Zoom link out to parents and caregivers of current Cotting students the day before this event.
URL:https://www.cotting.org/event/pac-meeting-online-via-zoom-2-2-2/
LOCATION:Via Zoom
CATEGORIES:General,Parents
ORGANIZER;CN="Betty Baker":MAILTO:ebaker@cotting.org
END:VEVENT
END:VCALENDAR